Workbook
Name _MM1: 外注付託依頼書!$R$42
Name _MM10: 外注付託依頼書!$R$51
Name _MM11: 外注付託依頼書!$R$52
Name _MM12: 外注付託依頼書!$R$53
Name _MM13: 外注付託依頼書!$R$54
Name _MM14: 外注付託依頼書!$R$55
Name _MM15: 外注付託依頼書!$R$56
Name _MM16: 外注付託依頼書!$R$57
Name _MM2: 外注付託依頼書!$R$43
Name _MM3: 外注付託依頼書!$R$44
Name _MM4: 外注付託依頼書!$R$45
Name _MM5: 外注付託依頼書!$R$46
Name _MM6: 外注付託依頼書!$R$47
Name _MM7: 外注付託依頼書!$R$48
Name _MM8: 外注付託依頼書!$R$49
Name _MM9: 外注付託依頼書!$R$50
Name ContractorCode: #REF!
Name ContractorCode: 外注付託依頼書!$G$28
Name ContractorName: #REF!
Name ContractorName: 外注付託依頼書!$G$29
Name ContractStyle: #REF!
Name ContractStyle: 外注付託依頼書!$G$25
Name DailyForeignRate: #REF!
Name DailyForeignRate: 外注付託依頼書!$AB$37
Name DailyUnitPriceForeign: #REF!
Name DailyUnitPriceForeign: 外注付託依頼書!$AB$36
Name DailyUnitPriceYen: #REF!
Name DailyUnitPriceYen: 外注付託依頼書!$AB$35
Name DAY_CALC_MM_TOTAL: #REF!
Name DAY_CALC_MM_TOTAL: 外注付託依頼書!$Q$59
Name DAY_CALC_OS_TOTAL: #REF!
Name DAY_CALC_OS_TOTAL: 外注付託依頼書!$V$59
Name ＤＢ状況: 期間変更依頼!$BB$127
Name DB状況: 外注付託依頼書!$AQ$112
Name DispatchPersonName: #REF!
Name DispatchPersonName: 外注付託依頼書!$G$30
Name ETC1ForeignRate: #REF!
Name ETC1ForeignRate: 外注付託依頼書!$AB$62
Name ETC1UnitPriceForeign: #REF!
Name ETC1UnitPriceForeign: 外注付託依頼書!$AB$61
Name ETC1UnitPriceYen: #REF!
Name ETC1UnitPriceYen: 外注付託依頼書!$AB$60
Name ETC2ForeignRate: #REF!
Name ETC2ForeignRate: 外注付託依頼書!$AB$67
Name ETC2UnitPriceForeign: #REF!
Name ETC2UnitPriceForeign: 外注付託依頼書!$AB$66
Name ETC2UnitPriceYen: #REF!
Name ETC2UnitPriceYen: 外注付託依頼書!$AB$65
Name ETC3ForeignRate: #REF!
Name ETC3ForeignRate: 外注付託依頼書!$AB$72
Name ETC3UnitPriceForeign: #REF!
Name ETC3UnitPriceForeign: 外注付託依頼書!$AB$71
Name ETC3UnitPriceYen: #REF!
Name ETC3UnitPriceYen: 外注付託依頼書!$AB$70
Name FRNTotal1: 外注付託依頼書!$AH$28
Name FRNTotal2: 外注付託依頼書!$AH$36
Name FRNTotal3: 外注付託依頼書!$AH$44
Name FRNTotal4: 外注付託依頼書!$AH$61
Name FRNTotal5: 外注付託依頼書!$AH$66
Name FRNTotal6: 外注付託依頼書!$AH$71

Sheet 算出表
J2: 資料3-1
C3: 添付資料３：基準報酬額算出表 | F3: （単位：千円） | I3: 箇所を入力
C5: ●借上要員名 | E5: =[0]!DispatchPersonName -> 田中 健治
C6: ●所属 | E6: =[0]!ContractorName & 外注付託依頼書!S29 -> 有限責任事業組合インフラ・アセット・エンジニアリング
C7: ●業務経験年数 | G7: 年 | H7: NK | I7: =+算出表用テーブル!L16 -> 0 | J7: 相当
C9: a．社内賃率人件費 | I9: =+算出表用テーブル!I16 -> 0 | J9: 千円/月
C11: b．諸経費 | D11: 区分
D12: a | E12: 個人事業者（個人会社・非常勤嘱託）
D13: b | E13: 専業ｺﾝｻﾙﾀﾝﾄ（従業員数10名以下）
D14: c | E14: 専業ｺﾝｻﾙﾀﾝﾄ（従業員数11-50名）
D15: d | E15: 専業ｺﾝｻﾙﾀﾝﾄ（従業員数51名以上）
D16: e | E16: ｺﾝｻﾙﾀﾝﾄ以外の業種（従業員数10名以下）
D17: f | E17: ｺﾝｻﾙﾀﾝﾄ以外の業種（従業員数11-50名）
D18: g | E18: ｺﾝｻﾙﾀﾝﾄ以外の業種（従業員数50名以上）
D19: h1 | E19: ゼネコン
D20: h2 | E20: ゼネコン
D21: h3 | E21: ゼネコン
F23: 区分入力
D24: 諸経費率 | G24: =+算出表用テーブル!J28*100 -> 0 | H24: ％ | I24: =INT(+I9*G24/100) -> 0
C26: c.技術能力・作業条件
C28: １．技術能力
D29: １－１ | E29: 区分
D30: 公的資格 | E30: a | F30: 博士・技術士・PMP・一級建築士・高度情報処理技術者・弁護士・公認会計士・税理士
D31: （証明書添付のこと。添付のない場合はｃ評価。） | E31: b | F31: 業務上有効なその他の資格
E32: c | F32: 有効な資格なし
E33: 区分入力 | I33: =算出表用テーブル!J40 -> 0
D35: １－２ | E35: 英語区分
D36: 語学能力 | E36: a | F36: 840以上
D37: (TOEIC換算） | E37: b | F37: 730-839
D38: （ｽｺｱｼｰﾄ添付のこと。添付のない場合はｃ評価。） | E38: c | F38: 600-729
E39: d | F39: 599以下
E40: その他語学区分
E41: e | F41: 業務上有効なその他の資語学
E43: 区分入力 | F43: 英語 | H43: =+算出表用テーブル!J50 -> 0
F44: その他 | H44: =IF(G44=0,0,IF(G44=E41,30,0)) -> 0 | I44: =+H43+H44 -> 0
J50: 資料3-2
D51: １－３ | E51: 区分
D52: 実績 | E52: aa | F52: 特に優秀
E53: a | F53: 優秀
D54: （ISO直近の事後評価に準拠。評価を行なっていない場合はE評価。） | E54: b | F54: 良い
...

Sheet 算定書
C2: 箇所を入力 | G2: 平成 | H2: 年 | I2: 月 | J2: 日
G3: Ref. No.
B4: 承認
B5: 事業本部長 | C5: 事業部長 | G5: 部長 | H5: 課長 | I5: 課長
B8: 海外業務部長 | D8: 殿 | G8: =[0]!依頼所属名 -> 道路・橋梁部 | J8: 部・室長
B11: 借上外部要員基準月額算定書
B13: A.ﾌﾟﾛｼﾞｪｸﾄ名 | D13: =[0]!WorkSubjectNameJ -> ベトナム国ハノイ環状3号線整備事業（マイジックｰ南タンロン区間）
B15: B.作業科目 | D15: =[0]!WorkSubjectCode -> JA15R1003 | H15: FUND | I15: 外国政府(LOAN)等 | L15: JICA等
L16: 外国政府（LOAN)等
B18: C.借上要員名 | D18: =+算出表!E5 -> 田中 健治 | H18: 外注形態 | L18: 国内法人
L19: 国内個人
L20: 国外法人
B21: D.所属会社等 | D21: =+算出表!E6 -> 有限責任事業組合インフラ・アセット・エンジニアリング | L21: 国外個人
B23: E.調整前金額/月 | G23: 千円
B25: F.調整額及び率 | E25: =+算出表!I94 -> 0 | G25: 千円 | H25: =IF($E$23=0,0,+E25/$E$23*100) -> 0 | I25: =+F25/F23*100 -> #DIV/0! | J25: ％
B27: （うち、日当調整） | D27: （ | E27: =+算出表!I93 -> 0 | G27: 千円） （ | H27: =IF($E$23=0,0,+E27/$E$23*100) -> 0 | I27: =+F27/F25*100 -> #DIV/0! | J27: ％）
B29: 実質調整額及び率 | E29: =+E25-E27 -> 0 | G29: 千円 | H29: =IF($E$23=0,0,+E29/$E$23*100) -> 0 | I29: =+F29/F27*100 -> #DIV/0! | J29: ％
H31: 通貨 | I31: 月額
B32: G.基準報酬額/月 | E32: =+E23+E27+E29 -> 0 | G32: 千円
B34: H.受注報酬額/月 | G34: 千円
B36: I.発注率 | E36: =IF(E34=0,0,+E32/E34)*100 -> 0 | G36: ％
B38: [参考情報]
B40: J.日当/月 | G40: 千円
B42: K.受注日当額/月 | G42: 千円 | H42: 外貨で受注の場合は、前月末ﾚｰﾄ換算で記載
B45: L.報酬・日当合計額 | E45: =+E32+E40 -> 0 | H45: 参考発注率 | I45: =IF(E45=0,0,IF((E34+E42)=0,0,+E45/(E34+E42))) -> 0
B47: M 同一案件へ同一先からの借上げ情報 | F47: 名 | I47: 千円
E48: 30,000千円以上は値引き交渉を実施のこと。
F51: - | G51: 次葉に続く | H51: -
B63: 以下依頼部で必要事項を全て記入して下さい。
B66: N..日当区分 | C66: □ | D66: 社員に準じる。（US$52/Day)
B67: （注：該当する番号に | C67: □ | D67: JICA等よりの受注日当を全額支払う。
B68: ○を付す） | C68: □ | D68: その他 ( | K68: ）
D70: 支給方法 | F70: 通貨 | G70: □ | H70: 円貨 | I70: □ | J70: 現地貨
F72: 支払先 | G72: □ | H72: 会社振込 | I72: □ | J72: 本人振込
G73: □ | H73: 本人現地払
B75: O.宿泊区分 | C75: □ | D75: 社員に準じる。（US$57/Day)
B76: （注：該当する番号に | C76: □ | D76: JICA等よりの受注日当を全額支払う。
B77: ○を付す） | C77: □ | D77: その他 (
D79: 支給方法 | F79: 通貨 | G79: □ | H79: 円貨 | I79: □ | J79: 現地貨
F81: 支払先 | G81: □ | H81: 会社振込 | I81: □ | J81: 本人振込
...

Sheet TOR
C5: =IF([0]!ContractorName<>"",[0]!ContractorName,"") -> 有限責任事業組合インフラ・アセット・エンジニアリング | G5: 殿
J8: =IF(外注付託依頼書!AQ49<>"",外注付託依頼書!AQ49,"日本工営株式会社") -> 日本工営株式会社
J9: =IF(外注付託依頼書!AQ50<>"",外注付託依頼書!AQ50,"コンサルタント海外事業本部") -> コンサルタント海外事業本部
J10: =IF(外注付託依頼書!AQ51<>"",外注付託依頼書!AQ51,"事業本部長") -> 事業本部長 | K10: =IF(外注付託依頼書!AQ52<>"",外注付託依頼書!AQ52,"")
C13: 業務内容通知書
C15: =IF([0]!DispatchPersonName<>"",[0]!DispatchPersonName,"") -> 田中 健治 | E15: 様にご依頼致します業務内容は、下記の通りです。宜しくご協力の程お願い申し上げます。
C18: 記
C20: 1. 担当業務 ： | E20: =IF([0]!担当業務<>"",[0]!担当業務,"") -> Cost Estimator
C22: 2. 業務内容 ：
L40: 以 上
D43: ＊ 外人雇用の場合は、上記書類はは本人には手交せず契約書に記載する。したがって、上記ﾌｫｰﾑに拘らず英文にて記載すること。

Sheet 外注付託依頼書
A3: Cb | E3: 黄色箇所を技術者が入力 | AE3: 依頼No | AG3: JA1600301
A4: Ca | AE4: ※変更の場合は、依頼Ｎｏ．を記入
A5: Bb | P5: 外注付託作成依頼書
A6: Ba | AE6: 作成日 | AG6: 42422
A7: Ab | W7: （要員借上用） | AE7: 受付日
A8: Aa | C8: 0 | AE8: 決裁日
C9: 0 | BF9: 郵便番号
BF10: 住所
AE11: 依頼担当者Code | AG11: a5414 | BF11: 仕入先担当部名
AE12: 依頼担当者名 | AG12: 前田 哲哉 | BF12: 仕入先担当者名
AE13: 依頼部Code | AG13: JN0100
C14: 業務部長殿 | AE14: 依頼部名 | AG14: 道路・橋梁部
D19: このたび当部において、下記の作業を外注致したく、外注付託書の代理作成を宜しくお願い致します。 | AP19: 月毎総日数 | AT19: 稼働日数ベース
C20: １．外注付託内訳 | AE20: 受注B/R | AG20: 1750 | AI20: 千円 | AP20: 月 | AQ20: 日 | AR20: 日 | AT20: 月 | AU20: 日 | AV20: 日 | AX20: ＭＭ計算方法 | BA20: ＭＭ計算方法 | BB20: 予算措置 | BG20: 通貨 | BH20: 単位１ | BI20: 単位２ | BJ20: 外人契約交渉状況 | BK20: 日当区分 | BL20: 日当支給方法 | BM20: 日当支払先 | BN20: 宿泊費区分 | BO20: 宿泊費支給方法 | BP20: 宿泊費支払先 | BQ20: 航空券支給方法 | BR20: クラス | BS20: その他経費支給方法 | BT20: 海外旅行傷害保険 | BU20: 居住区分 | BV20: 従業員区分 | BW20: 源泉税徴収 | BX20: 個人所得税説明レター送付 | BY20: その他単位 | BZ20: 改め計 | CA20: 消費税 | CB20: 基準月額算定書 | CC20: 支給区分 | CE20: 支払条件
C21: 作業件名 | G21: （和文） | L21: ベトナム国ハノイ環状3号線整備事業（マイジックｰ南タンロン区間） | AE21: 発注B/R | AG21: 900 | AI21: 千円 | AP21: 1 | AQ21: 31 | AR21: 31 | AT21: 1 | AU21: 1.03 | AX21: 稼働日ベース | BA21: 国内 | BB21: 契約稼働 | BG21: \ | BH21: 月 | BI21: M/M | BJ21: 以下の条件で合意済 | BK21: 以下の通り支給 | BL21: 円貨 | BM21: 会社振込 | BN21: 以下の通り支給 | BO21: 円貨 | BP21: 会社振込 | BQ21: ＮＫ本社にて支給 | BR21: ディスカウントエコノミー | BS21: 下記の経費は実費精算 | BT21: ＮＫ付保 | BU21: 居住 | BV21: アソシエイツ | BW21: 対象 | BX21: 対象 | BY21: 式 | BZ21: 対象 | CA21: 対象 | CB21: 必要 | CC21: 月額報酬 | CE21: 月末締め翌月20日全額現金払
G22: （英文） | AE22: 発注率 | AG22: =発注BR/受注BR*100 -> 51.428571 | AI22: ％ | AP22: 2 | AQ22: 28 | AR22: 28 | AT22: 2 | AU22: 0.93 | AX22: 月ベース | BA22: 国外 | BB22: 非契約稼働（持出：理由を記入） | BG22: $ | BH22: 日 | BI22: M/D | BJ22: 以下の条件を上限として交渉を依頼 | BK22: JICA規定額を以下の通り支給 | BL22: 外貨 | BM22: 本人へ支払 | BN22: JICA規定額を支給 | BO22: 外貨 | BP22: 本人へ支払 | BQ22: ＰＴＡ | BR22: ノーマルエコノミー | BS22: 下記の金額を上限に実費精算 | BT22: ＮＫ負担で相手先付保 | BU22: 非居住 | BV22: 契約社員B | BW22: 対象外 | BX22: 対象外 | BY22: 本 | BZ22: 対象外 | CA22: 対象外 | CB22: 不要（右をチェック） | CC22: 日当 | CE22: 月末締め翌月20日全額現金払、ただし200万円以上の出来高払いは、１／３を120日サイトの約束手形払いとする
G23: 原契約契約日 | Q23: 作業科目 | U23: JA15R1003 | Y23: 発注条件 | AK23: 90000205 | AP23: 3 | AQ23: 31 | AR23: 31 | AT23: 3 | AU23: 1.03 | BB23: その他（他流用等理由を記入） | BG23: ￡ | BH23: 時間 | BI23: M/H | BK23: 社員に準じて以下の通り支給 | BM23: 本人へ現地払 | BN23: 社員に準じて支給 | BP23: 本人へ現地払 | BQ23: 相手先購入（実費精算：指定ルートが有る場合は下記ルート欄に記入） | BR23: ディスカウントビジネス | BS23: 下記の通り支給 | BT23: 相手先負担、相手先付保 | BU23: 居住扱 | BV23: 嘱託 | BY23: 枚 | CC23: 宿泊 | CE23: 月末締め翌月23日全額現金払
G24: 受注先および資金源 | L24: PMU Thang Long (資金源：JICA円借款） | AK24: 90000211 | AP24: 4 | AQ24: 30 | AR24: 30 | AT24: 4 | AU24: 1 | BH24: 式 | BI24: 式 | BK24: 支給しない | BN24: 支給しないが宿舎提供 | BQ24: 支給しない | BR24: ノーマルビジネス | BY24: 冊 | CE24: 月末締め翌月27日全額現金払
C25: 契約形態 | G25: 国内個人 | L25: 予算措置 | N25: 契約稼働 | Y25: 90000205 | Z25: 発注報酬額 | AB25: 備考： | AK25: 90000212 | AP25: 5 | AQ25: 31 | AR25: 31 | AT25: 5 | AU25: 1.03 | BH25: 回 | BI25: 回 | BK25: J'sNAVIにて精算 | BN25: 支給しない | BQ25: その他（その他に記入） | BY25: 回 | CE25: 月末締め翌月27日に支払金額の3割を120日サイトの約束手形払いとする
L26: 理由記入（ | AK26: 90000213 | AP26: 6 | AQ26: 30 | AR26: 30 | AT26: 6 | AU26: 1 | BN26: J'sNAVIにて精算 | CE26: 月末締め翌月27日に支払金額の4割を120日サイトの約束手形払いとする
C27: 作業内容 | G27: B.設計 | X27: ） | AA27: 通貨 | AB27: 単価 | AD27: 数量 | AE27: 単位 | AK27: 90000214 | AP27: 7 | AQ27: 31 | AR27: 31 | AT27: 7 | AU27: 1.03 | BG27: 契約形態 | CE27: 月末締め翌月27日に支払金額の5割を120日サイトの約束手形払いとする
C28: 選定外注業者ｺｰﾄﾞ | Z28: 単価（入力） | AA28: JPY | AB28: 900000 | AC28: X | AD28: 4 | AE28: M/M | AF28: = | AG28: =通貨区分1 -> JPY | AH28: =単価1*工数1 -> 3600000 | AK28: 90000219 | AP28: 8 | AQ28: 31 | AR28: 31 | AT28: 8 | AU28: 1.03 | BG28: 国内法人 | CE28: 月末締め翌月27日に支払金額の6割を120日サイトの約束手形払いとする
C29: 選定業者名 | G29: 有限責任事業組合インフラ・アセット・エンジニアリング | AK29: 90000265 | AP29: 9 | AQ29: 30 | AR29: 30 | AT29: 9 | AU29: 1 | BG29: 国内個人 | CE29: 月末締め翌月27日に支払金額の7割を120日サイトの約束手形払いとする
C30: 業務担当予定者氏名 | G30: 田中 健治 | AK30: 90000271 | AP30: 10 | AQ30: 31 | AR30: 31 | AT30: 10 | AU30: 1.03 | BG30: 国外法人 | CE30: 月末締め翌月27日全額現金払、ただし300万円以上の出来高払いは、１／３を60日サイトの約束手形払いとする
C31: 国籍 | M31: 連絡先氏名 | Y31: 90000214 | Z31: 日当 | AA31: 1.区分 | AC31: 社員に準じて以下の通り支給 | AK31: 90000272 | AP31: 11 | AQ31: 30 | AR31: 30 | AT31: 11 | AU31: 1 | BG31: 国外個人 | CE31: 月末締め翌月27日に支払金額の7割を90日サイトの約束手形払とする
C32: 電話番号 | M32: E-MAIL | AA32: 2.支給方法 | AC32: 外貨 | AK32: 90000274 | AP32: 12 | AQ32: 31 | AR32: 31 | AT32: 12 | AU32: 1.03 | CE32: 月末締め翌月27日に全額を90日サイトの約束手形払とする
C33: ファックス | AA33: 3.支払先 | AC33: 会社振込 | AK33: 90000275 | CE33: 月末締め翌月27日に全額を120日サイトの約束手形払いとする
C34: 担当業務 | G34: Cost Estimator | AA34: 4.備考 | AC34: 現地仮払可とする | AK34: 90000276 | AP34: 作業内容 | AQ34: 作業区分 | AS34: FUND | CE34: 月末締め翌月月末全額現金払
AA35: 通貨 | AB35: 単価 | AD35: 数量 | AE35: 単位 | AK35: 90000277 | AP35: A.調査 | AQ35: 法人 | AS35: JICA等 | CE35: 月末締め翌月月末全額現金払、ただし300万円以上の出来高払いは、１／３を60日サイトの約束手形払いとする
Z36: 単価（入力） | AA36: USD | AB36: 52 | AC36: X | AD36: 120 | AE36: M/D | AF36: = | AG36: =通貨区分2 -> USD | AH36: =DailyUnitPriceForeign*工数2 -> 6240 | AK36: 90000278 | AP36: B.設計 | AQ36: 個人 | AS36: 外国政府（LOAN)等 | CE36: 月末締め翌月月末全額現金払、ただし200万円以上の出来高払いは、１／３を120日サイトの約束手形払いとする
C37: ２.契約期間明細 | AP37: C.設計・管理 | CE37: 交際費・会議費払
AP38: D.監督 | CE38: 20日締め翌月27日全額現金払
C39: 日数計算 | F39: ( | G39: 外国政府（LOAN)等 | L39: ) | Y39: 90000214 | Z39: 宿泊費 | AA39: 1. 区分 | AC39: 社員に準じて支給 | AP39: E.その他 | CE39: 20日締め翌月27日に支払金額の3割を120日サイトの約束手形払いとする
AA40: 2.支給方法 | AC40: 外貨 | CE40: 20日締め翌月27日に支払金額の4割を120日サイトの約束手形払いとする
C41: 作業場所 | F41: 作業期間 | R41: M/M | U41: 稼働日 | W41: 海外日 | AA41: 3.支払先 | AC41: 会社振込 | CE41: 20日締め翌月27日に支払金額の5割を120日サイトの約束手形払いとする
D42: 国外 | F42: 42324 | K42: - | L42: 42352 | Q42: ( | R42: =IF($G$39="JICA等",IF(U42=DATEDIF(DATE(YEAR(L42),MONTH(L42),1),DATE(YEAR(L42),MONTH(L42)+1,1),"D"),ROUND(U42/30,2),ROUND(U42/30,2)),IF(U42=DATEDIF(DATE(YEAR(L42),MONTH(L42),1),DATE(YEAR(L42),MONTH(L42)+1,1),"D"),ROUND(30/30,2),IF(MONTH(L42)=2,ROUND(1-((DATEDIF(DATE(YEAR(L42),MONTH(L42),1),DATE(YEAR(L42),MONTH(L42)+1,1),"D")-U42)/30),2),ROUND(U42/30,2)))) -> 0.97 | S42: ) | U42: =IF(AND(F42<>"",L42<>""),1+DATEDIF(F42,L42,"D"),0) -> 29 | W42: =IF(AND(D42<>"",D42<>"国内"),U42,"") -> 29 | AA42: 4.備考 | AC42: 現地仮払可とする | CE42: 20日締め翌月27日に支払金額の6割を120日サイトの約束手形払いとする
D43: 国外 | F43: 42358 | K43: - | L43: 42396 | Q43: ( | R43: =IF($G$39="JICA等",IF(U43=DATEDIF(DATE(YEAR(L43),MONTH(L43),1),DATE(YEAR(L43),MONTH(L43)+1,1),"D"),ROUND(U43/30,2),ROUND(U43/30,2)),IF(U43=DATEDIF(DATE(YEAR(L43),MONTH(L43),1),DATE(YEAR(L43),MONTH(L43)+1,1),"D"),ROUND(30/30,2),IF(MONTH(L43)=2,ROUND(1-((DATEDIF(DATE(YEAR(L43),MONTH(L43),1),DATE(YEAR(L43),MONTH(L43)+1,1),"D")-U43)/30),2),ROUND(U43/30,2)))) -> 1.3 | S43: ) | U43: =IF(AND(F43<>"",L43<>""),1+DATEDIF(F43,L43,"D"),0) -> 39 | W43: =IF(AND(D43<>"",D43<>"国内"),U43,"") -> 39 | AA43: 通貨 | AB43: 単価 | AD43: 数量 | AE43: 単位 | CE43: 20日締め翌月27日に支払金額の7割を120日サイトの約束手形払いとする
D44: 国外 | F44: 42428 | K44: - | L44: 42449 | Q44: ( | R44: =IF($G$39="JICA等",IF(U44=DATEDIF(DATE(YEAR(L44),MONTH(L44),1),DATE(YEAR(L44),MONTH(L44)+1,1),"D"),ROUND(U44/30,2),ROUND(U44/30,2)),IF(U44=DATEDIF(DATE(YEAR(L44),MONTH(L44),1),DATE(YEAR(L44),MONTH(L44)+1,1),"D"),ROUND(30/30,2),IF(MONTH(L44)=2,ROUND(1-((DATEDIF(DATE(YEAR(L44),MONTH(L44),1),DATE(YEAR(L44),MONTH(L44)+1,1),"D")-U44)/30),2),ROUND(U44/30,2)))) -> 0.73 | S44: ) | U44: =IF(AND(F44<>"",L44<>""),1+DATEDIF(F44,L44,"D"),0) -> 22 | W44: =IF(AND(D44<>"",D44<>"国内"),U44,"") -> 22 | Z44: 単価（入力） | AA44: USD | AB44: 6588 | AC44: X | AD44: 1 | AE44: 式 | AF44: = | AG44: =通貨区分3 -> USD | AH44: =StayUnitPriceForeign*工数3 -> 6588 | CE44: 20日締め翌月27日に支払金額の7割を90日サイトの約束手形払とする
D45: 国外 | F45: 42522 | K45: - | L45: 42551 | Q45: ( | R45: =IF($G$39="JICA等",IF(U45=DATEDIF(DATE(YEAR(L45),MONTH(L45),1),DATE(YEAR(L45),MONTH(L45)+1,1),"D"),ROUND(U45/30,2),ROUND(U45/30,2)),IF(U45=DATEDIF(DATE(YEAR(L45),MONTH(L45),1),DATE(YEAR(L45),MONTH(L45)+1,1),"D"),ROUND(30/30,2),IF(MONTH(L45)=2,ROUND(1-((DATEDIF(DATE(YEAR(L45),MONTH(L45),1),DATE(YEAR(L45),MONTH(L45)+1,1),"D")-U45)/30),2),ROUND(U45/30,2)))) -> 1 | S45: ) | U45: =IF(AND(F45<>"",L45<>""),1+DATEDIF(F45,L45,"D"),0) -> 30 | W45: =IF(AND(D45<>"",D45<>"国内"),U45,"") -> 30 | AA45: USD57*30日+USD51*30日+USD48*8日+USD57*22日+USD57*30日 | CE45: 20日締め翌月27日に全額を90日サイトの約束手形払とする
K46: - | Q46: ( | R46: =IF($G$39="JICA等",IF(U46=DATEDIF(DATE(YEAR(L46),MONTH(L46),1),DATE(YEAR(L46),MONTH(L46)+1,1),"D"),ROUND(U46/30,2),ROUND(U46/30,2)),IF(U46=DATEDIF(DATE(YEAR(L46),MONTH(L46),1),DATE(YEAR(L46),MONTH(L46)+1,1),"D"),ROUND(30/30,2),IF(MONTH(L46)=2,ROUND(1-((DATEDIF(DATE(YEAR(L46),MONTH(L46),1),DATE(YEAR(L46),MONTH(L46)+1,1),"D")-U46)/30),2),ROUND(U46/30,2)))) -> 0 | S46: ) | U46: =IF(AND(F46<>"",L46<>""),1+DATEDIF(F46,L46,"D"),0) -> 0 | W46: =IF(AND(D46<>"",D46<>"国内"),U46,"") | CE46: 20日締め翌月27日に全額を120日サイトの約束手形払いとする
...

Sheet _注文書
I1: 注 文 書
AF4: =IF(外注付託依頼書!$I$98<>"",外注付託依頼書!$I$98,"")
A5: （乙） | AF5: =IF(外注付託依頼書!$AG$3<>"","注文No:"&外注付託依頼書!$AG$3,"") -> 注文No:JA1600301
A6: =IF(外注付託依頼書!$BG$9<>"",外注付託依頼書!$BG$9,"")
B7: =IF(外注付託依頼書!$BG$10<>"",外注付託依頼書!$BG$10,"") | AE7: （甲）
A8: =IF(ContractorName<>"",ContractorName,"") -> 有限責任事業組合インフラ・アセット・エンジニアリング | AE8: =外注付託依頼書!AQ53 -> 0
R9: 御中 | AE9: =外注付託依頼書!AQ54 -> 0
C10: =IF(外注付託依頼書!G28<>"","（"&外注付託依頼書!G28&")","") | AE10: =外注付託依頼書!AQ49 -> 0
AE11: =外注付託依頼書!AQ50 -> 0
AE12: =外注付託依頼書!AQ51 & " " & 外注付託依頼書!AQ52
B14: このたび、下記の通り貴社（貴殿）に委託することとなりましたのでご通知いたします。つきましては、別添請書に
B15: 所要事項を記入し、記名捺印の上当社宛一部ご提出ください。
A17: 記
A19: =IF(ContractStyle="国内法人","１．業務担当予定者氏名(丙) ：","１．業務担当予定者氏名 ：") -> １．業務担当予定者氏名 ： | L19: =IF(DispatchPersonName<>"",DispatchPersonName,"") -> 田中 健治
B20: =IF(外注付託依頼書!$G$28<>"","（"& RIGHT(外注付託依頼書!$G$28,5) &"）","")
A21: ２．件名 ： | F21: =IF(WorkSubjectNameJ<>"",WorkSubjectNameJ,"") -> ベトナム国ハノイ環状3号線整備事業（マイジックｰ南タンロン区間）
B22: =IF([0]!WorkSubjectCode<>"","（"&[0]!WorkSubjectCode&"）","") -> （JA15R1003）
A23: ３．担当業務 ： | H23: =IF(担当業務<>"",CONCATENATE(担当業務,"（業務内容は業務内容通知書の通り）"),"") -> Cost Estimator（業務内容は業務内容通知書の通り）
A25: ４．業務委託期間：
F26: 作業場所 | N26: 作業期間 | AF26: M/M
F27: =IF(外注付託依頼書!D42<>"",外注付託依頼書!D42,"") -> 国外 | N27: =IF(外注付託依頼書!F42<>"",外注付託依頼書!F42,"") -> 42324 | V27: ～ | X27: =IF(外注付託依頼書!L42<>"",外注付託依頼書!L42,"") -> 42352 | AF27: （ | AG27: =IF(外注付託依頼書!R42,外注付託依頼書!R42,"") -> 0.97 | AL27: ）
F28: =IF(外注付託依頼書!D43<>"",外注付託依頼書!D43,"") -> 国外 | N28: =IF(外注付託依頼書!F43<>"",外注付託依頼書!F43,"") -> 42358 | V28: ～ | X28: =IF(外注付託依頼書!L43<>"",外注付託依頼書!L43,"") -> 42396 | AF28: （ | AG28: =IF(外注付託依頼書!R43,外注付託依頼書!R43,"") -> 1.3 | AL28: ）
F29: =IF(外注付託依頼書!D44<>"",外注付託依頼書!D44,"") -> 国外 | N29: =IF(外注付託依頼書!F44<>"",外注付託依頼書!F44,"") -> 42428 | V29: ～ | X29: =IF(外注付託依頼書!L44<>"",外注付託依頼書!L44,"") -> 42449 | AF29: （ | AG29: =IF(外注付託依頼書!R44,外注付託依頼書!R44,"") -> 0.73 | AL29: ）
F30: =IF(外注付託依頼書!D45<>"",外注付託依頼書!D45,"") -> 国外 | N30: =IF(外注付託依頼書!F45<>"",外注付託依頼書!F45,"") -> 42522 | V30: ～ | X30: =IF(外注付託依頼書!L45<>"",外注付託依頼書!L45,"") -> 42551 | AF30: （ | AG30: =IF(外注付託依頼書!R45,外注付託依頼書!R45,"") -> 1 | AL30: ）
F31: =IF(外注付託依頼書!D46<>"",外注付託依頼書!D46,"") | N31: =IF(外注付託依頼書!F46<>"",外注付託依頼書!F46,"") | V31: ～ | X31: =IF(外注付託依頼書!L46<>"",外注付託依頼書!L46,"") | AF31: （ | AG31: =IF(外注付託依頼書!R46,外注付託依頼書!R46,"") | AL31: ）
F32: =IF(外注付託依頼書!D47<>"",外注付託依頼書!D47,"") | N32: =IF(外注付託依頼書!F47<>"",外注付託依頼書!F47,"") | V32: ～ | X32: =IF(外注付託依頼書!L47<>"",外注付託依頼書!L47,"") | AF32: （ | AG32: =IF(外注付託依頼書!R47,外注付託依頼書!R47,"") | AL32: ）
F33: =IF(外注付託依頼書!D48<>"",外注付託依頼書!D48,"") | N33: =IF(外注付託依頼書!F48<>"",外注付託依頼書!F48,"") | V33: ～ | X33: =IF(外注付託依頼書!L48<>"",外注付託依頼書!L48,"") | AF33: （ | AG33: =IF(外注付託依頼書!R48,外注付託依頼書!R48,"") | AL33: ）
AC34: TOTAL: | AG34: =IF(外注付託依頼書!Q59<>0,外注付託依頼書!Q59,"") -> 4
A36: ５．委託費 ： | H36: 円貨 | M36: \ | N36: =+N37+AC37 -> 0 | U36: －
E37: （内訳） | H37: 円貨 | M37: \ | N37: =+AD45 -> 0 | U37: － | X37: 消費税等 | AB37: \ | AC37: =ROUNDDOWN(N37*外注付託依頼書!AB77,0) -> 0 | AI37: －
H38: 報酬 | M38: \ | N38: =IF(外注付託依頼書!$AA$28="JPY",IF(外注付託依頼書!$AB$27<>0,外注付託依頼書!$AB$27,""),"") -> 単価 | W38: × | X38: =IF(外注付託依頼書!$AA$28="JPY",IF(外注付託依頼書!$AD$27<>0,外注付託依頼書!$AD$27,""),"") -> 数量 | AA38: =IF(外注付託依頼書!$AA$28="JPY",IF(外注付託依頼書!$AE$28<>"",外注付託依頼書!$AE$28,""),"") -> M/M | AC38: = | AD38: =IF(外注付託依頼書!$AA$28="JPY",IF(外注付託依頼書!$AH$27<>0,外注付託依頼書!$AH$27,""),"")
H39: 日当 | M39: \ | N39: =IF(外注付託依頼書!$AA$36="JPY",IF(外注付託依頼書!AC31="支給しない","",IF(外注付託依頼書!AC31="J'sNAVIにて精算","",外注付託依頼書!$AB$36)),"") | W39: × | X39: =IF(外注付託依頼書!$AA$36="JPY",IF(外注付託依頼書!AC31="支給しない","",IF(外注付託依頼書!AC31="J'sNAVIにて精算","",外注付託依頼書!$AD$36)),"") | AA39: =IF(外注付託依頼書!$AA$36="JPY",IF(外注付託依頼書!AC31="支給しない","",IF(外注付託依頼書!AC31="J'sNAVIにて精算","",外注付託依頼書!$AE$36)),"") | AC39: = | AD39: =IF(外注付託依頼書!$AA$36="JPY",IF(外注付託依頼書!$AC$31="支給しない","",IF(外注付託依頼書!$AC$31="J'sNAVIにて精算","",外注付託依頼書!$AH$36)),"")
H40: 宿泊費 | M40: \ | N40: =IF(外注付託依頼書!$AA$44="JPY",IF(外注付託依頼書!$AC$39="支給しない","",IF(外注付託依頼書!$AC$39="J'sNAVIにて精算","",外注付託依頼書!$AB$44)),"") | W40: × | X40: =IF(外注付託依頼書!$AA$44="JPY",IF(外注付託依頼書!$AC$39="支給しない","",IF(外注付託依頼書!$AC$39="J'sNAVIにて精算","",外注付託依頼書!$AD$44)),"") | AA40: =IF(外注付託依頼書!$AA$44="JPY",IF(外注付託依頼書!AC39="支給しない","",IF(外注付託依頼書!AC39="J'sNAVIにて精算","",外注付託依頼書!$AE$44)),"") | AC40: = | AD40: =IF(外注付託依頼書!$AA$44="JPY",IF(外注付託依頼書!$AC$39="支給しない","",IF(外注付託依頼書!$AC$39="J'sNAVIにて精算","",外注付託依頼書!$AH$44)),"")
H41: 航空券 | M41: \ | W41: × | AC41: =
H42: =IF(外注付託依頼書!Z59<>"",外注付託依頼書!Z59,"") | M42: \ | N42: =IF(外注付託依頼書!$AA$61="JPY",IF(外注付託依頼書!Z59="","",外注付託依頼書!$AB$61),"") | W42: × | X42: =IF(外注付託依頼書!$AA$61="JPY",IF(外注付託依頼書!Z59="","",外注付託依頼書!$AD$61),"") | AA42: =IF(外注付託依頼書!$AA$61="JPY",IF(外注付託依頼書!Z59="","",外注付託依頼書!$AE$61),"") | AC42: = | AD42: =IF(外注付託依頼書!$AA$61="JPY",IF(外注付託依頼書!Z59<>"",外注付託依頼書!AH61,""),"")
H43: =IF(外注付託依頼書!Z64<>"",外注付託依頼書!Z64,"") | M43: \ | N43: =IF(外注付託依頼書!$AA$66="JPY",IF(外注付託依頼書!Z64="","",外注付託依頼書!$AB$66),"") | W43: × | X43: =IF(外注付託依頼書!$AA$66="JPY",IF(外注付託依頼書!Z64="","",外注付託依頼書!$AD$66),"") | AA43: =IF(外注付託依頼書!$AA$66="JPY",IF(外注付託依頼書!Z64="","",外注付託依頼書!$AE$66),"") | AC43: = | AD43: =IF(外注付託依頼書!$AA$66="JPY",IF(外注付託依頼書!Z64<>"",外注付託依頼書!$AH$66,""),"")
H44: =IF(外注付託依頼書!Z69<>"",外注付託依頼書!Z69,"") | M44: \ | N44: =IF(外注付託依頼書!$AA$71="JPY",IF(外注付託依頼書!Z69="","",外注付託依頼書!$AB$71),"") | W44: × | X44: =IF(外注付託依頼書!$AA$71="JPY",IF(外注付託依頼書!Z69="","",外注付託依頼書!$AD$71),"") | AA44: =IF(外注付託依頼書!$AA$71="JPY",IF(外注付託依頼書!Z69="","",外注付託依頼書!$AE$71),"") | AC44: = | AD44: =IF(外注付託依頼書!$AA$71="JPY",IF(外注付託依頼書!Z69<>"",外注付託依頼書!$AH$71,""),"")
AA45: 合計 | AD45: =SUM(AD38:AI44) -> 0
A47: ６．特約条件 ： | G47: =IF(摘要<>"",摘要,"")
A52: ７．著作権の帰属：甲
...

Sheet _請書
I1: 請 書
AF4: =IF(外注付託依頼書!$I$98<>"",外注付託依頼書!$I$98,"")
AF5: =IF(外注付託依頼書!$AG$3<>"","注文No:"&外注付託依頼書!$AG$3,"") -> 注文No:JA1600301
A7: （甲） | AD7: （乙）
A8: =外注付託依頼書!AQ53 -> 0 | AD8: 住所
A9: =外注付託依頼書!AQ54 -> 0
A10: =外注付託依頼書!AQ49 -> 0 | AD10: 氏名
A11: =外注付託依頼書!AQ50 -> 0
A12: =外注付託依頼書!AQ51 & " " & 外注付託依頼書!AQ52 | R12: 様
AF13: =IF(外注付託依頼書!G28<>"","（"&外注付託依頼書!G28&")","")
C15: =IF(外注付託依頼書!$AG$3<>"","貴社注文No.("&外注付託依頼書!$AG$3&")を下記の条項承諾の上お請けいたします。","") -> 貴社注文No.(JA1600301)を下記の条項承諾の上お請けいたします。
A17: 記
A19: =IF(ContractStyle="国内法人","１．業務担当予定者氏名(丙) ：","１．業務担当予定者氏名 ：") -> １．業務担当予定者氏名 ： | L19: =IF(DispatchPersonName<>"",DispatchPersonName,"") -> 田中 健治
B20: =IF(外注付託依頼書!$G$28<>"","（"& RIGHT(外注付託依頼書!$G$28,5) &"）","")
A21: ２．件名 ： | F21: =IF(WorkSubjectNameJ<>"",WorkSubjectNameJ,"") -> ベトナム国ハノイ環状3号線整備事業（マイジックｰ南タンロン区間）
B22: =IF([0]!WorkSubjectCode<>"","（"&[0]!WorkSubjectCode&"）","") -> （JA15R1003）
A23: ３．担当業務 ： | H23: =IF(担当業務<>"",CONCATENATE(担当業務,"（業務内容は業務内容通知書の通り）"),"") -> Cost Estimator（業務内容は業務内容通知書の通り）
A25: ４．業務委託期間：
F26: 作業場所 | N26: 作業期間 | AF26: M/M
F27: =IF(外注付託依頼書!D42<>"",外注付託依頼書!D42,"") -> 国外 | N27: =IF(外注付託依頼書!F42<>"",外注付託依頼書!F42,"") -> 42324 | V27: ～ | X27: =IF(外注付託依頼書!L42<>"",外注付託依頼書!L42,"") -> 42352 | AF27: （ | AG27: =IF(外注付託依頼書!R42,外注付託依頼書!R42,"") -> 0.97 | AL27: ）
F28: =IF(外注付託依頼書!D43<>"",外注付託依頼書!D43,"") -> 国外 | N28: =IF(外注付託依頼書!F43<>"",外注付託依頼書!F43,"") -> 42358 | V28: ～ | X28: =IF(外注付託依頼書!L43<>"",外注付託依頼書!L43,"") -> 42396 | AF28: （ | AG28: =IF(外注付託依頼書!R43,外注付託依頼書!R43,"") -> 1.3 | AL28: ）
F29: =IF(外注付託依頼書!D44<>"",外注付託依頼書!D44,"") -> 国外 | N29: =IF(外注付託依頼書!F44<>"",外注付託依頼書!F44,"") -> 42428 | V29: ～ | X29: =IF(外注付託依頼書!L44<>"",外注付託依頼書!L44,"") -> 42449 | AF29: （ | AG29: =IF(外注付託依頼書!R44,外注付託依頼書!R44,"") -> 0.73 | AL29: ）
F30: =IF(外注付託依頼書!D45<>"",外注付託依頼書!D45,"") -> 国外 | N30: =IF(外注付託依頼書!F45<>"",外注付託依頼書!F45,"") -> 42522 | V30: ～ | X30: =IF(外注付託依頼書!L45<>"",外注付託依頼書!L45,"") -> 42551 | AF30: （ | AG30: =IF(外注付託依頼書!R45,外注付託依頼書!R45,"") -> 1 | AL30: ）
F31: =IF(外注付託依頼書!D46<>"",外注付託依頼書!D46,"") | N31: =IF(外注付託依頼書!F46<>"",外注付託依頼書!F46,"") | V31: ～ | X31: =IF(外注付託依頼書!L46<>"",外注付託依頼書!L46,"") | AF31: （ | AG31: =IF(外注付託依頼書!R46,外注付託依頼書!R46,"") | AL31: ）
F32: =IF(外注付託依頼書!D47<>"",外注付託依頼書!D47,"") | N32: =IF(外注付託依頼書!F47<>"",外注付託依頼書!F47,"") | V32: ～ | X32: =IF(外注付託依頼書!L47<>"",外注付託依頼書!L47,"") | AF32: （ | AG32: =IF(外注付託依頼書!R47,外注付託依頼書!R47,"") | AL32: ）
F33: =IF(外注付託依頼書!D48<>"",外注付託依頼書!D48,"") | N33: =IF(外注付託依頼書!F48<>"",外注付託依頼書!F48,"") | V33: ～ | X33: =IF(外注付託依頼書!L48<>"",外注付託依頼書!L48,"") | AF33: （ | AG33: =IF(外注付託依頼書!R48,外注付託依頼書!R48,"") | AL33: ）
AC34: TOTAL: | AG34: =IF(外注付託依頼書!Q59<>0,外注付託依頼書!Q59,"") -> 4
A36: ５．委託費 ： | H36: 円貨 | M36: \ | N36: =+N37+AC37 -> 0 | U36: －
E37: （内訳） | H37: 円貨 | M37: \ | N37: =+AD45 -> 0 | U37: － | X37: 消費税等 | AB37: \ | AC37: =ROUNDDOWN(N37*外注付託依頼書!AB77,0) -> 0 | AI37: －
H38: 報酬 | M38: \ | N38: =IF(外注付託依頼書!$AA$28="JPY",IF(外注付託依頼書!$AB$27<>0,外注付託依頼書!$AB$27,""),"") -> 単価 | W38: × | X38: =IF(外注付託依頼書!$AA$28="JPY",IF(外注付託依頼書!$AD$27<>0,外注付託依頼書!$AD$27,""),"") -> 数量 | AA38: =IF(外注付託依頼書!$AA$28="JPY",IF(外注付託依頼書!$AE$28<>"",外注付託依頼書!$AE$28,""),"") -> M/M | AC38: = | AD38: =IF(外注付託依頼書!$AA$28="JPY",IF(外注付託依頼書!$AH$27<>0,外注付託依頼書!$AH$27,""),"")
H39: 日当 | M39: \ | N39: =IF(外注付託依頼書!$AA$36="JPY",IF(外注付託依頼書!AC31="支給しない","",IF(外注付託依頼書!AC31="J'sNAVIにて精算","",外注付託依頼書!$AB$36)),"") | W39: × | X39: =IF(外注付託依頼書!$AA$36="JPY",IF(外注付託依頼書!AC31="支給しない","",IF(外注付託依頼書!AC31="J'sNAVIにて精算","",外注付託依頼書!$AD$36)),"") | AA39: =IF(外注付託依頼書!$AA$36="JPY",IF(外注付託依頼書!AC31="支給しない","",IF(外注付託依頼書!AC31="J'sNAVIにて精算","",外注付託依頼書!$AE$36)),"") | AC39: = | AD39: =IF(外注付託依頼書!$AA$36="JPY",IF(外注付託依頼書!$AC$31="支給しない","",IF(外注付託依頼書!$AC$31="J'sNAVIにて精算","",外注付託依頼書!$AH$36)),"")
H40: 宿泊費 | M40: \ | N40: =IF(外注付託依頼書!$AA$44="JPY",IF(外注付託依頼書!$AC$39="支給しない","",IF(外注付託依頼書!$AC$39="J'sNAVIにて精算","",外注付託依頼書!$AB$44)),"") | W40: × | X40: =IF(外注付託依頼書!$AA$44="JPY",IF(外注付託依頼書!$AC$39="支給しない","",IF(外注付託依頼書!$AC$39="J'sNAVIにて精算","",外注付託依頼書!$AD$44)),"") | AA40: =IF(外注付託依頼書!$AA$44="JPY",IF(外注付託依頼書!AC39="支給しない","",IF(外注付託依頼書!AC39="J'sNAVIにて精算","",外注付託依頼書!$AE$44)),"") | AC40: = | AD40: =IF(外注付託依頼書!$AA$44="JPY",IF(外注付託依頼書!$AC$39="支給しない","",IF(外注付託依頼書!$AC$39="J'sNAVIにて精算","",外注付託依頼書!$AH$44)),"")
H41: 航空券 | M41: \ | W41: × | AC41: =
H42: =IF(外注付託依頼書!Z59<>"",外注付託依頼書!Z59,"") | M42: \ | N42: =IF(外注付託依頼書!$AA$61="JPY",IF(外注付託依頼書!Z59="","",外注付託依頼書!$AB$61),"") | W42: × | X42: =IF(外注付託依頼書!$AA$61="JPY",IF(外注付託依頼書!Z59="","",外注付託依頼書!$AD$61),"") | AA42: =IF(外注付託依頼書!$AA$61="JPY",IF(外注付託依頼書!Z59="","",外注付託依頼書!$AE$61),"") | AC42: = | AD42: =IF(外注付託依頼書!$AA$61="JPY",IF(外注付託依頼書!Z59<>"",外注付託依頼書!AH61,""),"")
H43: =IF(外注付託依頼書!Z64<>"",外注付託依頼書!Z64,"") | M43: \ | N43: =IF(外注付託依頼書!$AA$66="JPY",IF(外注付託依頼書!Z64="","",外注付託依頼書!$AB$66),"") | W43: × | X43: =IF(外注付託依頼書!$AA$66="JPY",IF(外注付託依頼書!Z64="","",外注付託依頼書!$AD$66),"") | AA43: =IF(外注付託依頼書!$AA$66="JPY",IF(外注付託依頼書!Z64="","",外注付託依頼書!$AE$66),"") | AC43: = | AD43: =IF(外注付託依頼書!$AA$66="JPY",IF(外注付託依頼書!Z64<>"",外注付託依頼書!$AH$66,""),"")
H44: =IF(外注付託依頼書!Z69<>"",外注付託依頼書!Z69,"") | M44: \ | N44: =IF(外注付託依頼書!$AA$71="JPY",IF(外注付託依頼書!Z69="","",外注付託依頼書!$AB$71),"") | W44: × | X44: =IF(外注付託依頼書!$AA$71="JPY",IF(外注付託依頼書!Z69="","",外注付託依頼書!$AD$71),"") | AA44: =IF(外注付託依頼書!$AA$71="JPY",IF(外注付託依頼書!Z69="","",外注付託依頼書!$AE$71),"") | AC44: = | AD44: =IF(外注付託依頼書!$AA$71="JPY",IF(外注付託依頼書!Z69<>"",外注付託依頼書!$AH$71,""),"")
AA45: 合計 | AD45: =SUM(AD38:AI44) -> 0
A47: ６．特約条件 ： | G47: =IF(摘要<>"",摘要,"")
A52: ７．著作権の帰属：甲
A56: ８．その他 ： | G56: 貴社の相手先コード（仕入先コード）、今回のプロジェクトコード（作業科目）、契約No.は下記
...

Sheet _注文書 （変更）
I1: 注 文 書
AF4: =IF(期間変更依頼!$H$120<>"",期間変更依頼!$H$120,"")
A5: （乙） | AF5: =IF(期間変更依頼!$AL$1<>"","注文No:"&期間変更依頼!$AL$1,"") -> 注文No:JA1600301
A6: =IF(外注付託依頼書!$BG$9<>"",外注付託依頼書!$BG$9,"")
B7: =IF(外注付託依頼書!$BG$10<>"",外注付託依頼書!$BG$10,"") | AG7: （甲）
A8: =IF(ContractorName<>"",ContractorName,"") -> 有限責任事業組合インフラ・アセット・エンジニアリング | AG8: =外注付託依頼書!AQ53 -> 0
R9: 御中 | AG9: =外注付託依頼書!AQ54 -> 0
C10: =IF(外注付託依頼書!G28<>"","（"&外注付託依頼書!G28&")","") | AG10: =外注付託依頼書!AQ49 -> 0
AG11: =外注付託依頼書!AQ50 -> 0
AG12: =外注付託依頼書!AQ51 & " " & 外注付託依頼書!AQ52
B14: このたび、下記の通り貴社（貴殿）に委託することとなりましたのでご通知いたします。つきましては、別添請書に
B15: 所要事項を記入し、記名捺印の上当社宛一部ご提出ください。
A17: 記
A19: =IF(ContractStyle="国内法人","１．業務担当予定者氏名(丙) ：","１．業務担当予定者氏名 ：") -> １．業務担当予定者氏名 ： | L19: =IF(期間変更依頼!$D$18<>"",期間変更依頼!$D$18,"")
B20: =IF(外注付託依頼書!$G$28<>"","（"&RIGHT(外注付託依頼書!$G$28,5) &"）","")
A21: ２．件名 ： | F21: =IF(期間変更依頼!$D$22<>"",期間変更依頼!$D$22,"")
B22: =IF(期間変更依頼!$D$24<>"","（"&期間変更依頼!$D$24&"）","")
A23: ３．担当業務 ： | H23: =IF(担当業務<>"",CONCATENATE(担当業務,"（業務内容は業務内容通知書の通り）"),"") -> Cost Estimator（業務内容は業務内容通知書の通り）
A25: ４．業務委託期間： | I25: 【変更前】 | AE25: 【変更後】
A26: 作業場所 | G26: 作業期間 | T26: M/M | W26: 作業場所 | AC26: 作業期間 | AP26: M/M
A27: =IF(期間変更依頼!D$98<>"",期間変更依頼!D$98,"") | G27: =IF(期間変更依頼!F98<>"",期間変更依頼!F98,"") | M27: ～ | N27: =IF(期間変更依頼!L98<>"",期間変更依頼!L98,"") | T27: =IF(期間変更依頼!R98<>0,TEXT(期間変更依頼!R98,"(0.00)"),"") | W27: =IF(期間変更依頼!Z98<>"",期間変更依頼!Z98,"") | AC27: =IF(期間変更依頼!AB98<>"",期間変更依頼!AB98,"") | AI27: ～ | AJ27: =IF(期間変更依頼!AH98<>"",期間変更依頼!AH98,"") | AP27: =IF(期間変更依頼!AN98<>0,TEXT(期間変更依頼!AN98,"(0.00)"),"")
A28: =IF(期間変更依頼!$D99<>"",期間変更依頼!$D99,"") | G28: =IF(期間変更依頼!F99<>"",期間変更依頼!F99,"") | M28: ～ | N28: =IF(期間変更依頼!L99<>"",期間変更依頼!L99,"") | T28: =IF(期間変更依頼!R99<>0,TEXT(期間変更依頼!R99,"(0.00)"),"") | W28: =IF(期間変更依頼!Z99<>"",期間変更依頼!Z99,"") | AC28: =IF(期間変更依頼!AB99<>"",期間変更依頼!AB99,"") | AI28: ～ | AJ28: =IF(期間変更依頼!AH99<>"",期間変更依頼!AH99,"") | AP28: =IF(期間変更依頼!AN99<>0,TEXT(期間変更依頼!AN99,"(0.00)"),"")
A29: =IF(期間変更依頼!$D100<>"",期間変更依頼!$D100,"") | G29: =IF(期間変更依頼!F100<>"",期間変更依頼!F100,"") | M29: ～ | N29: =IF(期間変更依頼!L100<>"",期間変更依頼!L100,"") | T29: =IF(期間変更依頼!R100<>0,TEXT(期間変更依頼!R100,"(0.00)"),"") | W29: =IF(期間変更依頼!Z100<>"",期間変更依頼!Z100,"") | AC29: =IF(期間変更依頼!AB100<>"",期間変更依頼!AB100,"") | AI29: ～ | AJ29: =IF(期間変更依頼!AH100<>"",期間変更依頼!AH100,"") | AP29: =IF(期間変更依頼!AN100<>0,TEXT(期間変更依頼!AN100,"(0.00)"),"")
A30: =IF(期間変更依頼!$D101<>"",期間変更依頼!$D101,"") | G30: =IF(期間変更依頼!F101<>"",期間変更依頼!F101,"") | M30: ～ | N30: =IF(期間変更依頼!L101<>"",期間変更依頼!L101,"") | T30: =IF(期間変更依頼!R101<>0,TEXT(期間変更依頼!R101,"(0.00)"),"") | W30: =IF(期間変更依頼!Z101<>"",期間変更依頼!Z101,"") | AC30: =IF(期間変更依頼!AB101<>"",期間変更依頼!AB101,"") | AI30: ～ | AJ30: =IF(期間変更依頼!AH101<>"",期間変更依頼!AH101,"") | AP30: =IF(期間変更依頼!AN101<>0,TEXT(期間変更依頼!AN101,"(0.00)"),"")
A31: =IF(期間変更依頼!$D102<>"",期間変更依頼!$D102,"") | G31: =IF(期間変更依頼!F102<>"",期間変更依頼!F102,"") | M31: ～ | N31: =IF(期間変更依頼!L102<>"",期間変更依頼!L102,"") | T31: =IF(期間変更依頼!R102<>0,TEXT(期間変更依頼!R102,"(0.00)"),"") | W31: =IF(期間変更依頼!Z102<>"",期間変更依頼!Z102,"") | AC31: =IF(期間変更依頼!AB102<>"",期間変更依頼!AB102,"") | AI31: ～ | AJ31: =IF(期間変更依頼!AH102<>"",期間変更依頼!AH102,"") | AP31: =IF(期間変更依頼!AN102<>0,TEXT(期間変更依頼!AN102,"(0.00)"),"")
A32: =IF(期間変更依頼!$D103<>"",期間変更依頼!$D103,"") | G32: =IF(期間変更依頼!F103<>"",期間変更依頼!F103,"") | M32: ～ | N32: =IF(期間変更依頼!L103<>"",期間変更依頼!L103,"") | T32: =IF(期間変更依頼!R103<>0,TEXT(期間変更依頼!R103,"(0.00)"),"") | W32: =IF(期間変更依頼!Z103<>"",期間変更依頼!Z103,"") | AC32: =IF(期間変更依頼!AB103<>"",期間変更依頼!AB103,"") | AI32: ～ | AJ32: =IF(期間変更依頼!AH103<>"",期間変更依頼!AH103,"") | AP32: =IF(期間変更依頼!AN103<>0,TEXT(期間変更依頼!AN103,"(0.00)"),"")
A33: =IF(期間変更依頼!$D104<>"",期間変更依頼!$D104,"") | G33: =IF(期間変更依頼!F104<>"",期間変更依頼!F104,"") | M33: ～ | N33: =IF(期間変更依頼!L104<>"",期間変更依頼!L104,"") | T33: =IF(期間変更依頼!R104<>0,TEXT(期間変更依頼!R104,"(0.00)"),"") | W33: =IF(期間変更依頼!Z104<>"",期間変更依頼!Z104,"") | AC33: =IF(期間変更依頼!AB104<>"",期間変更依頼!AB104,"") | AI33: ～ | AJ33: =IF(期間変更依頼!AH104<>"",期間変更依頼!AH104,"") | AP33: =IF(期間変更依頼!AN104<>0,TEXT(期間変更依頼!AN104,"(0.00)"),"")
P34: TOTAL： | T34: =IF(期間変更依頼!Q116<>0,期間変更依頼!Q116,"") | AL34: TOTAL： | AP34: =IF(期間変更依頼!AM116<>0,期間変更依頼!AM116,"")
A36: ５．委託費 ： | H36: 円貨 | M36: \ | N36: =+N37+AC37 -> 0 | U36: －
E37: （内訳） | H37: 円貨 | M37: \ | N37: =+AD45 -> 0 | U37: － | X37: 消費税等 | AB37: \ | AC37: =ROUNDDOWN(N37*期間変更依頼!AP81,0) -> 0 | AI37: －
H38: 報酬 | M38: \ | N38: =IF(期間変更依頼!$H$33="JPY",IF(期間変更依頼!$O33<>0,期間変更依頼!$O33,""),0) -> 0 | W38: × | X38: =IF(期間変更依頼!$H$33="JPY",IF(期間変更依頼!$X33<>0,期間変更依頼!$X33,""),0) -> 0 | AA38: =IF(期間変更依頼!$H$33="JPY",IF(期間変更依頼!Z33<>"",期間変更依頼!Z33,""),"") | AC38: = | AD38: =IF(期間変更依頼!$H$33="JPY",IF(期間変更依頼!$AD33<>0,期間変更依頼!$AD33,""),0) -> 0
H39: 日当 | M39: \ | N39: =IF(期間変更依頼!$H$42="JPY",IF(期間変更依頼!$O42<>0,期間変更依頼!$O42,""),0) -> 0 | W39: × | X39: =IF(期間変更依頼!$H$42="JPY",IF(期間変更依頼!$X42<>0,期間変更依頼!$X42,""),0) -> 0 | AA39: =IF(期間変更依頼!$H$42="JPY",IF(期間変更依頼!$Z42<>"",期間変更依頼!$Z42,""),"") | AC39: = | AD39: =IF(期間変更依頼!$H$42="JPY",IF(期間変更依頼!$AD42<>0,期間変更依頼!$AD42,""),0) -> 0
H40: 宿泊費 | M40: \ | N40: =IF(期間変更依頼!$H$50="JPY",IF(期間変更依頼!$O$50<>0,期間変更依頼!$O$50,""),0) -> 0 | W40: × | X40: =IF(期間変更依頼!$H$50="JPY",IF(期間変更依頼!$X$50<>0,期間変更依頼!$X$50,""),0) -> 0 | AA40: =IF(期間変更依頼!$H$50="JPY",IF(期間変更依頼!$Z$50<>"",期間変更依頼!$Z$50,""),"") | AC40: = | AD40: =IF(期間変更依頼!$H$50="JPY",IF(期間変更依頼!$AD$50<>0,期間変更依頼!$AD$50,""),0) -> 0
H41: 航空券 | M41: \ | W41: × | AC41: = | AD41: =N41 -> 0
H42: =IF(期間変更依頼!D65<>"",期間変更依頼!D65,"") | M42: \ | N42: =IF(期間変更依頼!$H$67="JPY",IF(期間変更依頼!$O$67<>0,期間変更依頼!$O$67,""),0) -> 0 | W42: × | X42: =IF(期間変更依頼!$H$67="JPY",IF(期間変更依頼!$X$67<>0,期間変更依頼!$X$67,""),0) -> 0 | AA42: =IF(期間変更依頼!$H$67="JPY",IF(期間変更依頼!$Z$67<>"",期間変更依頼!$Z$67,""),"") | AC42: = | AD42: =IF(期間変更依頼!$H$67="JPY",IF(期間変更依頼!$AD$67<>0,期間変更依頼!$AD$67,""),0) -> 0
H43: =IF(期間変更依頼!D70<>"",期間変更依頼!D70,"") | M43: \ | N43: =IF(期間変更依頼!$H$72="JPY",IF(期間変更依頼!$O$72<>0,期間変更依頼!$O$72,""),0) -> 0 | W43: × | X43: =IF(期間変更依頼!$H$72="JPY",IF(期間変更依頼!$X$72<>0,期間変更依頼!$X$72,""),0) -> 0 | AA43: =IF(期間変更依頼!$H$72="JPY",IF(期間変更依頼!$Z$72<>"",期間変更依頼!$Z$72,""),"") | AC43: = | AD43: =IF(期間変更依頼!$H$72="JPY",IF(期間変更依頼!$AD$72<>0,期間変更依頼!$AD$72,""),0) -> 0
H44: =IF(期間変更依頼!D75<>"",期間変更依頼!D75,"") | M44: \ | N44: =IF(期間変更依頼!$H$77="JPY",IF(期間変更依頼!$O$77<>0,期間変更依頼!$O$77,""),0) -> 0 | W44: × | X44: =IF(期間変更依頼!$H$77="JPY",IF(期間変更依頼!$X$77<>0,期間変更依頼!$X$77,""),0) -> 0 | AA44: =IF(期間変更依頼!$H$77="JPY",IF(期間変更依頼!$Z$77<>"",期間変更依頼!$Z$77,""),"") | AC44: = | AD44: =IF(期間変更依頼!$H$77="JPY",IF(期間変更依頼!$AD$77<>0,期間変更依頼!$AD$77,""),0) -> 0
AA45: 合計 | AD45: =SUM(AD38:AI44) -> 0
A47: ６．特約条件 ： | G47: =IF(期間変更依頼!H130<>"",期間変更依頼!H130,"")
A52: ７．著作権の帰属：甲
...

Sheet _請書 （変更）
I1: 請 書
AF4: =IF(期間変更依頼!$H$120<>"",期間変更依頼!$H$120,"")
AF5: =IF(期間変更依頼!$AL$1<>"","注文No:"&期間変更依頼!$AL$1,"") -> 注文No:JA1600301
A7: （甲） | AD7: （乙）
A8: =外注付託依頼書!AQ53 -> 0 | AD8: 住所
A9: =外注付託依頼書!AQ54 -> 0
A10: =外注付託依頼書!AQ49 -> 0 | AD10: 氏名 | AG10: =IF(期間変更依頼!$D$20<>"",MID(期間変更依頼!$D$20,11,160),"")
A11: =外注付託依頼書!AQ50 -> 0
A12: =外注付託依頼書!AQ51 & " " & 外注付託依頼書!AQ52 | R12: 様
AF13: =IF(期間変更依頼!D20<>"","（"&LEFT(期間変更依頼!D20,10)&")","")
C15: =IF(期間変更依頼!$AL$1<>"","貴社注文No.("&期間変更依頼!$AL$1&")を下記の条項承諾の上お請けいたします。","") -> 貴社注文No.(JA1600301)を下記の条項承諾の上お請けいたします。
A17: 記
A19: =IF(ContractStyle="国内法人","１．業務担当予定者氏名(丙) ：","１．業務担当予定者氏名 ：") -> １．業務担当予定者氏名 ： | L19: =IF(期間変更依頼!$D$18<>"",期間変更依頼!$D$18,"")
B20: =IF(外注付託依頼書!$G$28<>"","（"&RIGHT(外注付託依頼書!$G$28,5)&"）","")
A21: ２．件名 ： | F21: =IF(期間変更依頼!$D$22<>"",期間変更依頼!$D$22,"")
B22: =IF(期間変更依頼!$D$24<>"","（"&期間変更依頼!$D$24&"）","")
A23: ３．担当業務 ： | H23: =IF(担当業務<>"",CONCATENATE(担当業務,"（業務内容は業務内容通知書の通り）"),"") -> Cost Estimator（業務内容は業務内容通知書の通り）
A25: ４．業務委託期間： | I25: 【変更前】 | AE25: 【変更後】
A26: 作業場所 | G26: 作業期間 | T26: M/M | W26: 作業場所 | AC26: 作業期間 | AP26: M/M
A27: =IF(期間変更依頼!D$98<>"",期間変更依頼!D$98,"") | G27: =IF(期間変更依頼!F98<>"",期間変更依頼!F98,"") | M27: ～ | N27: =IF(期間変更依頼!L98<>"",期間変更依頼!L98,"") | T27: =IF(期間変更依頼!R98<>0,TEXT(期間変更依頼!R98,"(0.00)"),"") | W27: =IF(期間変更依頼!Z98<>"",期間変更依頼!Z98,"") | AC27: =IF(期間変更依頼!AB98<>"",期間変更依頼!AB98,"") | AI27: ～ | AJ27: =IF(期間変更依頼!AH98<>"",期間変更依頼!AH98,"") | AP27: =IF(期間変更依頼!AN98<>0,TEXT(期間変更依頼!AN98,"(0.00)"),"")
A28: =IF(期間変更依頼!$D99<>"",期間変更依頼!$D99,"") | G28: =IF(期間変更依頼!F99<>"",期間変更依頼!F99,"") | M28: ～ | N28: =IF(期間変更依頼!L99<>"",期間変更依頼!L99,"") | T28: =IF(期間変更依頼!R99<>0,TEXT(期間変更依頼!R99,"(0.00)"),"") | W28: =IF(期間変更依頼!Z99<>"",期間変更依頼!Z99,"") | AC28: =IF(期間変更依頼!AB99<>"",期間変更依頼!AB99,"") | AI28: ～ | AJ28: =IF(期間変更依頼!AH99<>"",期間変更依頼!AH99,"") | AP28: =IF(期間変更依頼!AN99<>0,TEXT(期間変更依頼!AN99,"(0.00)"),"")
A29: =IF(期間変更依頼!$D100<>"",期間変更依頼!$D100,"") | G29: =IF(期間変更依頼!F100<>"",期間変更依頼!F100,"") | M29: ～ | N29: =IF(期間変更依頼!L100<>"",期間変更依頼!L100,"") | T29: =IF(期間変更依頼!R100<>0,TEXT(期間変更依頼!R100,"(0.00)"),"") | W29: =IF(期間変更依頼!Z100<>"",期間変更依頼!Z100,"") | AC29: =IF(期間変更依頼!AB100<>"",期間変更依頼!AB100,"") | AI29: ～ | AJ29: =IF(期間変更依頼!AH100<>"",期間変更依頼!AH100,"") | AP29: =IF(期間変更依頼!AN100<>0,TEXT(期間変更依頼!AN100,"(0.00)"),"")
A30: =IF(期間変更依頼!$D101<>"",期間変更依頼!$D101,"") | G30: =IF(期間変更依頼!F101<>"",期間変更依頼!F101,"") | M30: ～ | N30: =IF(期間変更依頼!L101<>"",期間変更依頼!L101,"") | T30: =IF(期間変更依頼!R101<>0,TEXT(期間変更依頼!R101,"(0.00)"),"") | W30: =IF(期間変更依頼!Z101<>"",期間変更依頼!Z101,"") | AC30: =IF(期間変更依頼!AB101<>"",期間変更依頼!AB101,"") | AI30: ～ | AJ30: =IF(期間変更依頼!AH101<>"",期間変更依頼!AH101,"") | AP30: =IF(期間変更依頼!AN101<>0,TEXT(期間変更依頼!AN101,"(0.00)"),"")
A31: =IF(期間変更依頼!$D102<>"",期間変更依頼!$D102,"") | G31: =IF(期間変更依頼!F102<>"",期間変更依頼!F102,"") | M31: ～ | N31: =IF(期間変更依頼!L102<>"",期間変更依頼!L102,"") | T31: =IF(期間変更依頼!R102<>0,TEXT(期間変更依頼!R102,"(0.00)"),"") | W31: =IF(期間変更依頼!Z102<>"",期間変更依頼!Z102,"") | AC31: =IF(期間変更依頼!AB102<>"",期間変更依頼!AB102,"") | AI31: ～ | AJ31: =IF(期間変更依頼!AH102<>"",期間変更依頼!AH102,"") | AP31: =IF(期間変更依頼!AN102<>0,TEXT(期間変更依頼!AN102,"(0.00)"),"")
A32: =IF(期間変更依頼!$D103<>"",期間変更依頼!$D103,"") | G32: =IF(期間変更依頼!F103<>"",期間変更依頼!F103,"") | M32: ～ | N32: =IF(期間変更依頼!L103<>"",期間変更依頼!L103,"") | T32: =IF(期間変更依頼!R103<>0,TEXT(期間変更依頼!R103,"(0.00)"),"") | W32: =IF(期間変更依頼!Z103<>"",期間変更依頼!Z103,"") | AC32: =IF(期間変更依頼!AB103<>"",期間変更依頼!AB103,"") | AI32: ～ | AJ32: =IF(期間変更依頼!AH103<>"",期間変更依頼!AH103,"") | AP32: =IF(期間変更依頼!AN103<>0,TEXT(期間変更依頼!AN103,"(0.00)"),"")
A33: =IF(期間変更依頼!$D104<>"",期間変更依頼!$D104,"") | G33: =IF(期間変更依頼!F104<>"",期間変更依頼!F104,"") | M33: ～ | N33: =IF(期間変更依頼!L104<>"",期間変更依頼!L104,"") | T33: =IF(期間変更依頼!R104<>0,TEXT(期間変更依頼!R104,"(0.00)"),"") | W33: =IF(期間変更依頼!Z104<>"",期間変更依頼!Z104,"") | AC33: =IF(期間変更依頼!AB104<>"",期間変更依頼!AB104,"") | AI33: ～ | AJ33: =IF(期間変更依頼!AH104<>"",期間変更依頼!AH104,"") | AP33: =IF(期間変更依頼!AN104<>0,TEXT(期間変更依頼!AN104,"(0.00)"),"")
P34: TOTAL： | T34: =IF(期間変更依頼!Q116<>0,期間変更依頼!Q116,"") | AL34: TOTAL： | AP34: =IF(期間変更依頼!AM116<>0,期間変更依頼!AM116,"")
A36: ５．委託費 ： | H36: 円貨 | M36: \ | N36: =+N37+AC37 -> 0 | U36: －
E37: （内訳） | H37: 円貨 | M37: \ | N37: =+AD45 -> 0 | U37: － | X37: 消費税等 | AB37: \ | AC37: =ROUNDDOWN(N37*期間変更依頼!AP81,0) -> 0 | AI37: －
H38: 報酬 | M38: \ | N38: =IF(期間変更依頼!$H$33="JPY",IF(期間変更依頼!$O33<>0,期間変更依頼!$O33,""),0) -> 0 | W38: × | X38: =IF(期間変更依頼!$H$33="JPY",IF(期間変更依頼!$X33<>0,期間変更依頼!$X33,""),0) -> 0 | AA38: =IF(期間変更依頼!$H$33="JPY",IF(期間変更依頼!Z33<>"",期間変更依頼!Z33,""),"") | AC38: = | AD38: =IF(期間変更依頼!$H$33="JPY",IF(期間変更依頼!$AD33<>0,期間変更依頼!$AD33,""),0) -> 0
H39: 日当 | M39: \ | N39: =IF(期間変更依頼!$H$42="JPY",IF(期間変更依頼!$O42<>0,期間変更依頼!$O42,""),0) -> 0 | W39: × | X39: =IF(期間変更依頼!$H$42="JPY",IF(期間変更依頼!$X42<>0,期間変更依頼!$X42,""),0) -> 0 | AA39: =IF(期間変更依頼!$H$42="JPY",IF(期間変更依頼!$Z42<>"",期間変更依頼!$Z42,""),"") | AC39: = | AD39: =IF(期間変更依頼!$H$42="JPY",IF(期間変更依頼!$AD42<>0,期間変更依頼!$AD42,""),0) -> 0
H40: 宿泊費 | M40: \ | N40: =IF(期間変更依頼!$H$50="JPY",IF(期間変更依頼!$O$50<>0,期間変更依頼!$O$50,""),0) -> 0 | W40: × | X40: =IF(期間変更依頼!$H$50="JPY",IF(期間変更依頼!$X$50<>0,期間変更依頼!$X$50,""),0) -> 0 | AA40: =IF(期間変更依頼!$H$50="JPY",IF(期間変更依頼!$Z$50<>"",期間変更依頼!$Z$50,""),"") | AC40: = | AD40: =IF(期間変更依頼!$H$50="JPY",IF(期間変更依頼!$AD$50<>0,期間変更依頼!$AD$50,""),0) -> 0
H41: 航空券 | M41: \ | W41: × | AC41: = | AD41: =N41 -> 0
H42: =IF(期間変更依頼!D65<>"",期間変更依頼!D65,"") | M42: \ | N42: =IF(期間変更依頼!$H$67="JPY",IF(期間変更依頼!$O$67<>0,期間変更依頼!$O$67,""),0) -> 0 | W42: × | X42: =IF(期間変更依頼!$H$67="JPY",IF(期間変更依頼!$X$67<>0,期間変更依頼!$X$67,""),0) -> 0 | AA42: =IF(期間変更依頼!$H$67="JPY",IF(期間変更依頼!$Z$67<>"",期間変更依頼!$Z$67,""),"") | AC42: = | AD42: =IF(期間変更依頼!$H$67="JPY",IF(期間変更依頼!$AD$67<>0,期間変更依頼!$AD$67,""),0) -> 0
H43: =IF(期間変更依頼!D70<>"",期間変更依頼!D70,"") | M43: \ | N43: =IF(期間変更依頼!$H$72="JPY",IF(期間変更依頼!$O$72<>0,期間変更依頼!$O$72,""),0) -> 0 | W43: × | X43: =IF(期間変更依頼!$H$72="JPY",IF(期間変更依頼!$X$72<>0,期間変更依頼!$X$72,""),0) -> 0 | AA43: =IF(期間変更依頼!$H$72="JPY",IF(期間変更依頼!$Z$72<>"",期間変更依頼!$Z$72,""),"") | AC43: = | AD43: =IF(期間変更依頼!$H$72="JPY",IF(期間変更依頼!$AD$72<>0,期間変更依頼!$AD$72,""),0) -> 0
H44: =IF(期間変更依頼!D75<>"",期間変更依頼!D75,"") | M44: \ | N44: =IF(期間変更依頼!$H$77="JPY",IF(期間変更依頼!$O$77<>0,期間変更依頼!$O$77,""),0) -> 0 | W44: × | X44: =IF(期間変更依頼!$H$77="JPY",IF(期間変更依頼!$X$77<>0,期間変更依頼!$X$77,""),0) -> 0 | AA44: =IF(期間変更依頼!$H$77="JPY",IF(期間変更依頼!$Z$77<>"",期間変更依頼!$Z$77,""),"") | AC44: = | AD44: =IF(期間変更依頼!$H$77="JPY",IF(期間変更依頼!$AD$77<>0,期間変更依頼!$AD$77,""),0) -> 0
AA45: 合計 | AD45: =SUM(AD38:AI44) -> 0
A47: ６．特約条件 ： | G47: =IF(期間変更依頼!H130<>"",期間変更依頼!H130,"")
A52: ７．著作権の帰属：甲
A56: ８．その他 ： | G56: 貴社の相手先コード（仕入先コード）、今回のプロジェクトコード（作業科目）、契約No.は下記
...

Sheet _請求書
I1: 請 求 書
I3: （要員借上契約）
AF4: 20 / /
A5: =IF(外注付託依頼書!AQ49<>"",外注付託依頼書!AQ49," ")&" 御中" -> 御中
AD8: 住所
AD10: 氏名
AF13: =IF(外注付託依頼書!G28<>"","（"&外注付託依頼書!G28&")","")
C14: 下記の通り請求いたします。
A16: 今回請求額 | F16: \ (金 也）
F18: （ 本体価格）
F19: （ 消費税分）
A21: 契約件名 | F21: =IF(WorkSubjectNameJ<>"",WorkSubjectNameJ,"") -> ベトナム国ハノイ環状3号線整備事業（マイジックｰ南タンロン区間） | AI21: =IF(WorkSubjectCode<>"","作業科目（"&WorkSubjectCode&"）","") -> 作業科目（JA15R1003）
F22: =IF(外注付託依頼書!$AG$3<>"","注文No:"&外注付託依頼書!$AG$3,"") -> 注文No:JA1600301
A24: 氏名 | H24: =IF(DispatchPersonName<>"",DispatchPersonName,"") -> 田中 健治 | T24: =IF(外注付託依頼書!G28<>"","仕入先個人コード（ "&RIGHT(外注付託依頼書!G28,5) &" ）","")
A26: 契約期間 | Y26: =IF(外注付託依頼書!Q59<>"",外注付託依頼書!Q59,"") -> 4 | AB26: (M/M)
A28: 請求内訳 | K28: 数量 | O28: 単価 | U28: 金額 | AD28: 摘要
F29: 報酬
F31: 日当
F33: 宿泊費
F35: 航空券
D37: ※1
D43: ※２ | F43: 合計
A46: 請求実績 | K46: 数量 | O46: 単価 | U46: 金額 | AD46: 残高
D47: ※2 | F47: 契約金額
F49: 既受領額
F51: 今回請求分
F53: ※1 添付証書参照
F54: ※2 消費税を除いた本体価格
F55: 3 M/Mの計算は小数点第三位四捨五入
F56: 4 個人契約の場合、所得税法に基づき請求額より源泉所得税及び復興特別所得税を徴収
F57: (\１,000,000までは10.21％、\１,000,000超過分は\１,000,000の10.21％+超過分の20.42％）
A59: 振込先 | F59: ※下記振込先に変更がある場合は、お手数ですが朱書きにて修正の上、ご連絡願います。
F60: 金融機関名 | Q60: 支店名 | AA60: 口座種別 | AE60: 口座番号 | AJ60: 口座名義
F61: =IF(外注付託依頼書!AQ42="","",外注付託依頼書!AQ42) | Q61: =IF(外注付託依頼書!AQ43="","",外注付託依頼書!AQ43) | AA61: =IF(外注付託依頼書!AQ44="","",外注付託依頼書!AQ44) | AE61: =IF(外注付託依頼書!AQ45="","",外注付託依頼書!AQ45) | AJ61: =IF(外注付託依頼書!AQ46="","",外注付託依頼書!AQ46)

Sheet _案内#2
A1: 書類送付ご案内
AF3: =_注文書!AF4
A6: =IF(外注付託依頼書!$BG$9<>"",外注付託依頼書!$BG$9,"")
A7: =IF(外注付託依頼書!$BG$10<>"",外注付託依頼書!$BG$10,"")
A8: =IF(ContractorName<>"",ContractorName,"") -> 有限責任事業組合インフラ・アセット・エンジニアリング
A9: =IF(外注付託依頼書!$BG$11<>"",外注付託依頼書!$BG$11 & " ","") & IF(外注付託依頼書!$BG$12<>"",外注付託依頼書!$BG$12,"") | M9: =_注文書!R9 -> 御中 | AB9: =IF(外注付託依頼書!AQ53<>"",外注付託依頼書!AQ53,"")
B10: =IF(外注付託依頼書!G28<>"","（"&外注付託依頼書!G28&")","") | AB10: =IF(外注付託依頼書!AQ54<>"",外注付託依頼書!AQ54,"")
AB11: =IF(外注付託依頼書!AQ49<>"",外注付託依頼書!AQ49,"")
AB12: =IF(外注付託依頼書!AQ57<>"",外注付託依頼書!AQ57,"")
AD13: TEL: | AE13: =IF(外注付託依頼書!AQ55<>"",外注付託依頼書!AQ55,"")
AD14: FAX: | AE14: =IF(外注付託依頼書!AQ56<>"",外注付託依頼書!AQ56,"")
A17: 拝啓、貴社ますますご清祥のこととお喜び申し上げます。
A18: ="注文書及び当社指定請書を送付致します。内容をご確認の上、請書に記名・捺印し、" & IF(外注付託依頼書!AQ57 & 外注付託依頼書!AQ58<>"",外注付託依頼書!AQ57 & " " & 外注付託依頼書!AQ58," ") & "宛にご返送下さいますよう、お願い申し上げます。" -> 注文書及び当社指定請書を送付致します。内容をご確認の上、請書に記名・捺印し、 宛にご返送下さいますよう、お願い申し上げます。
A21: なお、毎月のTimesheet(稼働表)を月末締め、翌月1日までに現場責任者に提出頂くことになっております。詳細は現場責任者にご確認願います。
A24: また、請求書は月末締め、翌月3日までに業務部までご提出下さい。
A26: ※本社仮移転のご案内※
A28: このたび弊社はビル建て替えに伴い2015年10月13日（火）より、以下に仮移転することとなりました。
A30: 仮移転先住所：〒102-8539 東京都千代田区九段北1-14-6
A31: 電話番号及びFAX番号は従来の通り変更はございません。
A33: 請書、ご請求書等の郵便物につきましては、上記住所宛にお送りいただけますようお願い申し上げます。
A34: ご不便をお掛けすることになりますが、何卒ご了承賜りますようお願い申し上げます。
F36: 【ご案内地図】
G37: 最寄駅： | K37: 東京メトロ東西線、半蔵門線、都営新宿線「九段下」徒歩1分
K38: JR「飯田橋」徒歩約10分
AG55: 敬具

Sheet 期間変更依頼
B1: 決裁区分 | AG1: 依頼No | AL1: =IF(外注付託依頼書!依頼番号<>"",外注付託依頼書!依頼番号,"") -> JA1600301
B2: Ca
N3: Cb | AG3: 作成日
N4: Ca | R4: 借上外注付託変更依頼/兼稟議書 | AG4: 受付日
N5: Bb | S5: （要員借上期間変更用） | AG5: 決裁日
N6: Ba | BA6: 90000205
N7: Ab | BA7: 90000211
N8: Aa | BA8: 90000212
AE9: 依頼担当者Code | BA9: 90000213
AE10: 依頼担当者名 | BA10: 90000214
AE11: 依頼部Code | BA11: 90000219
B12: 業務部長殿 | AE12: 依頼部名 | BA12: 90000265
BA13: 90000271
BA14: 90000272
BA15: 90000274
B16: 下記の通り、借上外注付託依頼書の内容変更を致したく、手続きの程お願い致します。 | BA16: 90000275
BA17: 90000276
B18: 業務担当予定者氏名 | BA18: 90000277
BA19: 90000278
B20: 所属会社
B22: 作業件名
B24: 作業科目 | BB24: 単位１ | BC24: 単位２ | BD24: 日当区分 | BE24: 日当支給方法 | BF24: 日当支払先 | BG24: 宿泊費区分 | BH24: 宿泊費支給方法 | BI24: 宿泊費支払先 | BJ24: 航空券支給方法 | BK24: クラス | BL24: 海外旅行傷害保険 | BM24: その他経費支給方法
BB25: 月 | BC25: M/M | BD25: 以下の通り支給 | BE25: 円貨 | BF25: 会社振込 | BG25: 以下の通り支給 | BH25: 円貨 | BI25: 会社振込 | BJ25: ＮＫ本社にて支給 | BK25: ディスカウントエコノミー | BL25: ＮＫ付保 | BM25: 下記の経費は実費精算
B26: 担当業務 | BB26: 日 | BC26: M/D | BD26: JICA規定額を以下の通り支給 | BE26: 外貨 | BF26: 本人へ支払 | BG26: JICA規定額を支給 | BH26: 外貨 | BI26: 本人へ支払 | BJ26: ＰＴＡ | BK26: ノーマルエコノミー | BL26: ＮＫ負担で相手先付保 | BM26: 下記の金額を上限に実費精算
BB27: 時間 | BC27: M/H | BD27: 社員に準じて以下の通り支給 | BF27: 本人へ現地払 | BG27: 社員に準じて支給 | BI27: 本人へ現地払 | BJ27: 相手先購入（実費精算：指定ルートが有る場合は下記ルート欄に記入） | BK27: ディスカウントビジネス | BL27: 相手先負担、相手先付保 | BM27: 下記の通り支給
BB28: 式 | BC28: 式 | BD28: 支給しない | BG28: 支給しないが宿舎提供 | BJ28: 支給しない | BK28: ノーマルビジネス
B29: 今回変更分発注条件 | BB29: 回 | BC29: 回 | BD29: J'sNAVIにて精算 | BG29: 支給しない | BJ29: その他（その他に記入）
BG30: J'sNAVIにて精算
B31: =勘定Code1 -> 90000205 | C31: 発注報酬額 | G31: 備考：
D32: 単価（表示） | H32: \ | O32: =単価1*Rate1 -> 0 | W32: × | AB32: = | AC32: ￥ | AD32: =+ROUNDDOWN(O32*X33,0) -> 0
D33: 単価（入力） | O33: =[0]!単価1 -> 900000 | W33: × | AB33: = | AD33: =+O33*X33 -> 0
E34: ﾚｰﾄ
B36: =勘定Code2 -> 90000214 | C36: 日当 | H36: 1.区分
H37: 2.支給方法
H38: 3.支払先
H39: 4.備考
D41: 単価（表示） | H41: \ | O41: =単価2*Rate2 -> 0 | W41: × | AB41: = | AC41: ￥ | AD41: =+ROUNDDOWN(O41*X42,0) -> 0
D42: 単価（入力） | O42: =[0]!DailyUnitPriceForeign -> 52 | W42: × | AB42: = | AD42: =+O42*X42 -> 0
E43: ﾚｰﾄ
B44: =勘定Code3 -> 90000214 | C44: 宿泊費 | H44: 1.区分
...

Sheet 算出表用テーブル
B1: 借上外部要員の基準報酬月額算定基準
B3: a.経験年数基準標準賃率 | G3: 社内賃率は参事1級相当を上限とする。
F4: （円） | I4: =+算出表!F7 -> 0
D5: A | E5: 29年以上 | F5: 961000 | G5: 参事1級 | I5: =IF(I4>=29,INT(F5/1000),0) -> 0 | J5: =IF(I5>0,G5,0) -> 0
D6: B | E6: 26‐28年 | F6: 927000 | G6: 参事2級 | I6: =IF($I$4<26,0,IF($I$4>=29,0,INT(F6/1000))) -> 0 | J6: =IF(I6>0,G6,0) -> 0
D7: C | E7: 23‐25年 | F7: 867000 | G7: 参事3級 | I7: =IF($I$4<23,0,IF($I$4>=26,0,INT(F7/1000))) -> 0 | J7: =IF(I7>0,G7,0) -> 0
D8: D | E8: 20‐22年 | F8: 813000 | G8: 副参事1級 | I8: =IF($I$4<20,0,IF($I$4>=23,0,INT(F8/1000))) -> 0 | J8: =IF(I8>0,G8,0) -> 0
D9: E | E9: 17‐19年 | F9: 791000 | G9: 副参事2級 | I9: =IF($I$4<17,0,IF($I$4>=20,0,INT(F9/1000))) -> 0 | J9: =IF(I9>0,G9,0) -> 0
D10: F | E10: 14‐16年 | F10: 745000 | G10: 副参事3級 | I10: =IF($I$4<14,0,IF($I$4>=17,0,INT(F10/1000))) -> 0 | J10: =IF(I10>0,G10,0) -> 0
D11: G | E11: 12‐13年 | F11: 564000 | G11: 技師1級 | I11: =IF($I$4<12,0,IF($I$4>=14,0,INT(F11/1000))) -> 0 | J11: =IF(I11>0,G11,0) -> 0
D12: H | E12: 9‐11年 | F12: 500000 | G12: 技師2級 | I12: =IF($I$4<9,0,IF($I$4>=12,0,INT(F12/1000))) -> 0 | J12: =IF(I12>0,G12,0) -> 0
D13: I | E13: 6‐8年 | F13: 437000 | G13: 技師3級 | I13: =IF($I$4<6,0,IF($I$4>=9,0,INT(F13/1000))) -> 0 | J13: =IF(I13>0,G13,0) -> 0
D14: J | E14: 4‐5年 | F14: 401000 | G14: 技師補 | I14: =IF($I$4<4,0,IF($I$4>=6,0,INT(F14/1000))) -> 0 | J14: =IF(I14>0,G14,0) -> 0
D15: K | E15: 0‐3年 | F15: 352000 | G15: 一般社員 | I15: =IF($I$4<=0,0,IF($I$4>=4,0,INT(F15/1000))) -> 0 | J15: =IF(I15>0,G15,0) -> 0
I16: =INT(SUM(I5:I15)) -> 0 | J16: =IF(J5>0,J5,IF(J6>0,J6,IF(J7>0,J7,IF(J8>0,J8,IF(J9>0,J9,IF(J10>0,J10,IF(J11>0,J11,IF(J12>0,J12,0)))))))) -> 0 | K16: =IF(J13>0,J13,IF(J14>0,J14,IF(J15>0,J15,0))) -> 0 | L16: =IF(J16>0,J16,K16) -> 0
B17: b.諸経費
F18: 標準賃率の | I18: =+算出表!F24 -> 0
D19: A | E19: 個人事業者（個人会社・非常勤嘱託） | F19: 0.05 | I19: =IF($I$18=D19,F19,0) -> 0
D20: B | E20: 専業ｺﾝｻﾙﾀﾝﾄ（従業員数10名以下） | F20: 0.15 | I20: =IF($I$18=D20,F20,0) -> 0
D21: C | E21: 専業ｺﾝｻﾙﾀﾝﾄ（従業員数11-50名） | F21: 0.25 | I21: =IF($I$18=D21,F21,0) -> 0
D22: D | E22: 専業ｺﾝｻﾙﾀﾝﾄ（従業員数51名以上） | F22: 0.35 | I22: =IF($I$18=D22,F22,0) -> 0
D23: E | E23: ｺﾝｻﾙﾀﾝﾄ以外の業種（従業員数10名以下） | F23: 0.05 | I23: =IF($I$18=D23,F23,0) -> 0
D24: F | E24: ｺﾝｻﾙﾀﾝﾄ以外の業種（従業員数11-50名） | F24: 0.15 | I24: =IF($I$18=D24,F24,0) -> 0
D25: G | E25: ｺﾝｻﾙﾀﾝﾄ以外の業種（従業員数50名以上） | F25: 0.25 | I25: =IF($I$18=D25,F25,0) -> 0
D26: H1 | E26: ゼネコン | F26: 0.05 | I26: =IF($I$18=D26,F26,0) -> 0
D27: H2 | E27: ゼネコン | F27: 0.1 | I27: =IF($I$18=D27,F27,0) -> 0
D28: H3 | E28: ゼネコン | F28: 0.15 | I28: =IF($I$18=D28,F28,0) -> 0 | J28: =SUM(I19:I28) -> 0
B30: c.技術能力・作業条件
B32: 1. 技術能力評価基準
C34: 1.1 公的資格評価
F37: （円） | I37: =+算出表!F33 -> 0
D38: A | E38: 博士・技術士・ＰＭＰ | F38: 100000 | I38: =IF($I$37=D38,F38/1000,0) -> 0
D39: B | E39: 業務上有効なその他資格 | F39: 30000 | I39: =IF($I$37=D39,F39/1000,0) -> 0
D40: C | E40: 資格なし | F40: 0 | I40: =IF($I$37=D40,F40/1000,0) -> 0 | J40: =SUM(I38:I40) -> 0
C42: 1.2 語学能力評価
F45: （円） | I45: =+算出表!G43 -> 0
D46: A | E46: 極めて良い | F46: 100000 | G46: TOEIC840以上 | I46: =IF($I$45=D46,F46/1000,0) -> 0
D47: B | E47: 良い | F47: 50000 | G47: TOEIC730 - 839 | I47: =IF($I$45=D47,F47/1000,0) -> 0
D48: C | E48: 普通 | F48: 30000 | G48: TOEIC600 - 729 | I48: =IF($I$45=D48,F48/1000,0) -> 0
D49: D | E49: 悪い（資格のない場合を含む） | F49: 0 | G49: TOEIC 599以下 | I49: =IF($I$45=D49,F49/1000,0) -> 0
...
