Workbook
Name CIT見込額: ②売上計画!$D$55
Name JICA社員報酬額: ③JICA用報酬計算!$L$60
Name JICA借上報酬額: ③JICA用報酬計算!$L$61
Name PIT社員: ⑤経費!$J$273
Name PIT社員通貨1: ⑤経費!$M$273
Name PIT社員通貨2: ⑤経費!$P$273
Name PIT社員通貨3: ⑤経費!$S$273
Name PIT社員通貨4: ⑤経費!$V$273
Name PIT借上: ⑤経費!$J$291
Name PIT借上_通貨1: ⑤経費!$M$291
Name PIT借上_通貨2: ⑤経費!$P$291
Name PIT借上_通貨3: ⑤経費!$S$291
Name PIT借上_通貨4: ⑤経費!$V$291
Name TL: ①基本条件!$C$11
Name WBS: ①基本条件!$C$4
Name プロジェクトコード: ①基本条件!$C$3
Name プロジェクト件名: ①基本条件!$C$5
Name リエゾン担当: ①基本条件!$C$14
Name 課長: ①基本条件!$C$13
Name 会議費計: ⑤経費!$J$146
Name 外注委託費計: ⑤経費!$J$54
Name 完成基準: ①基本条件!$C$16
Name 完成年度: ①基本条件!$C$15
Name 完成予定日: ①基本条件!$C$10
Name 経費_借上外注費及びPIT: ⑥経費一覧表!$D$19
Name 経費_人件費及びPIT: ⑥経費一覧表!$D$14
Name 経費売上額: ②売上計画!$D$48
Name 減価償却費計: ⑤経費!$J$229
Name 個人所得税計_借上分: ⑤経費!$J$291
Name 交際費計: ⑤経費!$J$158
Name 工期開始日: ①基本条件!$C$8
Name 工期終了日: ①基本条件!$C$9
Name 材料費計: ⑤経費!$J$28
Name 雑費計: ⑤経費!$J$318
Name 事務手数料計: ⑤経費!$J$302
Name 事務用品複写費計: ⑤経費!$J$122
Name 社員報酬額: ②売上計画!$D$16
Name 社員報酬売上高: ③人件費!$F$60
Name 借上外注費計: ④借上外注費!$N$152
Name 借上報酬額: ②売上計画!$D$22
Name 借上報酬額_通貨1: ④借上外注費!$E$37
Name 借上報酬額_通貨2: ④借上外注費!$D$75
Name 借上報酬額_通貨2_円: ④借上外注費!$E$75
Name 借上報酬額_通貨3: ④借上外注費!$D$108
Name 借上報酬額_通貨3_円: ④借上外注費!$E$108
Name 借上報酬額_通貨4: ④借上外注費!$D$141
Name 借上報酬額_通貨4_円: ④借上外注費!$E$141
Name 主管部: ①基本条件!$C$6
Name 修繕維持費計: ⑤経費!$J$169
Name 所長: ①基本条件!$C$12
Name 諸賃借料計: ⑤経費!$J$195
Name 人件費計: ③人件費!$N$57
Name 租税公課計: ⑤経費!$J$255
Name 地代家賃計: ⑤経費!$J$242
Name 通貨1: ①基本条件!$C$19
Name 通貨1レート: ①基本条件!$C$20
Name 通貨1単位: ①基本条件!$C$21
Name 通貨2: ①基本条件!$D$19
Name 通貨2レート: ①基本条件!$D$20
Name 通貨2単位: ①基本条件!$D$21

Sheet ①基本条件
B2: プロジェクト基本情報入力
B3: プロジェクトコード | C3: JA15R1003P | E3: ※黄色いセルを入力してください。
B4: WBS | C4: JA15R1003
B5: プロジェクト件名 | C5: ハノイ環状3号線マイジック～南タンロン区間実施設計
B6: 主管部 | C6: KR
B7: 分担部 | C7: KR
B8: 工期開始日
B9: 工期終了日
B10: 完成予定日
B11: TL | C11: 石本 一鶴
B12: 所長 | C12: 前田 哲哉
B13: 課長 | C13: 野末康博
B14: リエゾン担当 | C14: なし
B15: 完成年度 | C15: 2017年度
B16: 完成基準 | C16: 出来高
C18: 通貨1 | D18: 通貨2 | E18: 通貨3 | F18: 通貨4
B19: 種類 | C19: YEN
B20: 前年度月末レート | C20: =IF(通貨1="",0,VLOOKUP(通貨1,T_為替[[#All],[CODE]:[JUN]],2,FALSE)) -> 1 | D20: =IF(通貨2="",0,VLOOKUP(通貨2,T_為替[[#All],[CODE]:[JUN]],2,FALSE)) -> 0 | E20: =IF(通貨3="",0,VLOOKUP(通貨3,T_為替[[#All],[CODE]:[JUN]],2,FALSE)) -> 0 | F20: =IF(通貨4="",0,VLOOKUP(通貨4,T_為替[[#All],[CODE]:[JUN]],2,FALSE)) -> 0
B21: 表示単位 | C21: =IF(通貨1レート=0,0,IF(通貨1<0.01,1000,1)) -> 1 | D21: =IF(通貨2レート=0,0,IF(通貨2レート<0.01,1000,1)) -> 0 | E21: =IF(通貨3レート=0,0,IF(通貨3レート<0.01,1000,1)) -> 0 | F21: =IF(通貨4レート=0,0,IF(通貨4レート<0.01,1000,1)) -> 0
B22: ※通貨は、最大で４つまで指定できます。不要な通貨はブランクとしておいて下さい。 ※レートは別のシートから自動で検索します。 ※レートが0.01以下の場合は1000通貨単位で表示するようにします。 ※シートはエラー防止のためにロックしています。パスワードはかけていません。Alt-H-O-Pで解除できます。

Sheet ②売上計画
B2: 売上計画 | D2: 分担部 | E2: =分担部 -> KR | F2: WBS： | G2: =WBS -> JA15R1003
D3: 件名： | E3: =プロジェクト件名 -> ハノイ環状3号線マイジック～南タンロン区間実施設計
B5: ※黄色いセルに入力してください。 ※オレンジ色のセルは、他のシートとリンクしていますが、正しく表示されない場合には、直接入力して、上書きしてください。 | E5: 通貨1 | F5: 通貨2 | G5: 通貨3 | H5: 通貨4
D6: 通貨種類 | E6: =IF(通貨1="","",通貨1) -> YEN | F6: =IF(通貨2="","",通貨2) | G6: =IF(通貨3="","",通貨3) | H6: =IF(通貨4="","",通貨4)
D7: レート | E7: =通貨1レート -> 1 | F7: =通貨2レート -> 0 | G7: =通貨3レート -> 0 | H7: =通貨4レート -> 0
D8: 表示単位 | E8: =通貨1単位 -> 1 | F8: =通貨2単位 -> 0 | G8: =通貨3単位 -> 0 | H8: =通貨4単位 -> 0
B10: 報酬内訳 | D10: ※報酬額を社員と借上要員分に分けて合計額を入力してください。
B11: No. | C11: 項 目 | D11: 円換算値 | E11: =IF(通貨1="","",通貨1&"金額") -> YEN金額 | F11: =IF(通貨2="","",通貨2&"金額") | G11: =IF(通貨3="","",通貨3&"金額") | H11: =IF(通貨4="","",通貨4&"金額")
B12: 01 | C12: 社員報酬額（人件費シートより） | D12: =SUMPRODUCT(E$7:H$7,E$8:H$8,E12:H12) -> 0 | E12: =社員報酬売上高 -> 0
B13: 参考 | C13: 社員報酬額（JICA用報酬計算シートより） 計算には加えていません、検算用です。 | D13: =SUMPRODUCT(E$7:H$7,E$8:H$8,E13:H13) -> 0 | E13: =JICA社員報酬額 -> 0
B14: 02 | C14: 手入力 | D14: =SUMPRODUCT(E$7:H$7,E$8:H$8,E14:H14) -> 20866300 | E14: =17500000+3366300 -> 20866300
B15: 03 | C15: 端数調整 | D15: =SUMPRODUCT(E$7:H$7,E$8:H$8,E15:H15) -> 0 | E15: 0
C16: 社員報酬額 計 | D16: =SUM(D12:D15)-D13 -> 20866300 | E16: =SUM(E12:E15)-E13 -> 20866300 | F16: =SUM(F12:F15)-F13 -> 0 | G16: =SUM(G12:G15)-G13 -> 0 | H16: =SUM(H12:H15)-H13 -> 0
B18: 04 | C18: 借上報酬額（借上外注費シートより） | D18: =SUMPRODUCT(E$7:H$7,E$8:H$8,E18:H18) -> 0 | E18: =借上報酬額_通貨1 -> 0 | F18: =借上報酬額_通貨2 -> 0 | G18: =借上報酬額_通貨3 -> 0 | H18: =借上報酬額_通貨4 -> 0
B19: 参考 | C19: 借上報酬額（JICA用報酬計算シートより） 計算には加えていません、検算用です。 | D19: =SUMPRODUCT(E$7:H$7,E$8:H$8,E19:H19) -> 0 | E19: =JICA借上報酬額 -> 0
B20: 05 | C20: 手入力 | D20: =SUMPRODUCT(E$7:H$7,E$8:H$8,E20:H20) -> 20982500 | E20: 20982500
B21: 06 | C21: 端数調整 | D21: =SUMPRODUCT(E$7:H$7,E$8:H$8,E21:H21) -> 0
C22: 借上報酬額 計 | D22: =SUMPRODUCT(E$7:H$7,E$8:H$8,E22:H22) -> 20982500 | E22: =SUM(E18:E21)-E19 -> 20982500 | F22: =SUM(F18:F21)-F19 -> 0 | G22: =SUM(G18:G21)-G19 -> 0 | H22: =SUM(H18:H21)-H19 -> 0
C23: 報酬売上高 合計 | D23: =D22+D16 -> 41848800 | E23: =E22+E16 -> 41848800 | F23: =F22+F16 -> 0 | G23: =G22+G16 -> 0 | H23: =H22+H16 -> 0
B25: 契約MM内訳 | D25: ※報酬に対応するMMを社員と借上要員に分けて入力してください。
B26: No. | C26: 項 目 | D26: 契約MM計 | E26: =IF(通貨1="","",通貨1&"部分") -> YEN部分 | F26: =IF(通貨2="","",通貨2&"部分") | G26: =IF(通貨3="","",通貨3&"部分") | H26: =IF(通貨4="","",通貨4&"部分")
B27: 01 | C27: 社員分 | D27: =SUM(E27:H27) -> 10 | E27: 10
B28: 02 | C28: 借上分 | D28: =SUM(E28:H28) -> 12 | E28: 12 | F28: =④借上外注費!G71 -> 0 | G28: =④借上外注費!G104 -> 0 | H28: =④借上外注費!G137 -> 0
C29: 合 計 | D29: =SUM(D27:D28) -> 22 | E29: =SUM(E27:E28) -> 22 | F29: =SUM(F27:F28) -> 0 | G29: =SUM(G27:G28) -> 0 | H29: =SUM(H27:H28) -> 0
B31: 経費内訳 | D31: ※売上の内、経費部分に相当する金額を入力してください。
B32: No. | C32: 項 目 | D32: 円換算値 | E32: =IF(通貨1="","",通貨1&"金額") -> YEN金額 | F32: =IF(通貨2="","",通貨2&"金額") | G32: =IF(通貨3="","",通貨3&"金額") | H32: =IF(通貨4="","",通貨4&"金額")
B33: 01 | C33: 旅費（航空賃） | D33: =SUMPRODUCT(E$7:H$7,E$8:H$8,E33:H33) -> 2758000 | E33: 2758000
B34: 02 | C34: 旅費（その他：日当宿泊費、戦争特約保険料、特別手当） | D34: =SUMPRODUCT(E$7:H$7,E$8:H$8,E34:H34) -> 8202000 | E34: =8004000+198000 -> 8202000
B35: 03 | C35: 一般業務費 | D35: =SUMPRODUCT(E$7:H$7,E$8:H$8,E35:H35) -> 0
B36: 04 | C36: 成果品作成費 | D36: =SUMPRODUCT(E$7:H$7,E$8:H$8,E36:H36) -> 0
B37: 05 | C37: 機材費（機材購入費） | D37: =SUMPRODUCT(E$7:H$7,E$8:H$8,E37:H37) -> 0
B38: 06 | C38: 機材費（機材送料） | D38: =SUMPRODUCT(E$7:H$7,E$8:H$8,E38:H38) -> 0
B39: 07 | C39: 再委託費（現地再委託費） | D39: =SUMPRODUCT(E$7:H$7,E$8:H$8,E39:H39) -> 0
B40: 08 | C40: 再委託費（国内再委託費） | D40: =SUMPRODUCT(E$7:H$7,E$8:H$8,E40:H40) -> 0
B41: 09 | C41: 国内研修費（国別研修費） | D41: =SUMPRODUCT(E$7:H$7,E$8:H$8,E41:H41) -> 0
B42: 10 | C42: 国内研修費（国内ワークショップ等開催費） | D42: =SUMPRODUCT(E$7:H$7,E$8:H$8,E42:H42) -> 0
B43: 11 | C43: CIT （NK全体） | D43: =SUMPRODUCT(E$7:H$7,E$8:H$8,E43:H43) -> 4735237 | E43: 4735237
B44: 12 | D44: =SUMPRODUCT(E$7:H$7,E$8:H$8,E44:H44) -> 0
B45: 13 | D45: =SUMPRODUCT(E$7:H$7,E$8:H$8,E45:H45) -> 0
B46: 14 | D46: =SUMPRODUCT(E$7:H$7,E$8:H$8,E46:H46) -> 0
...

Sheet ③JICA用報酬計算
B1: JICA用B/R計算シート | G1: 分担部 | H1: =分担部 -> KR | J1: WBS： | L1: =WBS -> JA15R1003
G2: 件名： | H2: =プロジェクト件名 -> ハノイ環状3号線マイジック～南タンロン区間実施設計
B4: 氏名 | C4: 社員・借上 等区分 | D4: 格付 | E4: 月額単価 | F4: 派遣 期間 | G4: 直接人件費 | H4: 諸経 費率 | I4: 諸経費 | J4: 技術 経費率 | K4: 技術経費 | L4: 報酬額 | M4: B/R
E5: =IF(D5="",0,VLOOKUP(D5,テーブル9[[格付]:[採用単価]],2,FALSE)) -> 0 | G5: =E5*F5 -> 0 | I5: =G5*H5 -> 0 | K5: =(G5+I5)*J5 -> 0 | L5: =G5+I5+K5 -> 0 | M5: =IF(F5=0,0,L5/F5) -> 0
E6: =IF(D6="",0,VLOOKUP(D6,テーブル9[[格付]:[採用単価]],2,FALSE)) -> 0 | G6: =E6*F6 -> 0 | I6: =G6*H6 -> 0 | K6: =(G6+I6)*J6 -> 0 | L6: =G6+I6+K6 -> 0 | M6: =IF(F6=0,0,L6/F6) -> 0
E7: =IF(D7="",0,VLOOKUP(D7,テーブル9[[格付]:[採用単価]],2,FALSE)) -> 0 | G7: =E7*F7 -> 0 | I7: =G7*H7 -> 0 | K7: =(G7+I7)*J7 -> 0 | L7: =G7+I7+K7 -> 0 | M7: =IF(F7=0,0,L7/F7) -> 0
E8: =IF(D8="",0,VLOOKUP(D8,テーブル9[[格付]:[採用単価]],2,FALSE)) -> 0 | G8: =E8*F8 -> 0 | I8: =G8*H8 -> 0 | K8: =(G8+I8)*J8 -> 0 | L8: =G8+I8+K8 -> 0 | M8: =IF(F8=0,0,L8/F8) -> 0
E9: =IF(D9="",0,VLOOKUP(D9,テーブル9[[格付]:[採用単価]],2,FALSE)) -> 0 | G9: =E9*F9 -> 0 | I9: =G9*H9 -> 0 | K9: =(G9+I9)*J9 -> 0 | L9: =G9+I9+K9 -> 0 | M9: =IF(F9=0,0,L9/F9) -> 0
E10: =IF(D10="",0,VLOOKUP(D10,テーブル9[[格付]:[採用単価]],2,FALSE)) -> 0 | G10: =E10*F10 -> 0 | I10: =G10*H10 -> 0 | K10: =(G10+I10)*J10 -> 0 | L10: =G10+I10+K10 -> 0 | M10: =IF(F10=0,0,L10/F10) -> 0
E11: =IF(D11="",0,VLOOKUP(D11,テーブル9[[格付]:[採用単価]],2,FALSE)) -> 0 | G11: =E11*F11 -> 0 | I11: =G11*H11 -> 0 | K11: =(G11+I11)*J11 -> 0 | L11: =G11+I11+K11 -> 0 | M11: =IF(F11=0,0,L11/F11) -> 0
E12: =IF(D12="",0,VLOOKUP(D12,テーブル9[[格付]:[採用単価]],2,FALSE)) -> 0 | G12: =E12*F12 -> 0 | I12: =G12*H12 -> 0 | K12: =(G12+I12)*J12 -> 0 | L12: =G12+I12+K12 -> 0 | M12: =IF(F12=0,0,L12/F12) -> 0
E13: =IF(D13="",0,VLOOKUP(D13,テーブル9[[格付]:[採用単価]],2,FALSE)) -> 0 | G13: =E13*F13 -> 0 | I13: =G13*H13 -> 0 | K13: =(G13+I13)*J13 -> 0 | L13: =G13+I13+K13 -> 0 | M13: =IF(F13=0,0,L13/F13) -> 0
E14: =IF(D14="",0,VLOOKUP(D14,テーブル9[[格付]:[採用単価]],2,FALSE)) -> 0 | G14: =E14*F14 -> 0 | I14: =G14*H14 -> 0 | K14: =(G14+I14)*J14 -> 0 | L14: =G14+I14+K14 -> 0 | M14: =IF(F14=0,0,L14/F14) -> 0
E15: =IF(D15="",0,VLOOKUP(D15,テーブル9[[格付]:[採用単価]],2,FALSE)) -> 0 | G15: =E15*F15 -> 0 | I15: =G15*H15 -> 0 | K15: =(G15+I15)*J15 -> 0 | L15: =G15+I15+K15 -> 0 | M15: =IF(F15=0,0,L15/F15) -> 0
E16: =IF(D16="",0,VLOOKUP(D16,テーブル9[[格付]:[採用単価]],2,FALSE)) -> 0 | G16: =E16*F16 -> 0 | I16: =G16*H16 -> 0 | K16: =(G16+I16)*J16 -> 0 | L16: =G16+I16+K16 -> 0 | M16: =IF(F16=0,0,L16/F16) -> 0
... E21: =IF(D21="",0,VLOOKUP(D21,テーブル9[[格付]:[採用単価]],2,FALSE)) -> 0 | G21: =E21*F21 -> 0 | I21: =G21*H21 -> 0 | K21: =(G21+I21)*J21 -> 0 | L21: =G21+I21+K21 -> 0 | M21: =IF(F21=0,0,L21/F21) -> 0
E22: =IF(D22="",0,VLOOKUP(D22,テーブル9[[格付]:[採用単価]],2,FALSE)) -> 0 | G22: =E22*F22 -> 0 | I22: =G22*H22 -> 0 | K22: =(G22+I22)*J22 -> 0 | L22: =G22+I22+K22 -> 0 | M22: =IF(F22=0,0,L22/F22) -> 0 | O22: 格 付 | P22: このシートの採用単価 | Q22: 基準月額（円）
E23: =IF(D23="",0,VLOOKUP(D23,テーブル9[[格付]:[採用単価]],2,FALSE)) -> 0 | G23: =E23*F23 -> 0 | I23: =G23*H23 -> 0 | K23: =(G23+I23)*J23 -> 0 | L23: =G23+I23+K23 -> 0 | M23: =IF(F23=0,0,L23/F23) -> 0 | Q23: 2013年度 | R23: 2014年度 | S23: 2015年度 | T23: 2016年度 | U23: 2017年度 | V23: 2018年度
E24: =IF(D24="",0,VLOOKUP(D24,テーブル9[[格付]:[採用単価]],2,FALSE)) -> 0 | G24: =E24*F24 -> 0 | I24: =G24*H24 -> 0 | K24: =(G24+I24)*J24 -> 0 | L24: =G24+I24+K24 -> 0 | M24: =IF(F24=0,0,L24/F24) -> 0 | O24: 格付 | P24: 採用単価 | Q24: 2013年度 | R24: 2014年度 | S24: 2015年度 | T24: 2016年度 | U24: 2017年度 | V24: 2018年度
E25: =IF(D25="",0,VLOOKUP(D25,テーブル9[[格付]:[採用単価]],2,FALSE)) -> 0 | G25: =E25*F25 -> 0 | I25: =G25*H25 -> 0 | K25: =(G25+I25)*J25 -> 0 | L25: =G25+I25+K25 -> 0 | M25: =IF(F25=0,0,L25/F25) -> 0 | O25: 特 | P25: 1094000 | Q25: 1094000 | R25: 1140000 | S25: 1202000
E26: =IF(D26="",0,VLOOKUP(D26,テーブル9[[格付]:[採用単価]],2,FALSE)) -> 0 | G26: =E26*F26 -> 0 | I26: =G26*H26 -> 0 | K26: =(G26+I26)*J26 -> 0 | L26: =G26+I26+K26 -> 0 | M26: =IF(F26=0,0,L26/F26) -> 0 | O26: 1 | P26: 1016000 | Q26: 1016000 | R26: 1058000 | S26: 1116000
E27: =IF(D27="",0,VLOOKUP(D27,テーブル9[[格付]:[採用単価]],2,FALSE)) -> 0 | G27: =E27*F27 -> 0 | I27: =G27*H27 -> 0 | K27: =(G27+I27)*J27 -> 0 | L27: =G27+I27+K27 -> 0 | M27: =IF(F27=0,0,L27/F27) -> 0 | O27: 2 | P27: 894000 | Q27: 894000 | R27: 940000 | S27: 990000
E28: =IF(D28="",0,VLOOKUP(D28,テーブル9[[格付]:[採用単価]],2,FALSE)) -> 0 | G28: =E28*F28 -> 0 | I28: =G28*H28 -> 0 | K28: =(G28+I28)*J28 -> 0 | L28: =G28+I28+K28 -> 0 | M28: =IF(F28=0,0,L28/F28) -> 0 | O28: 3 | P28: 778000 | Q28: 778000 | R28: 820000 | S28: 856000
E29: =IF(D29="",0,VLOOKUP(D29,テーブル9[[格付]:[採用単価]],2,FALSE)) -> 0 | G29: =E29*F29 -> 0 | I29: =G29*H29 -> 0 | K29: =(G29+I29)*J29 -> 0 | L29: =G29+I29+K29 -> 0 | M29: =IF(F29=0,0,L29/F29) -> 0 | O29: 4 | P29: 630000 | Q29: 630000 | R29: 668000 | S29: 702000
E30: =IF(D30="",0,VLOOKUP(D30,テーブル9[[格付]:[採用単価]],2,FALSE)) -> 0 | G30: =E30*F30 -> 0 | I30: =G30*H30 -> 0 | K30: =(G30+I30)*J30 -> 0 | L30: =G30+I30+K30 -> 0 | M30: =IF(F30=0,0,L30/F30) -> 0 | O30: 5 | P30: 524000 | Q30: 524000 | R30: 542000 | S30: 568000
E31: =IF(D31="",0,VLOOKUP(D31,テーブル9[[格付]:[採用単価]],2,FALSE)) -> 0 | G31: =E31*F31 -> 0 | I31: =G31*H31 -> 0 | K31: =(G31+I31)*J31 -> 0 | L31: =G31+I31+K31 -> 0 | M31: =IF(F31=0,0,L31/F31) -> 0 | O31: 6 | P31: 436000 | Q31: 436000 | R31: 452000 | S31: 476000
E32: =IF(D32="",0,VLOOKUP(D32,テーブル9[[格付]:[採用単価]],2,FALSE)) -> 0 | G32: =E32*F32 -> 0 | I32: =G32*H32 -> 0 | K32: =(G32+I32)*J32 -> 0 | L32: =G32+I32+K32 -> 0 | M32: =IF(F32=0,0,L32/F32) -> 0
E33: =IF(D33="",0,VLOOKUP(D33,テーブル9[[格付]:[採用単価]],2,FALSE)) -> 0 | G33: =E33*F33 -> 0 | I33: =G33*H33 -> 0 | K33: =(G33+I33)*J33 -> 0 | L33: =G33+I33+K33 -> 0 | M33: =IF(F33=0,0,L33/F33) -> 0
E34: =IF(D34="",0,VLOOKUP(D34,テーブル9[[格付]:[採用単価]],2,FALSE)) -> 0 | G34: =E34*F34 -> 0 | I34: =G34*H34 -> 0 | K34: =(G34+I34)*J34 -> 0 | L34: =G34+I34+K34 -> 0 | M34: =IF(F34=0,0,L34/F34) -> 0
E35: =IF(D35="",0,VLOOKUP(D35,テーブル9[[格付]:[採用単価]],2,FALSE)) -> 0 | G35: =E35*F35 -> 0 | I35: =G35*H35 -> 0 | K35: =(G35+I35)*J35 -> 0 | L35: =G35+I35+K35 -> 0 | M35: =IF(F35=0,0,L35/F35) -> 0
E36: =IF(D36="",0,VLOOKUP(D36,テーブル9[[格付]:[採用単価]],2,FALSE)) -> 0 | G36: =E36*F36 -> 0 | I36: =G36*H36 -> 0 | K36: =(G36+I36)*J36 -> 0 | L36: =G36+I36+K36 -> 0 | M36: =IF(F36=0,0,L36/F36) -> 0
E37: =IF(D37="",0,VLOOKUP(D37,テーブル9[[格付]:[採用単価]],2,FALSE)) -> 0 | G37: =E37*F37 -> 0 | I37: =G37*H37 -> 0 | K37: =(G37+I37)*J37 -> 0 | L37: =G37+I37+K37 -> 0 | M37: =IF(F37=0,0,L37/F37) -> 0
E38: =IF(D38="",0,VLOOKUP(D38,テーブル9[[格付]:[採用単価]],2,FALSE)) -> 0 | G38: =E38*F38 -> 0 | I38: =G38*H38 -> 0 | K38: =(G38+I38)*J38 -> 0 | L38: =G38+I38+K38 -> 0 | M38: =IF(F38=0,0,L38/F38) -> 0
E39: =IF(D39="",0,VLOOKUP(D39,テーブル9[[格付]:[採用単価]],2,FALSE)) -> 0 | G39: =E39*F39 -> 0 | I39: =G39*H39 -> 0 | K39: =(G39+I39)*J39 -> 0 | L39: =G39+I39+K39 -> 0 | M39: =IF(F39=0,0,L39/F39) -> 0
E40: =IF(D40="",0,VLOOKUP(D40,テーブル9[[格付]:[採用単価]],2,FALSE)) -> 0 | G40: =E40*F40 -> 0 | I40: =G40*H40 -> 0 | K40: =(G40+I40)*J40 -> 0 | L40: =G40+I40+K40 -> 0 | M40: =IF(F40=0,0,L40/F40) -> 0
E41: =IF(D41="",0,VLOOKUP(D41,テーブル9[[格付]:[採用単価]],2,FALSE)) -> 0 | G41: =E41*F41 -> 0 | I41: =G41*H41 -> 0 | K41: =(G41+I41)*J41 -> 0 | L41: =G41+I41+K41 -> 0 | M41: =IF(F41=0,0,L41/F41) -> 0
E42: =IF(D42="",0,VLOOKUP(D42,テーブル9[[格付]:[採用単価]],2,FALSE)) -> 0 | G42: =E42*F42 -> 0 | I42: =G42*H42 -> 0 | K42: =(G42+I42)*J42 -> 0 | L42: =G42+I42+K42 -> 0 | M42: =IF(F42=0,0,L42/F42) -> 0
E43: =IF(D43="",0,VLOOKUP(D43,テーブル9[[格付]:[採用単価]],2,FALSE)) -> 0 | G43: =E43*F43 -> 0 | I43: =G43*H43 -> 0 | K43: =(G43+I43)*J43 -> 0 | L43: =G43+I43+K43 -> 0 | M43: =IF(F43=0,0,L43/F43) -> 0
... E55: =IF(D55="",0,VLOOKUP(D55,テーブル9[[格付]:[採用単価]],2,FALSE)) -> 0 | G55: =E55*F55 -> 0 | I55: =G55*H55 -> 0 | K55: =(G55+I55)*J55 -> 0 | L55: =G55+I55+K55 -> 0 | M55: =IF(F55=0,0,L55/F55) -> 0
B56: 計 | F56: =SUM(F5:F55) -> 0 | G56: =SUM(G5:G55) -> 0 | I56: =SUM(I5:I55) -> 0 | K56: =SUM(K5:K55) -> 0 | L56: =SUM(L5:L55) -> 0 | M56: =SUM(M5:M55) -> 0
...

Sheet ③人件費
B1: 社員人件費内訳表 | H1: 分担部 | I1: =分担部 -> KR | K1: WBS： | M1: =WBS -> JA15R1003
H2: 件名： | I2: =プロジェクト件名 -> ハノイ環状3号線マイジック～南タンロン区間実施設計
B4: 番号 | C4: 社員番号 | D4: 氏名 | E4: 所属 | F4: 資格 | G4: 受注B/R | H4: 社内賃率 | I4: MM | N4: 人件費
I5: 契約 | J5: 金額 | K5: 非契約 | L5: 金額 | M5: 合計
B6: 01 | D6: =IF(C6="","",VLOOKUP(C6,T_従業員[],2,FALSE)) | E6: =IF(C6="","",VLOOKUP(C6,T_従業員[],5,FALSE)) | F6: =IF(C6="","",VLOOKUP(C6,T_従業員[],8,FALSE)) | H6: =IF(F6="",0,VLOOKUP(F6,T_資格[[資格名称]:[月間賃率]],2,FALSE)) -> 0 | J6: =$H6*I6 -> 0 | L6: =$H6*K6 -> 0 | M6: =I6+K6 -> 0 | N6: =$H6*M6 -> 0
B7: 02 | D7: =IF(C7="","",VLOOKUP(C7,T_従業員[],2,FALSE)) | E7: =IF(C7="","",VLOOKUP(C7,T_従業員[],5,FALSE)) | F7: =IF(C7="","",VLOOKUP(C7,T_従業員[],8,FALSE)) | H7: =IF(F7="",0,VLOOKUP(F7,T_資格[[資格名称]:[月間賃率]],2,FALSE)) -> 0 | J7: =$H7*I7 -> 0 | L7: =$H7*K7 -> 0 | M7: =I7+K7 -> 0 | N7: =H7*M7 -> 0
B8: 03 | D8: =IF(C8="","",VLOOKUP(C8,T_従業員[],2,FALSE)) | E8: =IF(C8="","",VLOOKUP(C8,T_従業員[],5,FALSE)) | F8: =IF(C8="","",VLOOKUP(C8,T_従業員[],8,FALSE)) | H8: =IF(F8="",0,VLOOKUP(F8,T_資格[[資格名称]:[月間賃率]],2,FALSE)) -> 0 | J8: =$H8*I8 -> 0 | L8: =$H8*K8 -> 0 | M8: =I8+K8 -> 0 | N8: =H8*M8 -> 0
B9: 04 | D9: =IF(C9="","",VLOOKUP(C9,T_従業員[],2,FALSE)) | E9: =IF(C9="","",VLOOKUP(C9,T_従業員[],5,FALSE)) | F9: =IF(C9="","",VLOOKUP(C9,T_従業員[],8,FALSE)) | H9: =IF(F9="",0,VLOOKUP(F9,T_資格[[資格名称]:[月間賃率]],2,FALSE)) -> 0 | J9: =$H9*I9 -> 0 | L9: =$H9*K9 -> 0 | M9: =I9+K9 -> 0 | N9: =H9*M9 -> 0
B10: 05 | D10: =IF(C10="","",VLOOKUP(C10,T_従業員[],2,FALSE)) | E10: =IF(C10="","",VLOOKUP(C10,T_従業員[],5,FALSE)) | F10: =IF(C10="","",VLOOKUP(C10,T_従業員[],8,FALSE)) | H10: =IF(F10="",0,VLOOKUP(F10,T_資格[[資格名称]:[月間賃率]],2,FALSE)) -> 0 | J10: =$H10*I10 -> 0 | L10: =$H10*K10 -> 0 | M10: =I10+K10 -> 0 | N10: =H10*M10 -> 0
B11: 06 | D11: =IF(C11="","",VLOOKUP(C11,T_従業員[],2,FALSE)) | E11: =IF(C11="","",VLOOKUP(C11,T_従業員[],5,FALSE)) | F11: =IF(C11="","",VLOOKUP(C11,T_従業員[],8,FALSE)) | H11: =IF(F11="",0,VLOOKUP(F11,T_資格[[資格名称]:[月間賃率]],2,FALSE)) -> 0 | J11: =$H11*I11 -> 0 | L11: =$H11*K11 -> 0 | M11: =I11+K11 -> 0 | N11: =H11*M11 -> 0
B12: 07 | D12: =IF(C12="","",VLOOKUP(C12,T_従業員[],2,FALSE)) | E12: =IF(C12="","",VLOOKUP(C12,T_従業員[],5,FALSE)) | F12: =IF(C12="","",VLOOKUP(C12,T_従業員[],8,FALSE)) | H12: =IF(F12="",0,VLOOKUP(F12,T_資格[[資格名称]:[月間賃率]],2,FALSE)) -> 0 | J12: =$H12*I12 -> 0 | L12: =$H12*K12 -> 0 | M12: =I12+K12 -> 0 | N12: =H12*M12 -> 0
B13: 08 | D13: =IF(C13="","",VLOOKUP(C13,T_従業員[],2,FALSE)) | E13: =IF(C13="","",VLOOKUP(C13,T_従業員[],5,FALSE)) | F13: =IF(C13="","",VLOOKUP(C13,T_従業員[],8,FALSE)) | H13: =IF(F13="",0,VLOOKUP(F13,T_資格[[資格名称]:[月間賃率]],2,FALSE)) -> 0 | J13: =$H13*I13 -> 0 | L13: =$H13*K13 -> 0 | M13: =I13+K13 -> 0 | N13: =H13*M13 -> 0
B14: 09 | D14: =IF(C14="","",VLOOKUP(C14,T_従業員[],2,FALSE)) | E14: =IF(C14="","",VLOOKUP(C14,T_従業員[],5,FALSE)) | F14: =IF(C14="","",VLOOKUP(C14,T_従業員[],8,FALSE)) | H14: =IF(F14="",0,VLOOKUP(F14,T_資格[[資格名称]:[月間賃率]],2,FALSE)) -> 0 | J14: =$H14*I14 -> 0 | L14: =$H14*K14 -> 0 | M14: =I14+K14 -> 0 | N14: =H14*M14 -> 0
B15: 10 | D15: =IF(C15="","",VLOOKUP(C15,T_従業員[],2,FALSE)) | E15: =IF(C15="","",VLOOKUP(C15,T_従業員[],5,FALSE)) | F15: =IF(C15="","",VLOOKUP(C15,T_従業員[],8,FALSE)) | H15: =IF(F15="",0,VLOOKUP(F15,T_資格[[資格名称]:[月間賃率]],2,FALSE)) -> 0 | J15: =$H15*I15 -> 0 | L15: =$H15*K15 -> 0 | M15: =I15+K15 -> 0 | N15: =H15*M15 -> 0
B16: 11 | D16: =IF(C16="","",VLOOKUP(C16,T_従業員[],2,FALSE)) | E16: =IF(C16="","",VLOOKUP(C16,T_従業員[],5,FALSE)) | F16: =IF(C16="","",VLOOKUP(C16,T_従業員[],8,FALSE)) | H16: =IF(F16="",0,VLOOKUP(F16,T_資格[[資格名称]:[月間賃率]],2,FALSE)) -> 0 | J16: =$H16*I16 -> 0 | L16: =$H16*K16 -> 0 | M16: =I16+K16 -> 0 | N16: =H16*M16 -> 0
B17: 12 | D17: =IF(C17="","",VLOOKUP(C17,T_従業員[],2,FALSE)) | E17: =IF(C17="","",VLOOKUP(C17,T_従業員[],5,FALSE)) | F17: =IF(C17="","",VLOOKUP(C17,T_従業員[],8,FALSE)) | H17: =IF(F17="",0,VLOOKUP(F17,T_資格[[資格名称]:[月間賃率]],2,FALSE)) -> 0 | J17: =$H17*I17 -> 0 | L17: =$H17*K17 -> 0 | M17: =I17+K17 -> 0 | N17: =H17*M17 -> 0
B18: 13 | D18: =IF(C18="","",VLOOKUP(C18,T_従業員[],2,FALSE)) | E18: =IF(C18="","",VLOOKUP(C18,T_従業員[],5,FALSE)) | F18: =IF(C18="","",VLOOKUP(C18,T_従業員[],8,FALSE)) | H18: =IF(F18="",0,VLOOKUP(F18,T_資格[[資格名称]:[月間賃率]],2,FALSE)) -> 0 | J18: =$H18*I18 -> 0 | L18: =$H18*K18 -> 0 | M18: =I18+K18 -> 0 | N18: =H18*M18 -> 0
... B55: 50 | D55: =IF(C55="","",VLOOKUP(C55,T_従業員[],2,FALSE)) | E55: =IF(C55="","",VLOOKUP(C55,T_従業員[],5,FALSE)) | F55: =IF(C55="","",VLOOKUP(C55,T_従業員[],8,FALSE)) | H55: =IF(F55="",0,VLOOKUP(F55,T_資格[[資格名称]:[月間賃率]],2,FALSE)) -> 0 | J55: =$H55*I55 -> 0 | L55: =$H55*K55 -> 0 | M55: =I55+K55 -> 0 | N55: =H55*M55 -> 0
C56: ※行を追加する必要がある場合には、この行の上に追加してください。
D57: 合計 | I57: =SUM(I6:I56) -> 0 | J57: =SUM(J6:J56) -> 0 | K57: =SUM(K6:K56) -> 0 | L57: =SUM(L6:L56) -> 0 | M57: =SUM(M6:M56) -> 0 | N57: =SUM(N6:N56) -> 0
D59: 項目 | F59: 金額 | G59: 社員報酬 利益率 | H59: 項目 | I59: MM | J59: 金額 | K59: 持出 MM率 | L59: 項目 | N59: 金額
D60: 報酬売上 | F60: =SUMPRODUCT(I6:I55,G6:G55) -> 0 | H60: 契 約 | I60: =I57 -> 0 | J60: =J57 -> 0 | L60: 平均賃率 | M60: 契 約 | N60: =IF(I57<>0,J57/I57,0) -> 0
D61: 人件費 | F61: =人件費計 -> 0 | H61: 非契約 | I61: =K57 -> 0 | J61: =L57 -> 0 | K61: =IF(J60=0,0,J61/J60) -> 0 | M61: 非契約 | N61: =IF(K57<>0,L57/K57,0) -> 0
D62: 報酬利益 | F62: =F60-F61 -> 0 | G62: =IF(F62=0,0,F62/F60) -> 0 | H62: 合 計 | I62: =I60+I61 -> 0 | J62: =J60+J61 -> 0 | M62: 全 体 | N62: =IF(M57<>0,人件費計/M57,0) -> 0
D64: ③JICA用報酬計算シートで入力した売上高は次のとおりです。
D65: =JICA社員報酬額 -> 0

Sheet ④借上外注費
B1: 借上外注費内訳表 | I1: 分担部 | K1: =分担部 -> KR | M1: WBS： | O1: =WBS -> JA15R1003
I2: 件名： | K2: =プロジェクト件名 -> ハノイ環状3号線マイジック～南タンロン区間実施設計
B4: 借上外注費内訳（通貨1） | F4: 通貨1: | H4: =通貨1 -> YEN | J4: 通貨1レート: | L4: =通貨1レート -> 1 | M4: 通貨1表示単位: | O4: =通貨1単位 -> 1
B6: 番号 | C6: 氏名 | D6: 所属 | E6: 受注BR | F6: 契約MM | J6: 非契約MM | M6: 発注額計
F7: 発注単価 | G7: MM | H7: 発注金額 | I7: 発注率 | J7: 発注単価 | K7: MM | L7: 発注金額 | M7: MM | N7: 発注金額計 | O7: 実質 発注単価 | P7: 実質 発注率
B8: 01 | H8: =F8*G8 -> 0 | I8: =IF(E8=0,0,F8/E8) -> 0 | L8: =J8*K8 -> 0 | M8: =G8+K8 -> 0 | N8: =H8+L8 -> 0 | O8: =IF(G8=0,0,N8/G8) -> 0 | P8: =IF(E8=0,0,O8/E8) -> 0
B9: 02 | H9: =F9*G9 -> 0 | I9: =IF(E9=0,0,F9/E9) -> 0 | L9: =J9*K9 -> 0 | M9: =G9+K9 -> 0 | N9: =H9+L9 -> 0 | O9: =IF(G9=0,0,N9/G9) -> 0 | P9: =IF(E9=0,0,O9/E9) -> 0
B10: 03 | H10: =F10*G10 -> 0 | I10: =IF(E10=0,0,F10/E10) -> 0 | L10: =J10*K10 -> 0 | M10: =G10+K10 -> 0 | N10: =H10+L10 -> 0 | O10: =IF(G10=0,0,N10/G10) -> 0 | P10: =IF(E10=0,0,O10/E10) -> 0
B11: 04 | H11: =F11*G11 -> 0 | I11: =IF(E11=0,0,F11/E11) -> 0 | L11: =J11*K11 -> 0 | M11: =G11+K11 -> 0 | N11: =H11+L11 -> 0 | O11: =IF(G11=0,0,N11/G11) -> 0 | P11: =IF(E11=0,0,O11/E11) -> 0
B12: 05 | H12: =F12*G12 -> 0 | I12: =IF(E12=0,0,F12/E12) -> 0 | L12: =J12*K12 -> 0 | M12: =G12+K12 -> 0 | N12: =H12+L12 -> 0 | O12: =IF(G12=0,0,N12/G12) -> 0 | P12: =IF(E12=0,0,O12/E12) -> 0
B13: 06 | H13: =F13*G13 -> 0 | I13: =IF(E13=0,0,F13/E13) -> 0 | L13: =J13*K13 -> 0 | M13: =G13+K13 -> 0 | N13: =H13+L13 -> 0 | O13: =IF(G13=0,0,N13/G13) -> 0 | P13: =IF(E13=0,0,O13/E13) -> 0
B14: 07 | H14: =F14*G14 -> 0 | I14: =IF(E14=0,0,F14/E14) -> 0 | L14: =J14*K14 -> 0 | M14: =G14+K14 -> 0 | N14: =H14+L14 -> 0 | O14: =IF(G14=0,0,N14/G14) -> 0 | P14: =IF(E14=0,0,O14/E14) -> 0
B15: 08 | H15: =F15*G15 -> 0 | I15: =IF(E15=0,0,F15/E15) -> 0 | L15: =J15*K15 -> 0 | M15: =G15+K15 -> 0 | N15: =H15+L15 -> 0 | O15: =IF(G15=0,0,N15/G15) -> 0 | P15: =IF(E15=0,0,O15/E15) -> 0
B16: 09 | H16: =F16*G16 -> 0 | I16: =IF(E16=0,0,F16/E16) -> 0 | L16: =J16*K16 -> 0 | M16: =G16+K16 -> 0 | N16: =H16+L16 -> 0 | O16: =IF(G16=0,0,N16/G16) -> 0 | P16: =IF(E16=0,0,O16/E16) -> 0
B17: 10 | H17: =F17*G17 -> 0 | I17: =IF(E17=0,0,F17/E17) -> 0 | L17: =J17*K17 -> 0 | M17: =G17+K17 -> 0 | N17: =H17+L17 -> 0 | O17: =IF(G17=0,0,N17/G17) -> 0 | P17: =IF(E17=0,0,O17/E17) -> 0
B18: 11 | H18: =F18*G18 -> 0 | I18: =IF(E18=0,0,F18/E18) -> 0 | L18: =J18*K18 -> 0 | M18: =G18+K18 -> 0 | N18: =H18+L18 -> 0 | O18: =IF(G18=0,0,N18/G18) -> 0 | P18: =IF(E18=0,0,O18/E18) -> 0
B19: 12 | H19: =F19*G19 -> 0 | I19: =IF(E19=0,0,F19/E19) -> 0 | L19: =J19*K19 -> 0 | M19: =G19+K19 -> 0 | N19: =H19+L19 -> 0 | O19: =IF(G19=0,0,N19/G19) -> 0 | P19: =IF(E19=0,0,O19/E19) -> 0
... B32: 25 | H32: =F32*G32 -> 0 | I32: =IF(E32=0,0,F32/E32) -> 0 | L32: =J32*K32 -> 0 | M32: =G32+K32 -> 0 | N32: =H32+L32 -> 0 | O32: =IF(G32=0,0,N32/G32) -> 0 | P32: =IF(E32=0,0,O32/E32) -> 0
C33: ※行を追加する必要がある場合には、この行の上に追加してください。
C34: 合計 | D34: 円貨 | G34: =SUM(G8:G33) -> 0 | H34: =SUM(H8:H33) -> 0 | K34: =SUM(K8:K33) -> 0 | L34: =SUM(L8:L33) -> 0 | M34: =SUM(M8:M33) -> 0 | N34: =SUM(N8:N33) -> 0
E36: 金額 | F36: 率 | J36: 金額 | K36: 率 | O36: 金額等
D37: 売上総額 | E37: =SUMPRODUCT($E$8:$E$33,$G$8:$G$33)*L4*O4 -> 0 | I37: 契約平均BR | J37: =IF(G34=0,0,SUMPRODUCT(E8:E33,G8:G33)/G34) -> 0 | N37: 契約平均BR | O37: =J37 -> 0
D38: 発注総額 | E38: =N34 -> 0 | F38: =IF(E37=0,0,E38/E37) -> 0 | I38: 契約平均発注単価 | J38: =IF(G34=0,0,H34/G34) -> 0 | K38: =IF(J37=0,0,J38/J37) -> 0 | N38: 実質発注単価 | O38: =IF(G34=0,0,N34/G34) -> 0
D39: 売上利益 | E39: =E37-E38 -> 0 | F39: =IF(E37=0,0,E39/E37) -> 0 | I39: 非契約平均発注単価 | J39: =IF(K34=0,0,L34/K34) -> 0 | K39: =IF(J37=0,0,J39/J37) -> 0 | N39: 実質発注率 | O39: =IF(O37=0,0,O38/O37) -> 0
B41: 借上外注費内訳（通貨2） | G41: 通貨2： | H41: =IF(通貨2="","",通貨2) | J41: 通貨2レート: | L41: =通貨2レート -> 0 | M41: 通貨2表示単位: | O41: =通貨2単位 -> 0
B43: 番号 | C43: 氏名 | D43: 所属 | E43: 受注BR | F43: 契約MM | J43: 非契約MM | M43: 発注額計
F44: 発注単価 | G44: MM | H44: 金額 | I44: 発注率 | J44: 発注単価 | K44: MM | L44: 金額 | M44: MM | N44: 金額計 | O44: 実質 発注単価 | P44: 実質 発注率
B45: 01 | H45: =F45*G45 -> 0 | I45: =IF(E45=0,0,F45/E45) -> 0 | L45: =J45*K45 -> 0 | M45: =G45+K45 -> 0 | N45: =H45+L45 -> 0 | O45: =IF(G45=0,0,N45/G45) -> 0 | P45: =IF(E45=0,0,O45/E45) -> 0
B46: 02 | H46: =F46*G46 -> 0 | I46: =IF(E46=0,0,F46/E46) -> 0 | L46: =J46*K46 -> 0 | M46: =G46+K46 -> 0 | N46: =H46+L46 -> 0 | O46: =IF(G46=0,0,N46/G46) -> 0 | P46: =IF(E46=0,0,O46/E46) -> 0
B47: 03 | H47: =F47*G47 -> 0 | I47: =IF(E47=0,0,F47/E47) -> 0 | L47: =J47*K47 -> 0 | M47: =G47+K47 -> 0 | N47: =H47+L47 -> 0 | O47: =IF(G47=0,0,N47/G47) -> 0 | P47: =IF(E47=0,0,O47/E47) -> 0
B48: 04 | H48: =F48*G48 -> 0 | I48: =IF(E48=0,0,F48/E48) -> 0 | L48: =J48*K48 -> 0 | M48: =G48+K48 -> 0 | N48: =H48+L48 -> 0 | O48: =IF(G48=0,0,N48/G48) -> 0 | P48: =IF(E48=0,0,O48/E48) -> 0
B49: 05 | H49: =F49*G49 -> 0 | I49: =IF(E49=0,0,F49/E49) -> 0 | L49: =J49*K49 -> 0 | M49: =G49+K49 -> 0 | N49: =H49+L49 -> 0 | O49: =IF(G49=0,0,N49/G49) -> 0 | P49: =IF(E49=0,0,O49/E49) -> 0
B50: 06 | H50: =F50*G50 -> 0 | I50: =IF(E50=0,0,F50/E50) -> 0 | L50: =J50*K50 -> 0 | M50: =G50+K50 -> 0 | N50: =H50+L50 -> 0 | O50: =IF(G50=0,0,N50/G50) -> 0 | P50: =IF(E50=0,0,O50/E50) -> 0
B51: 07 | H51: =F51*G51 -> 0 | I51: =IF(E51=0,0,F51/E51) -> 0 | L51: =J51*K51 -> 0 | M51: =G51+K51 -> 0 | N51: =H51+L51 -> 0 | O51: =IF(G51=0,0,N51/G51) -> 0 | P51: =IF(E51=0,0,O51/E51) -> 0
B52: 08 | H52: =F52*G52 -> 0 | I52: =IF(E52=0,0,F52/E52) -> 0 | L52: =J52*K52 -> 0 | M52: =G52+K52 -> 0 | N52: =H52+L52 -> 0 | O52: =IF(G52=0,0,N52/G52) -> 0 | P52: =IF(E52=0,0,O52/E52) -> 0
B53: 09 | H53: =F53*G53 -> 0 | I53: =IF(E53=0,0,F53/E53) -> 0 | L53: =J53*K53 -> 0 | M53: =G53+K53 -> 0 | N53: =H53+L53 -> 0 | O53: =IF(G53=0,0,N53/G53) -> 0 | P53: =IF(E53=0,0,O53/E53) -> 0
B54: 10 | H54: =F54*G54 -> 0 | I54: =IF(E54=0,0,F54/E54) -> 0 | L54: =J54*K54 -> 0 | M54: =G54+K54 -> 0 | N54: =H54+L54 -> 0 | O54: =IF(G54=0,0,N54/G54) -> 0 | P54: =IF(E54=0,0,O54/E54) -> 0
B55: 11 | H55: =F55*G55 -> 0 | I55: =IF(E55=0,0,F55/E55) -> 0 | L55: =J55*K55 -> 0 | M55: =G55+K55 -> 0 | N55: =H55+L55 -> 0 | O55: =IF(G55=0,0,N55/G55) -> 0 | P55: =IF(E55=0,0,O55/E55) -> 0
B56: 12 | H56: =F56*G56 -> 0 | I56: =IF(E56=0,0,F56/E56) -> 0 | L56: =J56*K56 -> 0 | M56: =G56+K56 -> 0 | N56: =H56+L56 -> 0 | O56: =IF(G56=0,0,N56/G56) -> 0 | P56: =IF(E56=0,0,O56/E56) -> 0
... B69: 25 | H69: =F69*G69 -> 0 | I69: =IF(E69=0,0,F69/E69) -> 0 | L69: =J69*K69 -> 0 | M69: =G69+K69 -> 0 | N69: =H69+L69 -> 0 | O69: =IF(G69=0,0,N69/G69) -> 0 | P69: =IF(E69=0,0,O69/E69) -> 0
...

Sheet ⑤経費
B2: 直接原価費目内訳表(円貨） | K2: 分担部 | M2: =分担部 -> KR | O2: WBS： | Q2: =WBS -> JA15R1003
K3: 件名： | M3: =プロジェクト件名 -> ハノイ環状3号線マイジック～南タンロン区間実施設計
L5: 通貨1： | M5: =通貨1 -> YEN | O5: 通貨2： | P5: =通貨2 -> 0 | R5: 通貨3： | S5: =通貨3 -> 0 | U5: 通貨4： | V5: =通貨4 -> 0
L6: 通貨1レート： | M6: =通貨1レート -> 1 | O6: 通貨2レート： | P6: =通貨2レート -> 0 | R6: 通貨3レート： | S6: =通貨3レート -> 0 | U6: 通貨4レート： | V6: =通貨4レート -> 0
L7: 通貨1表示単位： | M7: =通貨1単位 -> 1 | O7: 通貨2表示単位： | P7: =通貨2単位 -> 0 | R7: 通貨3表示単位： | S7: =通貨3単位 -> 0 | U7: 通貨4表示単位： | V7: =通貨4単位 -> 0
B8: 3 | C8: 材料費
B9: No. | D9: 項 目 | E9: 摘 要 | F9: 単位 | G9: 請求 区分 | H9: 円換算値 | L9: 通貨1： | M9: =通貨1 -> YEN | O9: 通貨2： | P9: =IF(通貨2="","",通貨2) | R9: 通貨3： | S9: =IF(通貨3="","",通貨3) | U9: 通貨4： | V9: =IF(通貨4="","",通貨4)
H10: 換算単価 | I10: 数量 | J10: 金額 | K10: 単価 | L10: 数量 | M10: 金額 | N10: 単価 | O10: 数量 | P10: 金額 | Q10: 単価 | R10: 数量 | S10: 金額 | T10: 単価 | U10: 数量 | V10: 金額
B11: 1 | D11: 納入機材
C12: 1) | D12: 国内調達、現地納入機材 | E12: パソコン | F12: 台 | G12: 請求 | H12: =IF(I12=0,0,J12/I12) -> 0 | I12: =L12+O12+R12+U12 -> 0 | J12: =M$6*M$7*M12+P$6*P$7*P12+S$6*S$7*S12+V$6*V$7*V12 -> 0 | M12: =K12*L12 -> 0 | P12: =N12*O12 -> 0 | S12: =Q12*R12 -> 0 | V12: =T12*U12 -> 0
C13: 2) | E13: ソフトウェア | F13: 台 | G13: 請求 | H13: =IF(I13=0,0,J13/I13) -> 0 | I13: =L13+O13+R13+U13 -> 0 | J13: =M$6*M$7*M13+P$6*P$7*P13+S$6*S$7*S13+V$6*V$7*V13 -> 0 | M13: =K13*L13 -> 0 | P13: =N13*O13 -> 0 | S13: =Q13*R13 -> 0 | V13: =T13*U13 -> 0
C14: 3) | E14: 調査機器 | F14: 台 | G14: 持出 | H14: =IF(I14=0,0,J14/I14) -> 0 | I14: =L14+O14+R14+U14 -> 0 | J14: =M$6*M$7*M14+P$6*P$7*P14+S$6*S$7*S14+V$6*V$7*V14 -> 0 | M14: =K14*L14 -> 0 | P14: =N14*O14 -> 0 | S14: =Q14*R14 -> 0 | V14: =T14*U14 -> 0
C15: 4) | H15: =IF(I15=0,0,J15/I15) -> 0 | I15: =L15+O15+R15+U15 -> 0 | J15: =M$6*M$7*M15+P$6*P$7*P15+S$6*S$7*S15+V$6*V$7*V15 -> 0 | M15: =K15*L15 -> 0 | P15: =N15*O15 -> 0 | S15: =Q15*R15 -> 0 | V15: =T15*U15 -> 0
C16: 5) | D16: 海外調達、現地納入機材 | E16: 調査機器 | F16: 台 | G16: 請求 | H16: =IF(I16=0,0,J16/I16) -> 0 | I16: =L16+O16+R16+U16 -> 0 | J16: =M$6*M$7*M16+P$6*P$7*P16+S$6*S$7*S16+V$6*V$7*V16 -> 0 | M16: =K16*L16 -> 0 | P16: =N16*O16 -> 0 | S16: =Q16*R16 -> 0 | V16: =T16*U16 -> 0
C17: 6) | H17: =IF(I17=0,0,J17/I17) -> 0 | I17: =L17+O17+R17+U17 -> 0 | J17: =M$6*M$7*M17+P$6*P$7*P17+S$6*S$7*S17+V$6*V$7*V17 -> 0 | M17: =K17*L17 -> 0 | P17: =N17*O17 -> 0 | S17: =Q17*R17 -> 0 | V17: =T17*U17 -> 0
C18: 7) | G18: 持出 | H18: =IF(I18=0,0,J18/I18) -> 0 | I18: =L18+O18+R18+U18 -> 0 | J18: =M$6*M$7*M18+P$6*P$7*P18+S$6*S$7*S18+V$6*V$7*V18 -> 0 | M18: =K18*L18 -> 0 | P18: =N18*O18 -> 0 | S18: =Q18*R18 -> 0 | V18: =T18*U18 -> 0
C19: 8) | H19: =IF(I19=0,0,J19/I19) -> 0 | I19: =L19+O19+R19+U19 -> 0 | J19: =M$6*M$7*M19+P$6*P$7*P19+S$6*S$7*S19+V$6*V$7*V19 -> 0 | M19: =K19*L19 -> 0 | P19: =N19*O19 -> 0 | S19: =Q19*R19 -> 0 | V19: =T19*U19 -> 0
C20: 9) | H20: =IF(I20=0,0,J20/I20) -> 0 | I20: =L20+O20+R20+U20 -> 0 | J20: =M$6*M$7*M20+P$6*P$7*P20+S$6*S$7*S20+V$6*V$7*V20 -> 0 | M20: =K20*L20 -> 0 | P20: =N20*O20 -> 0 | S20: =Q20*R20 -> 0 | V20: =T20*U20 -> 0
C21: 10) | H21: =IF(I21=0,0,J21/I21) -> 0 | I21: =L21+O21+R21+U21 -> 0 | J21: =M$6*M$7*M21+P$6*P$7*P21+S$6*S$7*S21+V$6*V$7*V21 -> 0 | M21: =K21*L21 -> 0 | P21: =N21*O21 -> 0 | S21: =Q21*R21 -> 0 | V21: =T21*U21 -> 0
D22: ※行を追加する必要がある場合には、この行の上に追加してください。 | H22: =IF(I22=0,0,J22/I22) -> 0 | I22: =L22+O22+R22+U22 -> 0 | J22: =M$6*M$7*M22+P$6*P$7*P22+S$6*S$7*S22+V$6*V$7*V22 -> 0 | M22: =K22*L22 -> 0 | P22: =N22*O22 -> 0 | S22: =Q22*R22 -> 0 | V22: =T22*U22 -> 0
B23: 2 | D23: 工事用消耗品
C24: 1) | D24: 工事用消耗品 | E24: 工具等 | F24: 一式 | G24: 持出 | H24: =IF(I24=0,0,J24/I24) -> 0 | I24: =L24+O24+R24+U24 -> 0 | J24: =M$6*M$7*M24+P$6*P$7*P24+S$6*S$7*S24+V$6*V$7*V24 -> 0 | M24: =K24*L24 -> 0 | P24: =N24*O24 -> 0 | S24: =Q24*R24 -> 0 | V24: =T24*U24 -> 0
C25: 2) | H25: =IF(I25=0,0,J25/I25) -> 0 | I25: =L25+O25+R25+U25 -> 0 | J25: =M$6*M$7*M25+P$6*P$7*P25+S$6*S$7*S25+V$6*V$7*V25 -> 0 | M25: =K25*L25 -> 0 | P25: =N25*O25 -> 0 | S25: =Q25*R25 -> 0 | V25: =T25*U25 -> 0
C26: 3) | H26: =IF(I26=0,0,J26/I26) -> 0 | I26: =L26+O26+R26+U26 -> 0 | J26: =M$6*M$7*M26+P$6*P$7*P26+S$6*S$7*S26+V$6*V$7*V26 -> 0 | M26: =K26*L26 -> 0 | P26: =N26*O26 -> 0 | S26: =Q26*R26 -> 0 | V26: =T26*U26 -> 0
D27: ※行を追加する必要がある場合には、この行の上に追加してください。 | H27: =IF(I27=0,0,J27/I27) -> 0 | I27: =L27+O27+R27+U27 -> 0 | J27: =M$6*M$7*M27+P$6*P$7*P27+S$6*S$7*S27+V$6*V$7*V27 -> 0 | M27: =K27*L27 -> 0 | P27: =N27*O27 -> 0 | S27: =Q27*R27 -> 0 | V27: =T27*U27 -> 0
D28: 合 計 | F28: 0 | J28: =SUBTOTAL(9,J11:J27) -> 0 | M28: =SUBTOTAL(9,M11:M27) -> 0 | P28: =SUBTOTAL(9,P11:P27) -> 0 | S28: =SUBTOTAL(9,S11:S27) -> 0 | V28: =SUBTOTAL(9,V11:V27) -> 0
E29: 内、請求予定 | G29: 請求 | J29: =SUMIFS(J12:J22,$G12:$G22,$G29)+SUMIFS(J24:J27,$G24:$G27,$G29) -> 0 | M29: =SUMIFS(M12:M22,$G12:$G22,$G29)+SUMIFS(M24:M27,$G24:$G27,$G29) -> 0 | P29: =SUMIFS(P12:P22,$G12:$G22,$G29)+SUMIFS(P24:P27,$G24:$G27,$G29) -> 0 | S29: =SUMIFS(S12:S22,$G12:$G22,$G29)+SUMIFS(S24:S27,$G24:$G27,$G29) -> 0 | V29: =SUMIFS(V12:V22,$G12:$G22,$G29)+SUMIFS(V24:V27,$G24:$G27,$G29) -> 0
E30: 内、持出予定 | G30: 持出 | J30: =SUMIFS(J12:J22,$G12:$G22,$G30)+SUMIFS(J24:J27,$G24:$G27,$G30) -> 0 | M30: =SUMIFS(M12:M22,$G12:$G22,$G30)+SUMIFS(M24:M27,$G24:$G27,$G30) -> 0 | P30: =SUMIFS(P12:P22,$G12:$G22,$G30)+SUMIFS(P24:P27,$G24:$G27,$G30) -> 0 | S30: =SUMIFS(S12:S22,$G12:$G22,$G30)+SUMIFS(S24:S27,$G24:$G27,$G30) -> 0 | V30: =SUMIFS(V12:V22,$G12:$G22,$G30)+SUMIFS(V24:V27,$G24:$G27,$G30) -> 0
E31: =IF(J31<>0,"未区分","") | J31: =J28-J29-J30 -> 0 | M31: =M28-M29-M30 -> 0 | P31: =P28-P29-P30 -> 0 | S31: =S28-S29-S30 -> 0 | V31: =V28-V29-V30 -> 0
B32: 4 | C32: 外注委託費
B33: No. | D33: 項 目 | E33: 摘 要 | F33: 単位 | G33: 請求 区分 | H33: 円換算値 | L33: 通貨1： | M33: =通貨1 -> YEN | O33: 通貨2： | P33: =IF(通貨2="","",通貨2) | R33: 通貨3： | S33: =IF(通貨3="","",通貨3) | U33: 通貨4： | V33: =IF(通貨4="","",通貨4)
H34: 換算単価 | I34: 数量 | J34: 金額 | K34: 単価 | L34: 数量 | M34: 金額 | N34: 単価 | O34: 数量 | P34: 金額 | Q34: 単価 | R34: 数量 | S34: 金額 | T34: 単価 | U34: 数量 | V34: 金額
B35: 1 | D35: 国内再委託
C36: 1) | D36: 設計計算 | F36: 一式 | H36: =IF(I36=0,0,J36/I36) -> 0 | I36: =L36+O36+R36+U36 -> 0 | J36: =M$6*M$7*M36+P$6*P$7*P36+S$6*S$7*S36+V$6*V$7*V36 -> 0 | M36: =K36*L36 -> 0 | P36: =N36*O36 -> 0 | S36: =Q36*R36 -> 0 | V36: =T36*U36 -> 0
C37: 2) | H37: =IF(I37=0,0,J37/I37) -> 0 | I37: =L37+O37+R37+U37 -> 0 | J37: =M$6*M$7*M37+P$6*P$7*P37+S$6*S$7*S37+V$6*V$7*V37 -> 0 | M37: =K37*L37 -> 0 | P37: =N37*O37 -> 0 | S37: =Q37*R37 -> 0 | V37: =T37*U37 -> 0
C38: 3) | H38: =IF(I38=0,0,J38/I38) -> 0 | I38: =L38+O38+R38+U38 -> 0 | J38: =M$6*M$7*M38+P$6*P$7*P38+S$6*S$7*S38+V$6*V$7*V38 -> 0 | M38: =K38*L38 -> 0 | P38: =N38*O38 -> 0 | S38: =Q38*R38 -> 0 | V38: =T38*U38 -> 0
C39: 4) | H39: =IF(I39=0,0,J39/I39) -> 0 | I39: =L39+O39+R39+U39 -> 0 | J39: =M$6*M$7*M39+P$6*P$7*P39+S$6*S$7*S39+V$6*V$7*V39 -> 0 | M39: =K39*L39 -> 0 | P39: =N39*O39 -> 0 | S39: =Q39*R39 -> 0 | V39: =T39*U39 -> 0
C40: 5) | H40: =IF(I40=0,0,J40/I40) -> 0 | I40: =L40+O40+R40+U40 -> 0 | J40: =M$6*M$7*M40+P$6*P$7*P40+S$6*S$7*S40+V$6*V$7*V40 -> 0 | M40: =K40*L40 -> 0 | P40: =N40*O40 -> 0 | S40: =Q40*R40 -> 0 | V40: =T40*U40 -> 0
D41: ※行を追加する必要がある場合には、この行の上に追加してください。 | H41: =IF(I41=0,0,J41/I41) -> 0 | I41: =L41+O41+R41+U41 -> 0 | J41: =M$6*M$7*M41+P$6*P$7*P41+S$6*S$7*S41+V$6*V$7*V41 -> 0 | M41: =K41*L41 -> 0 | P41: =N41*O41 -> 0 | S41: =Q41*R41 -> 0 | V41: =T41*U41 -> 0
B42: 2 | D42: 現地再委託
...

Sheet ⑥経費一覧表
B1: 直接経費一覧表 | D1: 分担部 | E1: =分担部 -> KR | F1: WBS： | G1: =WBS -> JA15R1003
D2: 件名： | E2: =プロジェクト件名 -> ハノイ環状3号線マイジック～南タンロン区間実施設計
E4: 通貨1 | F4: 通貨2 | G4: 通貨3 | H4: 通貨4
D5: 通貨種類 | E5: =通貨1 -> YEN | F5: =通貨2 -> 0 | G5: =通貨3 -> 0 | H5: =通貨4 -> 0
D6: レート | E6: =通貨1レート -> 1 | F6: =通貨2レート -> 0 | G6: =通貨3レート -> 0 | H6: =通貨4レート -> 0
D7: 表示単位 | E7: =通貨1単位 -> 1 | F7: =通貨2単位 -> 0 | G7: =通貨3単位 -> 0 | H7: =通貨4単位 -> 0
B9: No. | C9: 項 目 | D9: 円換算値 | E9: 通貨1金額 | F9: 通貨2金額 | G9: 通貨3金額 | H9: 通貨4金額
E10: =IF(通貨1="","",IF(通貨1単位=1,通貨1,通貨1&通貨1単位)) -> YEN | F10: =IF(通貨2="","",IF(通貨2単位=1,通貨2,通貨2&通貨2単位)) | G10: =IF(通貨3="","",IF(通貨3単位=1,通貨3,通貨3&通貨3単位)) | H10: =IF(通貨4="","",IF(通貨4単位=1,通貨4,通貨4&通貨4単位))
B11: B1a.人件費及びPIT
B12: 01 | C12: 人件費 | D12: =SUMPRODUCT(E12:H12,E$6:H$6,E$7:H$7) -> 12447230 | E12: =12447230 -> 12447230
B13: 18 | C13: 社員分PIT | D13: =SUMPRODUCT(E13:H13,E$6:H$6,E$7:H$7) -> 0 | E13: =PIT社員通貨1 -> 0 | F13: =PIT社員通貨2 -> 0 | G13: =PIT社員通貨3 -> 0 | H13: =PIT社員通貨4 -> 0
C14: 小計（社員人件費＋PIT） | D14: =D12+D13 -> 12447230 | E14: =E12+E13 -> 12447230 | F14: =F12+F13 -> 0 | G14: =G12+G13 -> 0 | H14: =H12+H13 -> 0
B16: B1b.借上外注費及びPIT
B17: 02 | C17: 借上外注費 | D17: =SUMPRODUCT(E17:H17,E$6:H$6,E$7:H$7) -> 12792000 | E17: =12792000 -> 12792000 | F17: =④借上外注費!N71 -> 0 | G17: =④借上外注費!N104 -> 0 | H17: =④借上外注費!N137 -> 0
B18: 19 | C18: 借上分PIT | D18: =SUMPRODUCT(E18:H18,E$6:H$6,E$7:H$7) -> 0 | E18: =PIT借上_通貨1 -> 0 | F18: =PIT借上_通貨2 -> 0 | G18: =PIT社員通貨3 -> 0 | H18: =PIT借上_通貨4 -> 0
C19: 小計（借上外注費＋PIT） | D19: =D17+D18 -> 12792000 | E19: =E17+E18 -> 12792000 | F19: =F17+F18 -> 0 | G19: =G17+G18 -> 0 | H19: =H17+H18 -> 0
B21: B2.その他経費
B22: 03 | C22: =⑤経費!D326 -> 材料費 | D22: =SUMPRODUCT(E22:H22,E$6:H$6,E$7:H$7) -> 0 | E22: =⑤経費!M326 -> 0 | F22: =⑤経費!P326 -> 0 | G22: =⑤経費!S326 -> 0 | H22: =⑤経費!V326 -> 0
B23: 04 | C23: =⑤経費!D327 -> 外注委託費 | D23: =SUMPRODUCT(E23:H23,E$6:H$6,E$7:H$7) -> 0 | E23: =⑤経費!M327 -> 0 | F23: =⑤経費!P327 -> 0 | G23: =⑤経費!S327 -> 0 | H23: =⑤経費!V327 -> 0
B24: 05 | C24: =⑤経費!D328 -> 労務費 | D24: =SUMPRODUCT(E24:H24,E$6:H$6,E$7:H$7) -> 1000000 | E24: =1000000 -> 1000000 | F24: =⑤経費!P328 -> 0 | G24: =⑤経費!S328 -> 0 | H24: =⑤経費!V328 -> 0
B25: 06 | C25: =⑤経費!D329 -> 通信交通費 | D25: =SUMPRODUCT(E25:H25,E$6:H$6,E$7:H$7) -> 16416971 | E25: =16416971 -> 16416971 | F25: =⑤経費!P329 -> 0 | G25: =⑤経費!S329 -> 0 | H25: =⑤経費!V329 -> 0
B26: 07 | C26: =⑤経費!D330 -> 事務用品複写費 | D26: =SUMPRODUCT(E26:H26,E$6:H$6,E$7:H$7) -> 100000 | E26: =100000 -> 100000 | F26: =⑤経費!P330 -> 0 | G26: =⑤経費!S330 -> 0 | H26: =⑤経費!V330 -> 0
B27: 08 | C27: =⑤経費!D331 -> 福利厚生費 | D27: =SUMPRODUCT(E27:H27,E$6:H$6,E$7:H$7) -> 0 | E27: =⑤経費!M331 -> 0 | F27: =⑤経費!P331 -> 0 | G27: =⑤経費!S331 -> 0 | H27: =⑤経費!V331 -> 0
B28: 09 | C28: =⑤経費!D332 -> 会議費 | D28: =SUMPRODUCT(E28:H28,E$6:H$6,E$7:H$7) -> 150000 | E28: =150000 -> 150000 | F28: =⑤経費!P332 -> 0 | G28: =⑤経費!S332 -> 0 | H28: =⑤経費!V332 -> 0
B29: 10 | C29: =⑤経費!D333 -> 交際費 | D29: =SUMPRODUCT(E29:H29,E$6:H$6,E$7:H$7) -> 320000 | E29: =320000 -> 320000 | F29: =⑤経費!P333 -> 0 | G29: =⑤経費!S333 -> 0 | H29: =⑤経費!V333 -> 0
B30: 11 | C30: =⑤経費!D334 -> 修繕維持費 | D30: =SUMPRODUCT(E30:H30,E$6:H$6,E$7:H$7) -> 0 | E30: =⑤経費!M334 -> 0 | F30: =⑤経費!P334 -> 0 | G30: =⑤経費!S334 -> 0 | H30: =⑤経費!V334 -> 0
B31: 12 | C31: =⑤経費!D335 -> 動力用水光熱費 | D31: =SUMPRODUCT(E31:H31,E$6:H$6,E$7:H$7) -> 0 | E31: =⑤経費!M335 -> 0 | F31: =⑤経費!P335 -> 0 | G31: =⑤経費!S335 -> 0 | H31: =⑤経費!V335 -> 0
B32: 13 | C32: =⑤経費!D336 -> 諸賃借料 | D32: =SUMPRODUCT(E32:H32,E$6:H$6,E$7:H$7) -> 0 | E32: =⑤経費!M336 -> 0 | F32: =⑤経費!P336 -> 0 | G32: =⑤経費!S336 -> 0 | H32: =⑤経費!V336 -> 0
B33: 14 | C33: =⑤経費!D337 -> 保険料 | D33: =SUMPRODUCT(E33:H33,E$6:H$6,E$7:H$7) -> 250000 | E33: =250000 -> 250000 | F33: =⑤経費!P337 -> 0 | G33: =⑤経費!S337 -> 0 | H33: =⑤経費!V337 -> 0
B34: 15 | C34: =⑤経費!D338 -> 減価償却費 | D34: =SUMPRODUCT(E34:H34,E$6:H$6,E$7:H$7) -> 0 | E34: =⑤経費!M338 -> 0 | F34: =⑤経費!P338 -> 0 | G34: =⑤経費!S338 -> 0 | H34: =⑤経費!V338 -> 0
B35: 16 | C35: =⑤経費!D339 -> 地代家賃 | D35: =SUMPRODUCT(E35:H35,E$6:H$6,E$7:H$7) -> 0 | E35: =⑤経費!M339 -> 0 | F35: =⑤経費!P339 -> 0 | G35: =⑤経費!S339 -> 0 | H35: =⑤経費!V339 -> 0
B36: 17 | C36: =⑤経費!D340 -> 租税公課 | D36: =SUMPRODUCT(E36:H36,E$6:H$6,E$7:H$7) -> 0 | E36: =⑤経費!M340 -> 0 | F36: =⑤経費!P340 -> 0 | G36: =⑤経費!S340 -> 0 | H36: =⑤経費!V340 -> 0
B37: 21 | C37: =⑤経費!D341 -> 雑費 | D37: =SUMPRODUCT(E37:H37,E$6:H$6,E$7:H$7) -> 1330000 | E37: =275000+1055000 -> 1330000 | F37: =⑤経費!P341 -> 0 | G37: =⑤経費!S341 -> 0 | H37: =⑤経費!V341 -> 0
C38: 小計（3～17、21） | D38: =SUBTOTAL(9,D22:D37) -> 19566971 | E38: =SUBTOTAL(9,E22:E37) -> 19566971 | F38: =SUBTOTAL(9,F22:F37) -> 0 | G38: =SUBTOTAL(9,G22:G37) -> 0 | H38: =SUBTOTAL(9,H22:H37) -> 0
B40: 20 | C40: =⑤経費!D345 -> 事務手数料 | D40: =SUMPRODUCT(E40:H40,E$6:H$6,E$7:H$7) -> -1055000 | E40: -1055000 | F40: =⑤経費!P345 -> 0 | G40: =⑤経費!S345 -> 0 | H40: =⑤経費!V345 -> 0
C41: 小計（3～20） | D41: =SUBTOTAL(9,D22:D40) -> 18511971 | E41: =SUBTOTAL(9,E22:E40) -> 18511971 | F41: =SUBTOTAL(9,F22:F40) -> 0 | G41: =SUBTOTAL(9,G22:G40) -> 0 | H41: =SUBTOTAL(9,H22:H40) -> 0
C43: 他経費（除、事務手数料） | D43: =D38+経費_人件費及びPIT+経費_借上外注費及びPIT -> 44806201 | E43: =E38+経費_人件費及びPIT+経費_借上外注費及びPIT -> 44806201 | F43: =F38+経費_人件費及びPIT+経費_借上外注費及びPIT -> 25239230 | G43: =G38+経費_人件費及びPIT+経費_借上外注費及びPIT -> 25239230 | H43: =H38+経費_人件費及びPIT+経費_借上外注費及びPIT -> 25239230
C44: 他経費（含、事務手数料） | D44: =D38+D40+経費_人件費及びPIT+経費_借上外注費及びPIT -> 43751201 | E44: =E38+E40+経費_人件費及びPIT+経費_借上外注費及びPIT -> 43751201 | F44: =F38+F40+経費_人件費及びPIT+経費_借上外注費及びPIT -> 25239230 | G44: =G38+G40+経費_人件費及びPIT+経費_借上外注費及びPIT -> 25239230 | H44: =H38+H40+経費_人件費及びPIT+経費_借上外注費及びPIT -> 25239230

Sheet ⑦実行予算総括表
B2: 単年度実行予算総括表
B4: プロジェクトコード | D4: =プロジェクトコード -> JA15R1003P | E4: WBSコード | G4: =WBS -> JA15R1003 | J4: 件名 | K4: =プロジェクト件名 -> ハノイ環状3号線マイジック～南タンロン区間実施設計
B5: 主管部 | D5: =主管部 -> KR | E5: 工期（開始日） | G5: =工期開始日 -> 0
B6: 分担部 | D6: =分担部 -> KR | E6: 工期（終了日） | G6: =工期終了日 -> 0 | J6: TL | L6: =TL -> 石本 一鶴 | M6: 課長 | O6: =課長 -> 野末康博
B7: 完成年度 | D7: =完成年度 -> 2017年度 | E7: 完成予定日 | G7: =完成予定日 -> 0 | J7: NK所長 | L7: =所長 -> 前田 哲哉 | M7: リエゾン | O7: =リエゾン担当 -> なし
B8: 完繰基準 | D8: =完成基準 -> 出来高 | M8: 最終更新日
B10: MM総括表 | J10: 予算明細表 | P10: （単位:千円）
C11: 項 目 | E11: 今回予算 | F11: 対契約MM 比率 | G11: 前回予算 | H11: 対契約MM 比率 | J11: 番号 | K11: 経費明細 | M11: 今回予算額 | N11: 経費 割合 | O11: 前回予算額 | P11: 経費 割合
B12: ① | C12: 契約MM | E12: =SUM(E13:E14) -> 0 | G12: =SUM(G13:G14) -> 0 | J12: B1 | K12: 報酬分経費 | M12: =SUBTOTAL(9,M13:M18) -> 25239230 | N12: =IF(M$36=0,0,M12/M$36) -> 0.5632977 | O12: =SUBTOTAL(9,O13:O18) -> 0 | P12: =IF(O$36=0,0,O12/O$36) -> 0
C13: 社員分MM | E13: =③人件費!I57 -> 0 | J13: B1a | K13: 社員人件費及びPIT | M13: =SUBTOTAL(9,M14:M15) -> 12447230 | N13: =IF(M$36=0,0,M13/M$36) -> 0.2778015 | O13: =SUBTOTAL(9,O14:O15) -> 0 | P13: =IF(O$36=0,0,O13/O$36) -> 0
C14: 借上分MM | E14: =④借上外注費!G152 -> 0 | J14: 01 | K14: 人件費 | M14: =⑥経費一覧表!D12 -> 12447230 | N14: =IF(M$36=0,0,M14/M$36) -> 0.2778015 | P14: =IF(O$36=0,0,O14/O$36) -> 0
B15: ② | C15: 非契約MM | E15: =SUM(E16:E17) -> 0 | F15: =IF(E12=0,0,E15/E12) -> 0 | G15: =SUM(G16:G17) -> 0 | H15: =IF(G12=0,0,G15/G12) -> 0 | J15: 18 | K15: 社員分PIT | M15: =⑥経費一覧表!D13 -> 0 | N15: =IF(M$36=0,0,M15/M$36) -> 0 | P15: =IF(O$36=0,0,O15/O$36) -> 0
C16: 社員分MM | E16: =③人件費!K57 -> 0 | J16: B1b | K16: 借上要員費及びPIT | M16: =SUBTOTAL(9,M17:M18) -> 12792000 | N16: =IF(M$36=0,0,M16/M$36) -> 0.2854962 | O16: =SUBTOTAL(9,O17:O18) -> 0 | P16: =IF(O$36=0,0,O16/O$36) -> 0
C17: 借上分MM | E17: =④借上外注費!K152 -> 0 | J17: 02 | K17: 借上外注費 | M17: =⑥経費一覧表!D17 -> 12792000 | N17: =IF(M$36=0,0,M17/M$36) -> 0.2854962 | P17: =IF(O$36=0,0,O17/O$36) -> 0
B18: ③ | C18: 稼働MM（①＋②） | E18: =SUM(E19:E20) -> 0 | F18: =IF(E12=0,0,E18/E12) -> 0 | G18: =SUM(G19:G20) -> 0 | H18: =IF(G12=0,0,G18/G12) -> 0 | J18: 19 | K18: 借上分PIT | M18: =⑥経費一覧表!D18 -> 0 | N18: =IF(M$36=0,0,M18/M$36) -> 0 | P18: =IF(O$36=0,0,O18/O$36) -> 0
C19: 社員分MM | E19: =E13+E16 -> 0 | G19: =G13+G16 -> 0 | J19: B2 | K19: 他経費計 | M19: =SUBTOTAL(9,M20:M35) -> 19566971 | N19: =IF(M$36=0,0,M19/M$36) -> 0.4367023 | O19: =SUBTOTAL(9,O20:O35) -> 0 | P19: =IF(O$36=0,0,O19/O$36) -> 0
C20: 借上分MM | E20: =E14+E17 -> 0 | G20: =G14+G17 -> 0 | J20: 03 | K20: 材料費 | M20: =⑥経費一覧表!D22 -> 0 | N20: =IF(M$36=0,0,M20/M$36) -> 0 | P20: =IF(O$36=0,0,O20/O$36) -> 0
J21: 04 | K21: 外注委託費 | M21: =⑥経費一覧表!D23 -> 0 | N21: =IF(M$36=0,0,M21/M$36) -> 0 | P21: =IF(O$36=0,0,O21/O$36) -> 0
B22: 新予算総括表 | J22: 05 | K22: 労務費 | M22: =⑥経費一覧表!D24 -> 1000000 | N22: =IF(M$36=0,0,M22/M$36) -> 0.022318339 | P22: =IF(O$36=0,0,O22/O$36) -> 0
B23: 番号 | C23: 項 目 | E23: 今回予算額 | F23: 対売上 比率 | G23: 前回予算額 | H23: 対売上 比率 | J23: 06 | K23: 通信交通費 | M23: =⑥経費一覧表!D25 -> 16416971 | N23: =IF(M$36=0,0,M23/M$36) -> 0.36639953 | P23: =IF(O$36=0,0,O23/O$36) -> 0
C24: 売上高 | J24: 07 | K24: 事務用品・複写費 | M24: =⑥経費一覧表!D26 -> 100000 | N24: =IF(M$36=0,0,M24/M$36) -> 0.0022318339 | P24: =IF(O$36=0,0,O24/O$36) -> 0
B25: A1 | C25: 報酬売上額 | E25: =SUBTOTAL(9,E26:E27) -> 41848800 | F25: =IF(E$29=0,0,E25/E$29) -> 0.72724825 | G25: =SUBTOTAL(9,G26:G27) -> 0 | H25: =IF(G$29=0,0,G25/G$29) -> 0 | J25: 08 | K25: 福利厚生費 | M25: =⑥経費一覧表!D27 -> 0 | N25: =IF(M$36=0,0,M25/M$36) -> 0 | P25: =IF(O$36=0,0,O25/O$36) -> 0
B26: A1a | C26: 社員報酬額 | E26: =社員報酬額 -> 20866300 | F26: =IF(E$29=0,0,E26/E$29) -> 0.36261446 | H26: =IF(G$29=0,0,G26/G$29) -> 0 | J26: 09 | K26: 会議費 | M26: =⑥経費一覧表!D28 -> 150000 | N26: =IF(M$36=0,0,M26/M$36) -> 0.0033477509 | P26: =IF(O$36=0,0,O26/O$36) -> 0
B27: A1b | C27: 借上報酬額 | E27: =借上報酬額 -> 20982500 | F27: =IF(E$29=0,0,E27/E$29) -> 0.36463378 | H27: =IF(G$29=0,0,G27/G$29) -> 0 | J27: 10 | K27: 交際費 | M27: =⑥経費一覧表!D29 -> 320000 | N27: =IF(M$36=0,0,M27/M$36) -> 0.0071418686 | P27: =IF(O$36=0,0,O27/O$36) -> 0
B28: A2 | C28: 経費売上額 | E28: =経費売上額 -> 15695237 | F28: =IF(E$29=0,0,E28/E$29) -> 0.27275175 | H28: =IF(G$29=0,0,G28/G$29) -> 0 | J28: 11 | K28: 修繕維持費 | M28: =⑥経費一覧表!D30 -> 0 | N28: =IF(M$36=0,0,M28/M$36) -> 0 | P28: =IF(O$36=0,0,O28/O$36) -> 0
B29: A | C29: 売上額(CIT込,VAT除) 計 | E29: =SUBTOTAL(9,E25:E28) -> 57544037 | F29: =IF(E$29=0,0,E29/E$29) -> 1 | G29: =SUBTOTAL(9,G25:G28) -> 0 | H29: =IF(G$29=0,0,G29/G$29) -> 0 | J29: 12 | K29: 動力用水光熱費 | M29: =⑥経費一覧表!D31 -> 0 | N29: =IF(M$36=0,0,M29/M$36) -> 0 | P29: =IF(O$36=0,0,O29/O$36) -> 0
B30: K | C30: （内,CIT見込額） | E30: =CIT見込額 -> 4735237 | F30: =IF(E$29=0,0,E30/E$29) -> 0.082288926 | H30: =IF(G$29=0,0,G30/G$29) -> 0 | J30: 13 | K30: 諸賃借料 | M30: =⑥経費一覧表!D32 -> 0 | N30: =IF(M$36=0,0,M30/M$36) -> 0 | P30: =IF(O$36=0,0,O30/O$36) -> 0
J31: 14 | K31: 保険料 | M31: =⑥経費一覧表!D33 -> 250000 | N31: =IF(M$36=0,0,M31/M$36) -> 0.0055795848 | P31: =IF(O$36=0,0,O31/O$36) -> 0
C32: 直接経費 | F32: 対売上 比率 | H32: 対売上 比率 | J32: 15 | K32: 減価償却費 | M32: =⑥経費一覧表!D34 -> 0 | N32: =IF(M$36=0,0,M32/M$36) -> 0 | P32: =IF(O$36=0,0,O32/O$36) -> 0
B33: B1. | C33: 報酬分経費(B1a+B1b) | E33: =SUBTOTAL(9,E34:E35) -> 25239230 | F33: =IF(E$29=0,0,E33/E$29) -> 0.43860722 | G33: =SUBTOTAL(9,G34:G35) -> 0 | H33: =IF(G$29=0,0,G33/G$29) -> 0 | J33: 16 | K33: 地代家賃 | M33: =⑥経費一覧表!D35 -> 0 | N33: =IF(M$36=0,0,M33/M$36) -> 0 | P33: =IF(O$36=0,0,O33/O$36) -> 0
B34: B1a. | C34: 社員人件費及びPIT | E34: =M13 -> 12447230 | F34: =IF(E$29=0,0,E34/E$29) -> 0.2163079 | G34: =O13 -> 0 | H34: =IF(G$29=0,0,G34/G$29) -> 0 | J34: 17 | K34: 租税公課 | M34: =⑥経費一覧表!D36 -> 0 | N34: =IF(M$36=0,0,M34/M$36) -> 0 | P34: =IF(O$36=0,0,O34/O$36) -> 0
B35: B1b. | C35: 借上要員費及びPIT | E35: =M16 -> 12792000 | F35: =IF(E$29=0,0,E35/E$29) -> 0.22229931 | G35: =O16 -> 0 | H35: =IF(G$29=0,0,G35/G$29) -> 0 | J35: 21 | K35: 雑費 | M35: =⑥経費一覧表!D37 -> 1330000 | N35: =IF(M$36=0,0,M35/M$36) -> 0.029683391 | P35: =IF(O$36=0,0,O35/O$36) -> 0
B36: B2. | C36: 他経費計 | E36: =M19 -> 19566971 | F36: =IF(E$29=0,0,E36/E$29) -> 0.34003473 | G36: =O19 -> 0 | H36: =IF(G$29=0,0,G36/G$29) -> 0 | J36: B | K36: 直接経費1(B1+B2) | M36: =SUBTOTAL(9,M12:M35) -> 44806201 | N36: =IF(M$36=0,0,M36/M$36) -> 1 | O36: =SUBTOTAL(9,O12:O35) -> 0 | P36: =IF(O$36=0,0,O36/O$36) -> 0
B37: B. | C37: 直接経費1(B1+B2) 計 | E37: =SUBTOTAL(9,E33:E36) -> 44806201 | F37: =IF(E$29=0,0,E37/E$29) -> 0.77864195 | G37: =SUBTOTAL(9,G33:G36) -> 0 | H37: =IF(G$29=0,0,G37/G$29) -> 0 | J37: C | K37: 直接経費2(B1+B2,PIT除) | M37: =SUBTOTAL(9,M12:M35)-M15-M18 -> 44806201 | O37: =SUBTOTAL(9,O12:O35)-O15-O18 -> 0
J38: 20 | K38: 事務手数料 | M38: =⑥経費一覧表!D40 -> -1055000 | O38: =事務手数料計 -> 0
C39: 直接利益 | F39: 対売上 比率 | H39: 対売上 比率 | J39: D | K39: 直接経費3(B1+B2+B3) | M39: =SUBTOTAL(9,M12:M38) -> 43751201 | O39: =SUBTOTAL(9,O12:O38) -> 0
B40: E1. | C40: 報酬分利益(E1a+E1b) | E40: =SUBTOTAL(9,E41:E42) -> 16609570 | F40: =IF(E25=0,0,E40/E25) -> 0.39689477 | G40: =SUBTOTAL(9,G41:G42) -> 0 | H40: =IF(G25=0,0,G40/G25) -> 0
B41: E1a. | C41: 社員報酬利益(A1a-B1a) | E41: =E26-E34 -> 8419070 | F41: =IF(E26=0,0,E41/E26) -> 0.4034769 | G41: =G26-G34 -> 0 | H41: =IF(G26=0,0,G41/G26) -> 0 | J41: 管理指標
B42: E1b. | C42: 借上報酬利益(A1b-B1b) | E42: =E27-E35 -> 8190500 | F42: =IF(E27=0,0,E42/E27) -> 0.3903491 | G42: =G27-G35 -> 0 | H42: =IF(G27=0,0,G42/G27) -> 0 | J42: 番号 | K42: 指 標 | M42: 今回指標値 | O42: 今回指標値
B43: E2. | C43: 経費売上利益 | E43: =E28-E36 -> -3871734 | F43: =IF(E28=0,0,E43/E28) -> -0.2466821 | G43: =G28-G36 -> 0 | H43: =IF(G28=0,0,G43/G28) -> 0 | J43: a. | K43: 報酬売上額/契約MM | M43: =IF(E12=0,0,E25/E12) -> 0 | N43: B/R | O43: =IF(G12=0,0,G25/G12) -> 0 | P43: B/R
...

Sheet T_為替
B2: 2015年6月末レート | D2: ※海外業務部HPよりデータ取得し、データを抜粋、YENを追加
B3: CODE | C3: JUN | D3: COUNTRY | E3: CURRENCY
B4: USD | C4: 122.54 | D4: UNITED STATES | E4: UNITED STATES DOLLAR
B5: EUR | C5: 137.685 | D5: EUROLAND | E5: EURO
B6: DKK | C6: 18.4559 | D6: DENMARK | E6: DANISH KRONE
B7: CAD | C7: 98.805 | D7: CANADA | E7: CANADIAN DOLLAR
B8: GBP | C8: 192.86 | D8: UNITED KINGDOM | E8: BRITISH POUND
B9: CHF | C9: 132.49 | D9: SWITZERLAND | E9: SWISS FRANC
B10: AUD | C10: 94.1 | D10: AUSTRALIA | E10: AUSTRALIAN DOLLAR
B11: HKD | C11: 15.8068 | D11: HONG KONG | E11: HONG KONG DOLLAR
B12: SGD | C12: 91.03335 | D12: SINGAPORE | E12: SINGAPORE DOLLAR
B13: AED | C13: 33.36375 | D13: UNITED ARABIC EMIR. | E13: UAE DIRHAM
B14: THB | C14: 3.6308 | D14: THAILAND | E14: THAI BAHT
B15: MXN | C15: 7.81085 | D15: MEXICO | E15: MEXICAN PESO
... B132: YEN | C132: 1 | D132: JAPAN | E132: JAPANESE YEN

Sheet T_従業員
B1: 2015年７月時点社員番号表
B2: 社員番号 | C2: 氏名 | D2: 会社Code | E2: 会社名称 | F2: 組織Code | G2: 組織名称 | H2: 資格Code | I2: 資格名称
B3: A0058 | C3: 宮川 喜章 | D3: NK01 | E3: 日本工営株式会社 | F3: JC0100 | G3: 水資源事業部水資源エネルギー部 | H3: K300 | I3: 理事待遇
B4: A0217 | C4: 澄川 啓介 | D4: NK01 | E4: 日本工営株式会社 | F4: JA0000 | G4: コンサルタント海外事業本部 | H4: K030 | I4: 専務待遇
B5: A0236 | C5: 片桐 英夫 | D5: NK01 | E5: 日本工営株式会社 | F5: JN0100 | G5: 開発事業部道路橋梁部 | H5: G400 | I5: 副理事
B6: A0275 | C6: 神谷 保広 | D6: NK01 | E6: 日本工営株式会社 | F6: JA0000 | G6: コンサルタント海外事業本部 | H6: K300 | I6: 理事待遇
B7: A0286 | C7: 遠西 由明 | D7: NK01 | E7: 日本工営株式会社 | F7: PC0200 | G7: 建設事業部電力設備部 | H7: G611 | I7: 副参事１級 時間管理
B8: A0298 | C8: 大隅 進也 | D8: NK01 | E8: 日本工営株式会社 | F8: JN0400 | G8: 開発事業部開発計画部 | H8: G400 | I8: 副理事
B9: A0299 | C9: 丸山 彰偉 | D9: NK01 | E9: 日本工営株式会社 | F9: DC6700 | G9: 東京支店神奈川事務所 | H9: G400 | I9: 副理事
B10: A0303 | C10: 森岡 惇 | D10: NK01 | E10: 日本工営株式会社 | F10: JN0400 | G10: 開発事業部開発計画部 | H10: G510 | I10: 参事１級
B11: A0646 | C11: 中尾 憲治 | D11: NK01 | E11: 日本工営株式会社 | F11: PG5600 | G11: 福島事業所電力機器部 | H11: G520 | I11: 参事２級
B12: A0742 | C12: 新沢 正之 | D12: NK01 | E12: 日本工営株式会社 | F12: JC0100 | G12: 水資源事業部水資源エネルギー部 | H12: G400 | I12: 副理事
B13: A0810 | C13: 廣瀬 典昭 | D13: NK01 | E13: 日本工営株式会社 | F13: AA0000 | G13: 役員室 | H13: A100 | I13: 取締役会長
... B2808: D3390 | C2808: 小野 良臣 | D2808: NK01 | E2808: 日本工営株式会社 | F2808: DG0500 | G2808: 札幌支店技術第二部 | H2808: G900 | I2808: －
B2809: F0003 | C2809: 松木 布美子 | D2809: NK01 | E2809: 日本工営株式会社 | F2809: BA5100 | G2809: 情報企画部情報基盤センター
B2810: F0400 | C2810: 植田 千恵子 | D2810: NK01 | E2810: 日本工営株式会社 | F2810: JN0600 | G2810: 開発事業部港湾・空港部
B2811: F1057 | C2811: 江田 吉郎 | D2811: NK01 | E2811: 日本工営株式会社 | F2811: DC0620 | G2811: 流域・都市事業部上下水道部
B2812: F1103 | C2812: 久野 恵理子 | D2812: NK01 | E2812: 日本工営株式会社 | F2812: DC1100 | G2812: 流域・都市事業部河川・水工部
B2813: F1119 | C2813: 神田 亜紀 | D2813: NK01 | E2813: 日本工営株式会社 | F2813: DC1300 | G2813: 流域・都市事業部ダム・発電部
B2814: F3109 | C2814: 服部 千代恵 | D2814: NK01 | E2814: 日本工営株式会社 | F2814: DF0100 | G2814: 仙台支店営業企画部
B2815: F3412 | C2815: 芳賀 千恵子 | D2815: NK01 | E2815: 日本工営株式会社 | F2815: DJ0400 | G2815: 大阪支店技術第一部
B2816: F3623 | C2816: 藤丸 靖 | D2816: NK01 | E2816: 日本工営株式会社 | F2816: DH0500 | G2816: 福岡支店技術第二部
B2817: F3624 | C2817: 藤井 登 | D2817: NK01 | E2817: 日本工営株式会社 | F2817: DH0500 | G2817: 福岡支店技術第二部
B2818: F3626 | C2818: 宮脇 繁 | D2818: NK01 | E2818: 日本工営株式会社 | F2818: DH0500 | G2818: 福岡支店技術第二部
B2819: F9001 | C2819: ヘラ | D2819: NK01 | E2819: 日本工営株式会社 | F2819: JWID00 | G2819: アジア統轄事業部ジャカルタ事務所
B2820: F9005 | C2820: デウィ | D2820: NK01 | E2820: 日本工営株式会社 | F2820: JWID00 | G2820: アジア統轄事業部ジャカルタ事務所
... B3445: M0853 | C3445: Patrick John Ramos | D3445: NK01 | E3445: 日本工営株式会社 | F3445: JWPH00 | G3445: アジア統轄事業部マニラ事務所
B3446: P0001 | C3446: 進藤 貢 | D3446: QA01 | E3446: 玉野総合コンサルタント（株） | F3446: QN03D0 | G3446: 静岡支店 技術部建設技術課 | H3446: G90Q | I3446: －
B3447: P0003 | C3447: 佐藤 めぐみ | D3447: QA01 | E3447: 玉野総合コンサルタント（株） | F3447: QK03C0 | G3447: 東京支店 技術部まちづくり推進課 | H3447: G90Q | I3447: －
B3448: P0004 | C3448: 青柳 夏代子 | D3448: QA01 | E3448: 玉野総合コンサルタント（株） | F3448: QK03A0 | G3448: 東京支店 技術部都市整備課 | H3448: G90Q | I3448: －
B3449: P0005 | C3449: 岩崎 和江 | D3449: QA01 | E3449: 玉野総合コンサルタント（株） | F3449: QK03B0 | G3449: 東京支店 技術部都市調査課 | H3449: G90Q | I3449: －
B3450: P0009 | C3450: 丹生 麻代 | D3450: QA01 | E3450: 玉野総合コンサルタント（株） | F3450: QG04A0 | G3450: 統括事業部 都市整備部事業運営課 | H3450: G90Q | I3450: －
B3451: P0011 | C3451: 小川 ゆかり | D3451: QA01 | E3451: 玉野総合コンサルタント（株） | F3451: QG04C0 | G3451: 統括事業部 都市整備部換地課 | H3451: G90Q | I3451: －
B3452: P0014 | C3452: 田口 和美 | D3452: QA01 | E3452: 玉野総合コンサルタント（株） | F3452: QG04E0 | G3452: 統括事業部 都市整備部工務課 | H3452: G90Q | I3452: －
B3453: P0015 | C3453: 小央 由紀 | D3453: QA01 | E3453: 玉野総合コンサルタント（株） | F3453: QR04D0 | G3453: 大阪支店 技術部建設技術課 | H3453: G90Q | I3453: －
B3454: P0016 | C3454: 津坂 いずみ | D3454: QA01 | E3454: 玉野総合コンサルタント（株） | F3454: QG14D0 | G3454: 統括事業部 流域技術部河川砂防課 | H3454: G90Q | I3454: －
B3455: P0017 | C3455: 大山 友香 | D3455: QA01 | E3455: 玉野総合コンサルタント（株） | F3455: QG14B0 | G3455: 統括事業部 流域技術部上下水道課 | H3455: G90Q | I3455: －
B3456: P0018 | C3456: 山本 亜希 | D3456: QA01 | E3456: 玉野総合コンサルタント（株） | F3456: QG14B0 | G3456: 統括事業部 流域技術部上下水道課 | H3456: G90Q | I3456: －
B3457: P0019 | C3457: 柴 みちる | D3457: QA01 | E3457: 玉野総合コンサルタント（株） | F3457: QG1200 | G3457: 統括事業部地域マネジメント室 | H3457: G90Q | I3457: －
... B3575: P1611 | C3575: 鈴木 久美子 | D3575: QA01 | E3575: 玉野総合コンサルタント（株） | F3575: QK03A0 | G3575: 東京支店 技術部都市整備課 | H3575: G90Q | I3575: －
...

Sheet T_データ
B1: 平成27年度 標準賃率表 【ｺﾝｻﾙﾀﾝﾄ海外事業本部】
B2: ｸﾞﾚｰﾄﾞ | C2: 個人賃率 | D2: 資格区分 | E2: 時間賃率 | F2: １日賃率 | G2: 月間賃率 | H2: 年間賃率 | I2: 時間外単価 | K2: 資格Code | L2: 資格名称 | M2: 月間賃率 | O2: 組織Code | P2: 組織名称 | R2: 役職Code | S2: 役職名称 | U2: 従業員区分Code | V2: 従業員区分名称
B3: 0 | C3: 1 | D3: 取締役会長 | E3: 12980 | F3: 97290 | G3: 1962000 | H3: 23544000 | K3: A100 | L3: 取締役会長 | M3: =VLOOKUP(T_資格[[#This Row],[資格名称]],T_賃率表[[#All],[資格区分]:[時間外単価]],4,FALSE) -> 1962000 | O3: AA0000 | P3: 役員室 | R3: A900 | U3: A100 | V3: 役員
B4: 0 | C4: 1 | D4: 取締役副会長 | E4: 12980 | F4: 97290 | G4: 1962000 | H4: 23544000 | K4: A110 | L4: 取締役副会長 | M4: =VLOOKUP(T_資格[[#This Row],[資格名称]],T_賃率表[[#All],[資格区分]:[時間外単価]],4,FALSE) -> 1962000 | O4: AA0200 | P4: 監査役 | R4: C100 | S4: 本部長 | U4: G150 | V4: 特別顧問
B5: 0 | C5: 1 | D5: 取締役社長 | E5: 12980 | F5: 97290 | G5: 1962000 | H5: 23544000 | K5: A200 | L5: 取締役社長 | M5: =VLOOKUP(T_資格[[#This Row],[資格名称]],T_賃率表[[#All],[資格区分]:[時間外単価]],4,FALSE) -> 1962000 | O5: AA0500 | P5: 内部監査室 | R5: C200 | S5: 事業本部長 | U5: G160 | V5: 専門顧問
B6: 0 | C6: 1 | D6: 取締役副社長執行役員 | E6: 12980 | F6: 97290 | G6: 1962000 | H6: 23544000 | K6: A251 | L6: 取締役副社長執行役員 | M6: =VLOOKUP(T_資格[[#This Row],[資格名称]],T_賃率表[[#All],[資格区分]:[時間外単価]],4,FALSE) -> 1962000 | O6: AA0600 | P6: 技術監査室 | R6: D120 | S6: 副本部長 | U6: G170 | V6: 顧問
B7: 0 | C7: 1 | D7: 取締役常務執行役員 | E7: 12980 | F7: 97290 | G7: 1962000 | H7: 23544000 | K7: A451 | L7: 取締役常務執行役員 | M7: =VLOOKUP(T_資格[[#This Row],[資格名称]],T_賃率表[[#All],[資格区分]:[時間外単価]],4,FALSE) -> 1962000 | O7: AA1100 | P7: 本社室 | R7: D220 | S7: 副事業本部長 | U7: G300 | V7: 社員
B8: 0 | C8: 1 | D8: 取締役 | E8: 12980 | F8: 97290 | G8: 1962000 | H8: 23544000 | K8: A501 | L8: 取締役 | M8: =VLOOKUP(T_資格[[#This Row],[資格名称]],T_賃率表[[#All],[資格区分]:[時間外単価]],4,FALSE) -> 1962000 | O8: AD0000 | P8: コーポレート本部 | R8: F150 | S8: 事業所長 | U8: G310 | V8: 準社員
B9: 0 | C9: 1 | D9: 取締役待遇 | E9: 12980 | F9: 97290 | G9: 1962000 | H9: 23544000 | K9: A551 | L9: 取締役執行役員 | M9: =VLOOKUP(T_資格[[#This Row],[資格名称]],T_賃率表[[#All],[資格区分]:[時間外単価]],4,FALSE) -> 1962000 | O9: AD0200 | P9: コーポレート本部法務・コンプライアンス部 | R9: F200 | S9: 事業部長 | U9: G320 | V9: 社員見習
B10: 0 | C10: 1 | D10: 取締役執行役員 | E10: 12980 | F10: 97290 | G10: 1962000 | H10: 23544000 | K10: A700 | L10: 取締役相談役 | M10: =VLOOKUP(T_資格[[#This Row],[資格名称]],T_賃率表[[#All],[資格区分]:[時間外単価]],4,FALSE) -> 1962000 | O10: AD0300 | P10: コーポレート本部人事・総務部 | R10: F300 | S10: 支店長 | U10: G330 | V10: 社員
B11: 0 | C11: 1 | D11: 取締役相談役 | E11: 12980 | F11: 97290 | G11: 1962000 | H11: 23544000 | K11: A800 | L11: 常勤監査役 | M11: =VLOOKUP(T_資格[[#This Row],[資格名称]],T_賃率表[[#All],[資格区分]:[時間外単価]],4,FALSE) -> 1962000 | O11: AD0400 | P11: コーポレート本部財務・経理部 | R11: F400 | S11: 所長 | U11: G400 | V11: 嘱託
B12: 0 | C12: 1 | D12: 常勤監査役 | E12: 12980 | F12: 97290 | G12: 1962000 | H12: 23544000 | K12: A801 | L12: 監査役 | M12: =VLOOKUP(T_資格[[#This Row],[資格名称]],T_賃率表[[#All],[資格区分]:[時間外単価]],4,FALSE) -> 1962000 | O12: AD0500 | P12: コーポレート本部事務システム部 | R12: G120 | S12: 副本部長 | U12: G500 | V12: 嘱託
B13: 0 | C13: 1 | D13: 監査役 | E13: 12980 | F13: 97290 | G13: 1962000 | H13: 23544000 | K13: G030 | L13: 専務執行役員 | M13: =VLOOKUP(T_資格[[#This Row],[資格名称]],T_賃率表[[#All],[資格区分]:[時間外単価]],4,FALSE) -> 1459000 | O13: AD1100 | P13: コーポレート本部企画管理室 | R13: G170 | S13: 副事業所長 | U13: G540 | V13: 嘱託
B14: 1 | C14: 1 | D14: 専務執行役員 | E14: 9650 | F14: 72350 | G14: 1459000 | H14: 17508000 | K14: G040 | L14: 常務執行役員 | M14: =VLOOKUP(T_資格[[#This Row],[資格名称]],T_賃率表[[#All],[資格区分]:[時間外単価]],4,FALSE) -> 1459000 | O14: AD1200 | P14: コーポレート本部戦略開発室 | R14: G200 | S14: 事業部長代理 | U14: G610 | V14: 契約社員
B15: 1 | C15: 1 | D15: 常務執行役員 | E15: 9650 | F15: 72350 | G15: 1459000 | H15: 17508000 | K15: G050 | L15: 執行役員 | M15: =VLOOKUP(T_資格[[#This Row],[資格名称]],T_賃率表[[#All],[資格区分]:[時間外単価]],4,FALSE) -> 1459000 | O15: AD1300 | P15: コーポレート本部事業開発室 | R15: G220 | S15: 副事業部長 | U15: G610 | V15: 派遣社員(アソシエイト)
... B22: 3 | C22: 0 | D22: 副理事 | E22: 6970 | F22: 52270 | G22: 1054000 | H22: 12648000 | K22: G520 | L22: 参事２級 | M22: =VLOOKUP(T_資格[[#This Row],[資格名称]],T_賃率表[[#All],[資格区分]:[時間外単価]],4,FALSE) -> 924000 | O22: BA1000 | P22: 中央研究所 | R22: J30A | S22: 所長 | U22: R100 | V22: アルバイト
B23: 2 | C23: 0 | D23: 理事待遇 | E23: 8330 | F23: 62430 | G23: 1259000 | H23: 15108000 | K23: G530 | L23: 参事３級 | M23: =VLOOKUP(T_資格[[#This Row],[資格名称]],T_賃率表[[#All],[資格区分]:[時間外単価]],4,FALSE) -> 874000 | O23: BA2000 | P23: 中央研究所営業業務部 | R23: J30B | S23: 所長
B24: 3 | C24: 0 | D24: 副理事扱 | E24: 6970 | F24: 52270 | G24: 1054000 | H24: 12648000 | K24: G610 | L24: 副参事１級 | M24: =VLOOKUP(T_資格[[#This Row],[資格名称]],T_賃率表[[#All],[資格区分]:[時間外単価]],4,FALSE) -> 822000 | O24: BA5000 | P24: 情報企画部 | R24: J400 | S24: センター長
B25: 6 | C25: 0 | D25: 参事１級 | E25: 6390 | F25: 47860 | G25: 965000 | H25: 11580000 | K25: G611 | L25: 副参事１級Ｂ型 | M25: =VLOOKUP(T_資格[[#This Row],[資格名称]],T_賃率表[[#All],[資格区分]:[時間外単価]],4,FALSE) -> 0 | O25: BA5100 | P25: 情報企画部情報基盤センター | R25: J40A | S25: センター長
B26: 7 | C26: 0 | D26: 参事２級 | E26: 6110 | F26: 45820 | G26: 924000 | H26: 11088000 | K26: G615 | L26: 工師長１級 | M26: =VLOOKUP(T_資格[[#This Row],[資格名称]],T_賃率表[[#All],[資格区分]:[時間外単価]],4,FALSE) -> #N/A | O26: BA5400 | P26: 情報企画部知財マネジメント室 | R26: J40B | S26: センター長
B27: 8 | C27: 0 | D27: 参事３級 | E27: 5780 | F27: 43340 | G27: 874000 | H27: 10488000 | K27: G620 | L27: 副参事２級 | M27: =VLOOKUP(T_資格[[#This Row],[資格名称]],T_賃率表[[#All],[資格区分]:[時間外単価]],4,FALSE) -> 797000 | O27: BA7000 | P27: 技術企画部 | R27: K10A | S27: 部長代理
B28: 6 | C28: 0 | D28: 参事１級扱 | E28: 6390 | F28: 47860 | G28: 965000 | H28: 11580000 | K28: G621 | L28: 副参事２級Ｂ型 | M28: =VLOOKUP(T_資格[[#This Row],[資格名称]],T_賃率表[[#All],[資格区分]:[時間外単価]],4,FALSE) -> 0 | O28: BA7100 | P28: 技術企画部技術企画室 | R28: K10B | S28: 部長代理
B29: 7 | C29: 0 | D29: 参事２級扱 | E29: 6110 | F29: 45820 | G29: 924000 | H29: 11088000 | K29: G630 | L29: 副参事３級 | M29: =VLOOKUP(T_資格[[#This Row],[資格名称]],T_賃率表[[#All],[資格区分]:[時間外単価]],4,FALSE) -> 752000 | O29: BA7200 | P29: 技術企画部ＰＭ技術室 | R29: K20A | S29: 室長代理
B30: 8 | C30: 0 | D30: 参事３級扱 | E30: 5780 | F30: 43340 | G30: 874000 | H30: 10488000 | K30: G631 | L30: 副参事３級Ｂ型 | M30: =VLOOKUP(T_資格[[#This Row],[資格名称]],T_賃率表[[#All],[資格区分]:[時間外単価]],4,FALSE) -> 633000 | O30: DA0000 | P30: コンサルタント国内事業本部 | R30: K20B | S30: 室長代理
B31: 9 | C31: 0 | D31: 副参事１級 | E31: 5440 | F31: 40770 | G31: 822000 | H31: 9864000 | I31: 3320 | K31: G710 | L31: 主事１級 | M31: =VLOOKUP(T_資格[[#This Row],[資格名称]],T_賃率表[[#All],[資格区分]:[時間外単価]],4,FALSE) -> 573000 | O31: DA0100 | P31: コンサルタント国内事業本部事業企画室 | R31: K30A | S31: 所長代理
B32: 10 | C32: 0 | D32: 副参事２級 | E32: 5270 | F32: 39530 | G32: 797000 | H32: 9564000 | I32: 3280 | K32: G713 | L32: 技師１級 | M32: =VLOOKUP(T_資格[[#This Row],[資格名称]],T_賃率表[[#All],[資格区分]:[時間外単価]],4,FALSE) -> 573000 | O32: DA0200 | P32: コンサルタント国内事業本部営業企画室 | R32: K30B | S32: 所長代理
B33: 11 | C33: 0 | D33: 副参事３級 | E33: 4980 | F33: 37290 | G33: 752000 | H33: 9024000 | I33: 3150 | K33: G715 | L33: 工師１級 | M33: =VLOOKUP(T_資格[[#This Row],[資格名称]],T_賃率表[[#All],[資格区分]:[時間外単価]],4,FALSE) -> #N/A | O33: DA0300 | P33: コンサルタント国内事業本部技術戦略室 | R33: K500 | S33: 次長
B34: 9 | C34: 0 | D34: 副参事１級扱 | E34: 5440 | F34: 40770 | G34: 822000 | H34: 9864000 | I34: 3320 | K34: G720 | L34: 主事２級 | M34: =VLOOKUP(T_資格[[#This Row],[資格名称]],T_賃率表[[#All],[資格区分]:[時間外単価]],4,FALSE) -> 512000 | O34: DA0600 | P34: コンサルタント国内事業本部コンプライアンス室 | R34: M150 | S34: 課長
B35: 10 | C35: 0 | D35: 副参事２級扱 | E35: 5270 | F35: 39530 | G35: 797000 | H35: 9564000 | I35: 3280 | K35: G723 | L35: 技師２級 | M35: =VLOOKUP(T_資格[[#This Row],[資格名称]],T_賃率表[[#All],[資格区分]:[時間外単価]],4,FALSE) -> 512000 | O35: DA0700 | P35: コンサルタント国内事業本部プロポーザル統括室 | R35: M200 | S35: 主査
B36: 11 | C36: 0 | D36: 副参事３級扱 | E36: 4980 | F36: 37290 | G36: 752000 | H36: 9024000 | I36: 3150 | K36: G730 | L36: 主事３級 | M36: =VLOOKUP(T_資格[[#This Row],[資格名称]],T_賃率表[[#All],[資格区分]:[時間外単価]],4,FALSE) -> 455000 | O36: DA1400 | P36: コンサルタント国内事業本部品質・環境管理室 | R36: M300 | S36: 所長
