Workbook
Name CIT見込額: ②売上計画!$D$60
Name CIT見込額_前回予算: ⑦総括表!$G$30
Name CIT見込額計通貨1: ②売上計画!$E$60
Name CIT見込額計通貨2: ②売上計画!$F$60
Name CIT見込額計通貨3: ②売上計画!$G$60
Name CIT見込額計通貨4: ②売上計画!$H$60
Name JICA1号1: JICA報酬計算!$Q$27
Name JICA1号2: JICA報酬計算!$R$27
Name JICA1号3: JICA報酬計算!$S$27
Name JICA1号4: JICA報酬計算!$T$27
Name JICA1号45: JICA報酬計算!$T$27
Name JICA1号5: JICA報酬計算!$U$27
Name JICA1号6: JICA報酬計算!$V$27
Name JICA2号1: JICA報酬計算!$Q$28
Name JICA2号2: JICA報酬計算!$R$28
Name JICA2号3: JICA報酬計算!$S$28
Name JICA2号4: JICA報酬計算!$T$28
Name JICA2号5: JICA報酬計算!$U$28
Name JICA2号6: JICA報酬計算!$V$28
Name JICA3号1: JICA報酬計算!$Q$29
Name JICA3号2: JICA報酬計算!$R$29
Name JICA3号3: JICA報酬計算!$S$29
Name JICA3号4: JICA報酬計算!$T$29
Name JICA3号5: JICA報酬計算!$U$29
Name JICA3号6: JICA報酬計算!$V$29
Name JICA4号1: JICA報酬計算!$Q$30
Name JICA4号2: JICA報酬計算!$R$30
Name JICA4号3: JICA報酬計算!$S$30
Name JICA4号4: JICA報酬計算!$T$30
Name JICA4号5: JICA報酬計算!$U$30
Name JICA4号6: JICA報酬計算!$V$30
Name JICA5号1: JICA報酬計算!$Q$31
Name JICA5号2: JICA報酬計算!$R$31
Name JICA5号3: JICA報酬計算!$S$31
Name JICA5号4: JICA報酬計算!$T$31
Name JICA5号5: JICA報酬計算!$U$31
Name JICA5号6: JICA報酬計算!$V$31
Name JICA6号1: JICA報酬計算!$Q$32
Name JICA6号2: JICA報酬計算!$R$32
Name JICA6号3: JICA報酬計算!$S$32
Name JICA6号4: JICA報酬計算!$T$32
Name JICA6号5: JICA報酬計算!$U$32
Name JICA6号6: JICA報酬計算!$V$32
Name JICA社員報酬額: JICA報酬計算!$L$61
Name JICA借上報酬額: JICA報酬計算!$L$62
Name JICA特号1: JICA報酬計算!$Q$26
Name JICA特号2: JICA報酬計算!$R$26
Name JICA特号3: JICA報酬計算!$S$26
Name JICA特号4: JICA報酬計算!$T$26
Name JICA特号5: JICA報酬計算!$U$26
Name JICA特号6: JICA報酬計算!$V$26
Name JICA年1: JICA報酬計算!$Q$24
Name JICA年2: JICA報酬計算!$R$24
Name JICA年3: JICA報酬計算!$S$24
Name JICA年4: JICA報酬計算!$T$24
Name JICA年5: JICA報酬計算!$U$24
Name JICA年6: JICA報酬計算!$V$24
Name PIT社員: ⑤経費!$J$179
Name PIT社員_円換算値: ⑥経費一覧表!$D$14
Name PIT社員_通貨1: ⑤経費!$M$179

Sheet ①基本条件
B2: プロジェクト基本情報入力
B3: プロジェクト番号 | C3: JA15R1003P | D3: ※黄色のセルを入力してください。
B4: 作業科目 | C4: JA15R1003 | D4: ※オレンジ色のセルは修正がある場合に上書きしてください。
B5: プロジェクト件名 | C5: ベトナム国ハノイ市環状３号線整備事業(マイジック-南タンロン区間)
B6: 顧客名 | C6: ベトナム政府
B7: 資金源 | C7: (独)国際協力機構 円借款
B8: 請負形態 | C8: ＪＶメイン
B9: 主管部 | C9: 道路橋梁部
B10: 分担部 | C10: 道路橋梁部
B11: 工期開始日 | C11: 42200
B12: 工期終了日 | C12: 42627
B13: 完成予定日 | C13: 42735 | D13: ←経理上の完成予定日。通常は、工期終了日と同じ。
B14: TL | C14: 石本 一鶴
B15: 所長 | C15: 前田 哲哉
B16: 課長 | C16: 佐野 祐一
B17: 担当者 | C17: 徳丸 祥一郎
B18: 完成年度 | C18: 2017 | D18: ←西暦（yyyy）で入力して下さい。
B19: 完成基準 | C19: 出来高基準 | D19: 例：2017年6月期⇒2017、2018年6月期⇒2018
B20: 予算種類 | C20: 単年度実行予算 | D20: ←リストから選択して下さい。
D21: ↓使用する通貨を入力してください。例：USD、VNDなど。
C22: 通貨1 | D22: 通貨2 | E22: 通貨3 | F22: 通貨4
B23: 種類 | C23: JPY
B24: 前年度月末レート | C24: =IF(通貨1="",0,VLOOKUP(通貨1,T_為替!$B$3:$C$132,2,FALSE)) -> 1 | D24: =IF(通貨2="",0,VLOOKUP(通貨2,T_為替!$B:$C,2,FALSE)) -> 0 | E24: =IF(通貨3="",0,VLOOKUP(通貨3,T_為替!$B:$C,2,FALSE)) -> 0 | F24: =IF(通貨4="",0,VLOOKUP(通貨4,T_為替!$B:$C,2,FALSE)) -> 0
B25: 表示単位 | C25: =IF(通貨1レート=0,0,IF(通貨1<0.01,1000,1)) -> 1 | D25: =IF(通貨2レート=0,0,IF(通貨2レート<0.01,1000,1)) -> 0 | E25: =IF(通貨3レート=0,0,IF(通貨3レート<0.01,1000,1)) -> 0 | F25: =IF(通貨4レート=0,0,IF(通貨4レート<0.01,1000,1)) -> 0
B26: ※通貨は、最大で４つまで指定できます。 ※通貨を指定する際に、契約通貨を必ず含めてください。不要な通貨はブランクとしておいて下さい。 ※レートは別のシートから自動で検索します。 ※レートが0.01以下の場合は1000通貨単位で表示するようにします。 ※シートはエラー防止のためにロックしています。
C33: 通貨コード一覧
C34: USD
C35: EUR
C36: DKK
C37: CAD
C38: GBP
C39: CHF
C40: AUD
C41: HKD
C42: SGD
C43: AED
C44: THB
... C162: YEN

Sheet 主管用分担計画
B2: 主管部用 分担売上計画 | D2: 主管部 | E2: =主管部 -> 道路橋梁部 | F2: ﾌﾟﾛｼﾞｪｸﾄ番号 | G2: =プロジェクトコード -> JA15R1003P | I2: 黄色のセルを入力して下さい。オレンジ色のセルは修正がある場合に上書きして下さい。
D3: 件 名 | E3: =プロジェクト件名 -> ベトナム国ハノイ市環状３号線整備事業(マイジック-南タンロン区間) | I3: シートはエラー防止のためにロックしています。
B5: 新規または予算変更でシステムからダウンロードした時点で確定しているプロジェクト全体の契約金額と売上額を表示しています。次年度以降の予算を作成する場合、「前期」はダウンロードした時点からみた前期会計年度、「当期」はダウンロードした時点での会計年度を指すため、「a. 前期迄契約額」「b. 前期迄売上額」「d. 当期受注額」に表示されている金額を修正する必要があります。なお、受注計上前には、上記金額は表示されません。 | E5: 契約通貨1 | F5: 契約通貨2 | G5: 契約通貨3 | H5: 契約通貨4
D6: 通貨種類 | E6: JPY | I6: ←受注計上された契約通貨を表示しています。基本条件で入力した通貨ではありませんので注意してください。（受注計上前にはJPYのみ表示されますので、必要に応じて、契約予定通貨を選択してください。）
D7: レート | E7: =IF(契約通貨1="",0,IF(契約通貨1="JPY",1,VLOOKUP(契約通貨1,T_為替!$B$3:$C$132,2,FALSE))) -> 1 | F7: =IF(契約通貨2="",0,IF(契約通貨2="JPY",1,VLOOKUP(契約通貨2,T_為替!$B$3:$C$132,2,FALSE))) -> 0 | G7: =IF(契約通貨3="",0,IF(契約通貨3="JPY",1,VLOOKUP(契約通貨3,T_為替!$B$3:$C$132,2,FALSE))) -> 0 | H7: =IF(契約通貨4="",0,IF(契約通貨4="JPY",1,VLOOKUP(契約通貨4,T_為替!$B$3:$C$132,2,FALSE))) -> 0
D8: 表示単位 | E8: =IF(契約通貨1レート=0,0,IF(契約通貨1レート<0.01,1000,1)) -> 1 | F8: =IF(契約通貨2レート=0,0,IF(契約通貨2レート<0.01,1000,1)) -> 0 | G8: =IF(契約通貨3レート=0,0,IF(契約通貨3レート<0.01,1000,1)) -> 0 | H8: =IF(契約通貨4レート=0,0,IF(契約通貨4レート<0.01,1000,1)) -> 0
B10: 契約金額と売上額の推移 | D10: 円換算額 | E10: =IF(契約通貨1="","",IF(契約通貨1単位=1,契約通貨1,契約通貨1単位&契約通貨1)) -> JPY | F10: =IF(契約通貨2="","",IF(契約通貨2単位=1,契約通貨2,契約通貨2単位&契約通貨2)) | G10: =IF(契約通貨3="","",IF(契約通貨3単位=1,契約通貨3,契約通貨3単位&契約通貨3)) | H10: =IF(契約通貨4="","",IF(契約通貨4単位=1,契約通貨4,契約通貨4単位&契約通貨4))
B11: a. 前期迄契約額 | D11: =SUMPRODUCT(E$7:H$7,E11:H11,E$8:H$8) -> 98648421 | E11: =IF(契約通貨1単位=0,0,98648421/契約通貨1単位) -> 98648421 | F11: =IF(契約通貨2単位=0,0,0/契約通貨2単位) -> 0 | G11: =IF(契約通貨3単位=0,0,0/契約通貨3単位) -> 0 | H11: =IF(契約通貨4単位=0,0,0/契約通貨4単位) -> 0
B12: b. 前期迄売上額 | D12: =SUMPRODUCT(E$7:H$7,E12:H12,E$8:H$8) -> 87088857 | E12: =IF(契約通貨1単位=0,0,87088857/契約通貨1単位) -> 87088857 | F12: =IF(契約通貨2単位=0,0,0/契約通貨2単位) -> 0 | G12: =IF(契約通貨3単位=0,0,0/契約通貨3単位) -> 0 | H12: =IF(契約通貨4単位=0,0,0/契約通貨4単位) -> 0
B13: c. 前期繰越受注額（a-b） | D13: =SUMPRODUCT(E$7:H$7,E13:H13,E$8:H$8) -> 11559564 | E13: =E11-E12 -> 11559564 | F13: =F11-F12 -> 0 | G13: =G11-G12 -> 0 | H13: =H11-H12 -> 0
B14: d. 当期受注額 | D14: =SUMPRODUCT(E$7:H$7,E14:H14,E$8:H$8) -> 3806094 | E14: 3806094 | F14: =IF(契約通貨2単位=0,0,0/契約通貨2単位) -> 0 | G14: =IF(契約通貨3単位=0,0,0/契約通貨3単位) -> 0 | H14: =IF(契約通貨4単位=0,0,0/契約通貨4単位) -> 0
B15: e. 契約変更予定額（※1） | D15: =SUMPRODUCT(E$7:H$7,E15:H15,E$8:H$8) -> 0 | E15: =IFERROR(HLOOKUP(E$10,$E$26:$H$31,6,FALSE),0) -> 0 | F15: =IFERROR(HLOOKUP(F$10,$E$26:$H$31,6,FALSE),0) -> 0 | G15: =IFERROR(HLOOKUP(G$10,$E$26:$H$31,6,FALSE),0) -> 0 | H15: =IFERROR(HLOOKUP(H$10,$E$26:$H$31,6,FALSE),0) -> 0
B16: f. 契約残高（c+d+e） | D16: =SUMPRODUCT(E$7:H$7,E16:H16,E$8:H$8) -> 15365658 | E16: =E11-E12+E14+E15 -> 15365658 | F16: =F11-F12+F14+F15 -> 0 | G16: =G11-G12+G14+G15 -> 0 | H16: =H11-H12+H14+H15 -> 0
B17: g. 完成予定額（※2） | D17: =SUMPRODUCT(E$7:H$7,E17:H17,E$8:H$8) -> 5495300 | E17: =IFERROR(HLOOKUP(E$10,$E$34:$H$40,6,FALSE),0) -> 5495300 | F17: =IFERROR(HLOOKUP(F$10,$E$34:$H$40,6,FALSE),0) -> 0 | G17: =IFERROR(HLOOKUP(G$10,$E$34:$H$40,6,FALSE),0) -> 0 | H17: =IFERROR(HLOOKUP(H$10,$E$34:$H$40,6,FALSE),0) -> 0
B18: h. 繰越予定額（f-g） | D18: =SUMPRODUCT(E$7:H$7,E18:H18,E$8:H$8) -> 9870358 | E18: =E16-E17 -> 9870358 | F18: =F16-F17 -> 0 | G18: =G16-G17 -> 0 | H18: =H16-H17 -> 0
B20: 分担売上計画は、主管部がプロジェクト開始時、契約額変更時、分担額変更時、新年度開始時に作成し、主管部の単年度実行予算書に添付するようにして下さい。 | E20: 通貨1 | F20: 通貨2 | G20: 通貨3 | H20: 通貨4
D21: 通貨種類 | E21: =IF(通貨1="","",通貨1) -> JPY | F21: =IF(通貨2="","",通貨2) | G21: =IF(通貨3="","",通貨3) | H21: =IF(通貨4="","",通貨4) | I21: ←基本条件で入力した通貨を表示しています。
D22: レート | E22: =IF(通貨1レート="","",通貨1レート) -> 1 | F22: =IF(通貨2レート="","",通貨2レート) -> 0 | G22: =IF(通貨3レート="","",通貨3レート) -> 0 | H22: =IF(通貨4レート="","",通貨4レート) -> 0
D23: 表示単位 | E23: =IF(通貨1単位="","",通貨1単位) -> 1 | F23: =IF(通貨2単位="","",通貨2単位) -> 0 | G23: =IF(通貨3単位="","",通貨3単位) -> 0 | H23: =IF(通貨4単位="","",通貨4単位) -> 0
B25: 注）↓契約変更が予定されている場合に入力する。ただし、契約後に上記の「d.当期受注額」が確定するので、確定後はデータをゼロにすること。
C26: 費 目 | D26: 円換算額 | E26: =通貨1 -> JPY | F26: =IF(通貨2="","",IF(通貨2単位=1,通貨2,通貨2単位&通貨2)) | G26: =IF(通貨3="","",IF(通貨3単位=1,通貨3,通貨3単位&通貨3)) | H26: =IF(通貨4="","",IF(通貨4単位=1,通貨4,通貨4単位&通貨4))
B27: 契約変更予定額 （※1：上記のeに相当） | C27: 報酬売上額 | D27: =SUMPRODUCT(E$22:H$22,E27:H27,E$23:H$23) -> 0 | I27: ←特に、JICA等でダイレクトコストに未消化分があり、精算時に減額が見込まれるような場合に利用して下さい。この場合も、精算確定後は「d.当期受注額」が変更になります。「d.当期受注額」の変更後は、左のデータをゼロにして下さい。
C28: 内、社員報酬額 | D28: =SUMPRODUCT(E$22:H$22,E28:H28,E$23:H$23) -> 0 | E28: =E27-E29 -> 0 | F28: =F27-F29 -> 0 | G28: =G27-G29 -> 0 | H28: =H27-H29 -> 0
C29: 内、借上報酬額 | D29: =SUMPRODUCT(E$22:H$22,E29:H29,E$23:H$23) -> 0
C30: 経費売上額 | D30: =SUMPRODUCT(E$22:H$22,E30:H30,E$23:H$23) -> 0
C31: 売上額計 | D31: =SUMPRODUCT(E$22:H$22,E31:H31,E$23:H$23) -> 0 | E31: =E27+E30 -> 0 | F31: =F27+F30 -> 0 | G31: =G27+G30 -> 0 | H31: =H27+H30 -> 0
B33: 注）↓分担売上計画を完成予定高を確定して、その後、分担金額を入力して下さい。
C34: 費 目 | D34: 円換算額 | E34: =通貨1 -> JPY | F34: =IF(通貨2=0,"",IF(通貨2単位=1,通貨2,通貨2単位&通貨2)) | G34: =IF(通貨3=0,"",IF(通貨3単位=1,通貨3,通貨3単位&通貨3)) | H34: =IF(通貨4=0,"",IF(通貨4単位=1,通貨4,通貨4単位&通貨4))
B35: 完成予定額 （※2） | C35: 報酬売上額 | D35: =SUMPRODUCT(E$22:H$22,E35:H35,E$23:H$23) -> 3902500 | E35: =②売上計画!E25 -> 3902500 | I35: ←当該年度（部分完成基準の場合は当該年度以降）に売上を予定している報酬額を入力して下さい。
C36: 内、社員報酬額 | D36: =SUMPRODUCT(E$22:H$22,E36:H36,E$23:H$23) -> 3902500 | E36: =E35-E37 -> 3902500 | F36: =F35-F37 -> 0 | G36: =G35-G37 -> 0 | H36: =H35-H37 -> 0
C37: 内、借上報酬額 | D37: =SUMPRODUCT(E$22:H$22,E37:H37,E$23:H$23) -> 0 | I37: ←報酬額の内、借上分の報酬額を入力して下さい。
C38: 経費売上額 | D38: =SUMPRODUCT(E$22:H$22,E38:H38,E$23:H$23) -> 1592800 | E38: =経費内訳計通貨1 -> 1592800 | I38: ←当該年度（部分完成基準の場合は当該年度以降）に売上を予定している経費額を入力して下さい。
C39: 売上額計 | D39: =SUMPRODUCT(E$22:H$22,E39:H39,E$23:H$23) -> 5495300 | E39: =E35+E38 -> 5495300 | F39: =F35+F38 -> 0 | G39: =G35+G38 -> 0 | H39: =H35+H38 -> 0
C40: 内、CIT見込額 | D40: =SUMPRODUCT(E$22:H$22,E40:H40,E$23:H$23) -> 250000 | E40: =CIT見込額計通貨1 -> 250000 | I40: ←売上額の内、CITの見込み額を入力して下さい。
B41: 主管部略称 | C41: 報酬売上額 | D41: =SUMPRODUCT(E$22:H$22,E41:H41,E$23:H$23) -> 3902500 | E41: =E35-SUMIF($C$47:$C$105,$C41,$E$47:$E$105) -> 3902500 | F41: =F35-SUMIF($C$47:$C$105,$C41,$F$47:$F$105) -> 0 | G41: =G35-SUMIF($C$47:$C$105,$C41,$G$47:$G$105) -> 0 | H41: =H35-SUMIF($C$47:$C$105,$C41,$H$47:$H$105) -> 0
B42: 道路・橋梁部 | C42: 内、社員報酬額 | D42: =SUMPRODUCT(E$22:H$22,E42:H42,E$23:H$23) -> 3902500 | E42: =E41-E43 -> 3902500 | F42: =F41-F43 -> 0 | G42: =G41-G43 -> 0 | H42: =H41-H43 -> 0
B43: 完成予定年度 | C43: 内、借上報酬額 | D43: =SUMPRODUCT(E$22:H$22,E43:H43,E$23:H$23) -> 0 | E43: =E37-SUMIF($C$47:$C$105,$C43,$E$47:$E$105) -> 0 | F43: =F37-SUMIF($C$47:$C$105,$C43,$F$47:$F$105) -> 0 | G43: =G37-SUMIF($C$47:$C$105,$C43,$G$47:$G$105) -> 0 | H43: =H37-SUMIF($C$47:$C$105,$C43,$H$47:$H$105) -> 0 | I43: 完成予定額－∑分担額 が自動で計算されます。
B44: 2017 | C44: 経費売上額 | D44: =SUMPRODUCT(E$22:H$22,E44:H44,E$23:H$23) -> 1592800 | E44: =E38-SUMIF($C$47:$C$105,$C44,$E$47:$E$105) -> 1592800 | F44: =F38-SUMIF($C$47:$C$105,$C44,$F$47:$F$105) -> 0 | G44: =G38-SUMIF($C$47:$C$105,$C44,$G$47:$G$105) -> 0 | H44: =H38-SUMIF($C$47:$C$105,$C44,$H$47:$H$105) -> 0
B45: WBS | C45: 売上額計 | D45: =SUMPRODUCT(E$22:H$22,E45:H45,E$23:H$23) -> 5495300 | E45: =E41+E44 -> 5495300 | F45: =F41+F44 -> 0 | G45: =G41+G44 -> 0 | H45: =H41+H44 -> 0
B46: JA15R1003 | C46: 内、CIT見込額 | E46: =E40-SUMIF($C$47:$C$105,$C46,E$47:E$105) -> 250000 | F46: =F40-SUMIF($C$47:$C$105,$C46,F$47:F$105) -> 0 | G46: =G40-SUMIF($C$47:$C$105,$C46,G$47:G$105) -> 0 | H46: =H40-SUMIF($C$47:$C$105,$C46,H$47:H$105) -> 0
...

Sheet ②売上計画
B2: 売上計画 | D2: 分担部 | E2: =分担部 -> 道路橋梁部 | F2: 作業科目： | G2: =WBS -> JA15R1003
D3: 件名： | E3: =プロジェクト件名 -> ベトナム国ハノイ市環状３号線整備事業(マイジック-南タンロン区間)
B5: ※黄色のセルを入力してください。 | E5: 通貨1 | F5: 通貨2 | G5: 通貨3 | H5: 通貨4
D6: 通貨種類 | E6: =IF(通貨1="","",通貨1) -> JPY | F6: =IF(通貨2="","",通貨2) | G6: =IF(通貨3="","",通貨3) | H6: =IF(通貨4="","",通貨4)
D7: レート | E7: =通貨1レート -> 1 | F7: =通貨2レート -> 0 | G7: =通貨3レート -> 0 | H7: =通貨4レート -> 0
D8: 表示単位 | E8: =通貨1単位 -> 1 | F8: =通貨2単位 -> 0 | G8: =通貨3単位 -> 0 | H8: =通貨4単位 -> 0
B10: 報酬内訳 | D10: ※報酬額を社員と借上要員分に分けて合計額を入力してください。
B11: No. | C11: 項 目 | D11: 円換算額 | E11: =通貨1 -> JPY | F11: =IF(通貨2="","",IF(通貨2単位=1,通貨2,通貨2単位&通貨2)) | G11: =IF(通貨3="","",IF(通貨3単位=1,通貨3,通貨3単位&通貨3)) | H11: =IF(通貨4="","",IF(通貨4単位=1,通貨4,通貨4単位&通貨4))
B12: 01 | C12: 社員報酬額（人件費シートより） | D12: =SUMPRODUCT(E$7:H$7,E$8:H$8,E12:H12) -> 3902500 | E12: =社員報酬売上高_受注通貨1 -> 3902500 | F12: =社員報酬売上高_受注通貨2 -> 0 | G12: =社員報酬売上高_受注通貨3 -> 0 | H12: =社員報酬売上高_受注通貨4 -> 0
B13: 参考 | C13: 社員報酬額（JICA用報酬計算シートより） 計算には加えていません、検算用です。 | D13: =SUMPRODUCT(E$7:H$7,E$8:H$8,E13:H13) -> 0 | E13: =JICA社員報酬額 -> 0
B14: 02 | C14: 手入力 | D14: =SUMPRODUCT(E$7:H$7,E$8:H$8,E14:H14) -> 0
B15: 03 | C15: 分担調整金（手入力してください） | D15: =SUMPRODUCT(E$7:H$7,E$8:H$8,E15:H15) -> 0
B16: 04 | C16: 端数調整 | D16: =SUMPRODUCT(E$7:H$7,E$8:H$8,E16:H16) -> 0
C17: 社員報酬額 計 | D17: =SUM(D12:D16)-D13 -> 3902500 | E17: =SUM(E12:E16)-E13 -> 3902500 | F17: =SUM(F12:F16)-F13 -> 0 | G17: =SUM(G12:G16)-G13 -> 0 | H17: =SUM(H12:H16)-H13 -> 0
B19: 05 | C19: 借上報酬額（借上費シートより） | D19: =SUMPRODUCT(E$7:H$7,E$8:H$8,E19:H19) -> 0 | E19: =借上報酬額_受注通貨1 -> 0 | F19: =借上報酬額_受注通貨2 -> 0 | G19: =借上報酬額_受注通貨3 -> 0 | H19: =借上報酬額_受注通貨4 -> 0
B20: 参考 | C20: 借上報酬額（JICA用報酬計算シートより） 計算には加えていません、検算用です。 | D20: =SUMPRODUCT(E$7:H$7,E$8:H$8,E20:H20) -> 0 | E20: =JICA借上報酬額 -> 0
B21: 06 | C21: 手入力 | D21: =SUMPRODUCT(E$7:H$7,E$8:H$8,E21:H21) -> 0
B22: 07 | C22: 分担調整金（手入力してください） | D22: =SUMPRODUCT(E$7:H$7,E$8:H$8,E22:H22) -> 0
B23: 08 | C23: 端数調整 | D23: =SUMPRODUCT(E$7:H$7,E$8:H$8,E23:H23) -> 0
C24: 借上報酬額 計 | D24: =SUMPRODUCT(E$7:H$7,E$8:H$8,E24:H24) -> 0 | E24: =SUM(E19:E23)-E20 -> 0 | F24: =SUM(F19:F23)-F20 -> 0 | G24: =SUM(G19:G23)-G20 -> 0 | H24: =SUM(H19:H23)-H20 -> 0
C25: 報酬売上高 合計 | D25: =D24+D17 -> 3902500 | E25: =E24+E17 -> 3902500 | F25: =F24+F17 -> 0 | G25: =G24+G17 -> 0 | H25: =H24+H17 -> 0
B27: 契約MM内訳 | D27: ※報酬に対応するMMを社員と借上要員に分けて入力してください。
B28: No. | C28: 項 目 | D28: MM計 | E28: =通貨1 -> JPY | F28: =IF(通貨2="","",IF(通貨2単位=1,通貨2,通貨2単位&通貨2)) | G28: =IF(通貨3="","",IF(通貨3単位=1,通貨3,通貨3単位&通貨3)) | H28: =IF(通貨4="","",IF(通貨4単位=1,通貨4,通貨4単位&通貨4))
B29: 01 | C29: 契約MM 社員分（人件費シートより） | D29: =SUM(E29:H29) -> 2.23 | E29: =③人件費!D133 -> 2.23 | F29: =③人件費!D134 -> 0 | G29: =③人件費!D135 -> 0 | H29: =③人件費!D136 -> 0
B30: 02 | C30: 契約MM 借上分（借上費シートより） | D30: =SUM(E30:H30) -> 0 | E30: =④借上費!C174 -> 0 | F30: =④借上費!C175 -> 0 | G30: =④借上費!C176 -> 0 | H30: =④借上費!C177 -> 0
C31: 契約MM 計 | D31: =SUM(D29:D30) -> 2.23 | E31: =SUM(E29:E30) -> 2.23 | F31: =SUM(F29:F30) -> 0 | G31: =SUM(G29:G30) -> 0 | H31: =SUM(H29:H30) -> 0
B32: 03 | C32: 非契約MM 社員分（人件費シートより） | D32: =SUM(E32:H32) -> 1 | E32: =③人件費!$R$60 -> 1 | F32: =③人件費!$R$118 -> 0
B33: 04 | C33: 非契約MM 借上分（借上費シートより） | D33: =SUM(E33:H33) -> 0 | E33: =④借上費!$R$41 -> 0 | F33: =④借上費!$R$85 -> 0 | G33: =④借上費!$R$124 -> 0 | H33: =④借上費!$R$163 -> 0
C34: 非契約MM 計 | D34: =SUM(D32:D33) -> 1 | E34: =SUM(E32:E33) -> 1 | F34: =SUM(F32:F33) -> 0 | G34: =SUM(G32:G33) -> 0 | H34: =SUM(H32:H33) -> 0
B36: 経費内訳 | D36: ※売上の内、経費部分に相当する金額を入力してください。
B37: No. | C37: 項 目 | D37: 円換算額 | E37: =通貨1 -> JPY | F37: =IF(通貨2="","",IF(通貨2単位=1,通貨2,通貨2単位&通貨2)) | G37: =IF(通貨3="","",IF(通貨3単位=1,通貨3,通貨3単位&通貨3)) | H37: =IF(通貨4="","",IF(通貨4単位=1,通貨4,通貨4単位&通貨4))
B38: 01 | C38: 旅費（航空賃） | D38: =SUMPRODUCT(E$7:H$7,E$8:H$8,E38:H38) -> 504000 | E38: =2*252000 -> 504000
B39: 02 | C39: 旅行諸雑費 | D39: =SUMPRODUCT(E$7:H$7,E$8:H$8,E39:H39) -> 36000 | E39: =2*18000 -> 36000
B40: 03 | C40: 日当・宿泊費 | D40: =SUMPRODUCT(E$7:H$7,E$8:H$8,E40:H40) -> 802800 | E40: =(③人件費!P60*30)*12000 -> 802800
B41: 04 | C41: CIT（報酬・経費の外出しで契約に計上されている） | D41: =SUMPRODUCT(E$7:H$7,E$8:H$8,E41:H41) -> 250000 | E41: 250000
B42: 05 | D42: =SUMPRODUCT(E$7:H$7,E$8:H$8,E42:H42) -> 0
B43: 06 | D43: =SUMPRODUCT(E$7:H$7,E$8:H$8,E43:H43) -> 0
B44: 07 | D44: =SUMPRODUCT(E$7:H$7,E$8:H$8,E44:H44) -> 0
B45: 08 | D45: =SUMPRODUCT(E$7:H$7,E$8:H$8,E45:H45) -> 0
B46: 09 | D46: =SUMPRODUCT(E$7:H$7,E$8:H$8,E46:H46) -> 0
...

Sheet JICA報酬計算
B2: JICA用B/R計算シート | G2: 分担部 | H2: =分担部 -> 道路橋梁部 | J2: 作業科目： | L2: =WBS -> JA15R1003
G3: 件名： | H3: =プロジェクト件名 -> ベトナム国ハノイ市環状３号線整備事業(マイジック-南タンロン区間)
B5: 氏名 | C5: 社員・借上 等区分 | D5: 格付 | E5: 月額単価 | F5: 派遣 期間 | G5: 直接人件費 | H5: 諸経 費率 | I5: 諸経費 | J5: 技術 経費率 | K5: 技術経費 | L5: 報酬額 | M5: B/R
E6: =IF(D6="",0,VLOOKUP(D6,JICA報酬計算!$O$26:$P$32,2,FALSE)) -> 0 | G6: =E6*F6 -> 0 | I6: =G6*H6 -> 0 | K6: =(G6+I6)*J6 -> 0 | L6: =G6+I6+K6 -> 0 | M6: =IF(F6=0,0,L6/F6) -> 0
E7: =IF(D7="",0,VLOOKUP(D7,JICA報酬計算!$O$26:$P$32,2,FALSE)) -> 0 | G7: =E7*F7 -> 0 | I7: =G7*H7 -> 0 | K7: =(G7+I7)*J7 -> 0 | L7: =G7+I7+K7 -> 0 | M7: =IF(F7=0,0,L7/F7) -> 0
E8: =IF(D8="",0,VLOOKUP(D8,JICA報酬計算!$O$26:$P$32,2,FALSE)) -> 0 | G8: =E8*F8 -> 0 | I8: =G8*H8 -> 0 | K8: =(G8+I8)*J8 -> 0 | L8: =G8+I8+K8 -> 0 | M8: =IF(F8=0,0,L8/F8) -> 0
E9: =IF(D9="",0,VLOOKUP(D9,JICA報酬計算!$O$26:$P$32,2,FALSE)) -> 0 | G9: =E9*F9 -> 0 | I9: =G9*H9 -> 0 | K9: =(G9+I9)*J9 -> 0 | L9: =G9+I9+K9 -> 0 | M9: =IF(F9=0,0,L9/F9) -> 0
E10: =IF(D10="",0,VLOOKUP(D10,JICA報酬計算!$O$26:$P$32,2,FALSE)) -> 0 | G10: =E10*F10 -> 0 | I10: =G10*H10 -> 0 | K10: =(G10+I10)*J10 -> 0 | L10: =G10+I10+K10 -> 0 | M10: =IF(F10=0,0,L10/F10) -> 0
E11: =IF(D11="",0,VLOOKUP(D11,JICA報酬計算!$O$26:$P$32,2,FALSE)) -> 0 | G11: =E11*F11 -> 0 | I11: =G11*H11 -> 0 | K11: =(G11+I11)*J11 -> 0 | L11: =G11+I11+K11 -> 0 | M11: =IF(F11=0,0,L11/F11) -> 0
E12: =IF(D12="",0,VLOOKUP(D12,JICA報酬計算!$O$26:$P$32,2,FALSE)) -> 0 | G12: =E12*F12 -> 0 | I12: =G12*H12 -> 0 | K12: =(G12+I12)*J12 -> 0 | L12: =G12+I12+K12 -> 0 | M12: =IF(F12=0,0,L12/F12) -> 0
E13: =IF(D13="",0,VLOOKUP(D13,JICA報酬計算!$O$26:$P$32,2,FALSE)) -> 0 | G13: =E13*F13 -> 0 | I13: =G13*H13 -> 0 | K13: =(G13+I13)*J13 -> 0 | L13: =G13+I13+K13 -> 0 | M13: =IF(F13=0,0,L13/F13) -> 0
E14: =IF(D14="",0,VLOOKUP(D14,JICA報酬計算!$O$26:$P$32,2,FALSE)) -> 0 | G14: =E14*F14 -> 0 | I14: =G14*H14 -> 0 | K14: =(G14+I14)*J14 -> 0 | L14: =G14+I14+K14 -> 0 | M14: =IF(F14=0,0,L14/F14) -> 0
E15: =IF(D15="",0,VLOOKUP(D15,JICA報酬計算!$O$26:$P$32,2,FALSE)) -> 0 | G15: =E15*F15 -> 0 | I15: =G15*H15 -> 0 | K15: =(G15+I15)*J15 -> 0 | L15: =G15+I15+K15 -> 0 | M15: =IF(F15=0,0,L15/F15) -> 0
E16: =IF(D16="",0,VLOOKUP(D16,JICA報酬計算!$O$26:$P$32,2,FALSE)) -> 0 | G16: =E16*F16 -> 0 | I16: =G16*H16 -> 0 | K16: =(G16+I16)*J16 -> 0 | L16: =G16+I16+K16 -> 0 | M16: =IF(F16=0,0,L16/F16) -> 0
E17: =IF(D17="",0,VLOOKUP(D17,JICA報酬計算!$O$26:$P$32,2,FALSE)) -> 0 | G17: =E17*F17 -> 0 | I17: =G17*H17 -> 0 | K17: =(G17+I17)*J17 -> 0 | L17: =G17+I17+K17 -> 0 | M17: =IF(F17=0,0,L17/F17) -> 0
... E21: =IF(D21="",0,VLOOKUP(D21,JICA報酬計算!$O$26:$P$32,2,FALSE)) -> 0 | G21: =E21*F21 -> 0 | I21: =G21*H21 -> 0 | K21: =(G21+I21)*J21 -> 0 | L21: =G21+I21+K21 -> 0 | M21: =IF(F21=0,0,L21/F21) -> 0
E22: =IF(D22="",0,VLOOKUP(D22,JICA報酬計算!$O$26:$P$32,2,FALSE)) -> 0 | G22: =E22*F22 -> 0 | I22: =G22*H22 -> 0 | K22: =(G22+I22)*J22 -> 0 | L22: =G22+I22+K22 -> 0 | M22: =IF(F22=0,0,L22/F22) -> 0 | P22: ↓プロジェクトで使用する年度の単価を右の表からコピーしてください。
E23: =IF(D23="",0,VLOOKUP(D23,JICA報酬計算!$O$26:$P$32,2,FALSE)) -> 0 | G23: =E23*F23 -> 0 | I23: =G23*H23 -> 0 | K23: =(G23+I23)*J23 -> 0 | L23: =G23+I23+K23 -> 0 | M23: =IF(F23=0,0,L23/F23) -> 0 | O23: 格 付 | P23: このシートの採用単価 | Q23: 【参考】基準月額（円）
E24: =IF(D24="",0,VLOOKUP(D24,JICA報酬計算!$O$26:$P$32,2,FALSE)) -> 0 | G24: =E24*F24 -> 0 | I24: =G24*H24 -> 0 | K24: =(G24+I24)*J24 -> 0 | L24: =G24+I24+K24 -> 0 | M24: =IF(F24=0,0,L24/F24) -> 0 | Q24: 2011年度 | R24: 2012年度 | S24: 2013年度 | T24: 2014年度 | U24: 2015年度 | V24: 2016年度
E25: =IF(D25="",0,VLOOKUP(D25,JICA報酬計算!$O$26:$P$32,2,FALSE)) -> 0 | G25: =E25*F25 -> 0 | I25: =G25*H25 -> 0 | K25: =(G25+I25)*J25 -> 0 | L25: =G25+I25+K25 -> 0 | M25: =IF(F25=0,0,L25/F25) -> 0 | O25: 格付 | P25: 採用単価 | Q25: 2011年度 | R25: 2012年度 | S25: 2013年度 | T25: 2014年度 | U25: 2015年度 | V25: 2016年度
E26: =IF(D26="",0,VLOOKUP(D26,JICA報酬計算!$O$26:$P$32,2,FALSE)) -> 0 | G26: =E26*F26 -> 0 | I26: =G26*H26 -> 0 | K26: =(G26+I26)*J26 -> 0 | L26: =G26+I26+K26 -> 0 | M26: =IF(F26=0,0,L26/F26) -> 0 | O26: 特 | Q26: 0 | R26: 0 | S26: 0 | T26: 0 | U26: 1202000 | V26: 1274000
E27: =IF(D27="",0,VLOOKUP(D27,JICA報酬計算!$O$26:$P$32,2,FALSE)) -> 0 | G27: =E27*F27 -> 0 | I27: =G27*H27 -> 0 | K27: =(G27+I27)*J27 -> 0 | L27: =G27+I27+K27 -> 0 | M27: =IF(F27=0,0,L27/F27) -> 0 | O27: 1 | Q27: 1036000 | R27: 1018000 | S27: 1016000 | T27: 1058000 | U27: 1116000 | V27: 1168000
E28: =IF(D28="",0,VLOOKUP(D28,JICA報酬計算!$O$26:$P$32,2,FALSE)) -> 0 | G28: =E28*F28 -> 0 | I28: =G28*H28 -> 0 | K28: =(G28+I28)*J28 -> 0 | L28: =G28+I28+K28 -> 0 | M28: =IF(F28=0,0,L28/F28) -> 0 | O28: 2 | Q28: 906000 | R28: 896000 | S28: 894000 | T28: 940000 | U28: 990000 | V28: 998000
E29: =IF(D29="",0,VLOOKUP(D29,JICA報酬計算!$O$26:$P$32,2,FALSE)) -> 0 | G29: =E29*F29 -> 0 | I29: =G29*H29 -> 0 | K29: =(G29+I29)*J29 -> 0 | L29: =G29+I29+K29 -> 0 | M29: =IF(F29=0,0,L29/F29) -> 0 | O29: 3 | Q29: 778000 | R29: 770000 | S29: 778000 | T29: 820000 | U29: 856000 | V29: 870000
E30: =IF(D30="",0,VLOOKUP(D30,JICA報酬計算!$O$26:$P$32,2,FALSE)) -> 0 | G30: =E30*F30 -> 0 | I30: =G30*H30 -> 0 | K30: =(G30+I30)*J30 -> 0 | L30: =G30+I30+K30 -> 0 | M30: =IF(F30=0,0,L30/F30) -> 0 | O30: 4 | Q30: 632000 | R30: 626000 | S30: 630000 | T30: 668000 | U30: 702000 | V30: 732000
E31: =IF(D31="",0,VLOOKUP(D31,JICA報酬計算!$O$26:$P$32,2,FALSE)) -> 0 | G31: =E31*F31 -> 0 | I31: =G31*H31 -> 0 | K31: =(G31+I31)*J31 -> 0 | L31: =G31+I31+K31 -> 0 | M31: =IF(F31=0,0,L31/F31) -> 0 | O31: 5 | Q31: 524000 | R31: 514000 | S31: 524000 | T31: 542000 | U31: 568000 | V31: 598000
E32: =IF(D32="",0,VLOOKUP(D32,JICA報酬計算!$O$26:$P$32,2,FALSE)) -> 0 | G32: =E32*F32 -> 0 | I32: =G32*H32 -> 0 | K32: =(G32+I32)*J32 -> 0 | L32: =G32+I32+K32 -> 0 | M32: =IF(F32=0,0,L32/F32) -> 0 | O32: 6 | Q32: 454000 | R32: 444000 | S32: 436000 | T32: 452000 | U32: 476000 | V32: 502000
E33: =IF(D33="",0,VLOOKUP(D33,JICA報酬計算!$O$26:$P$32,2,FALSE)) -> 0 | G33: =E33*F33 -> 0 | I33: =G33*H33 -> 0 | K33: =(G33+I33)*J33 -> 0 | L33: =G33+I33+K33 -> 0 | M33: =IF(F33=0,0,L33/F33) -> 0
E34: =IF(D34="",0,VLOOKUP(D34,JICA報酬計算!$O$26:$P$32,2,FALSE)) -> 0 | G34: =E34*F34 -> 0 | I34: =G34*H34 -> 0 | K34: =(G34+I34)*J34 -> 0 | L34: =G34+I34+K34 -> 0 | M34: =IF(F34=0,0,L34/F34) -> 0
E35: =IF(D35="",0,VLOOKUP(D35,JICA報酬計算!$O$26:$P$32,2,FALSE)) -> 0 | G35: =E35*F35 -> 0 | I35: =G35*H35 -> 0 | K35: =(G35+I35)*J35 -> 0 | L35: =G35+I35+K35 -> 0 | M35: =IF(F35=0,0,L35/F35) -> 0
E36: =IF(D36="",0,VLOOKUP(D36,JICA報酬計算!$O$26:$P$32,2,FALSE)) -> 0 | G36: =E36*F36 -> 0 | I36: =G36*H36 -> 0 | K36: =(G36+I36)*J36 -> 0 | L36: =G36+I36+K36 -> 0 | M36: =IF(F36=0,0,L36/F36) -> 0
E37: =IF(D37="",0,VLOOKUP(D37,JICA報酬計算!$O$26:$P$32,2,FALSE)) -> 0 | G37: =E37*F37 -> 0 | I37: =G37*H37 -> 0 | K37: =(G37+I37)*J37 -> 0 | L37: =G37+I37+K37 -> 0 | M37: =IF(F37=0,0,L37/F37) -> 0
E38: =IF(D38="",0,VLOOKUP(D38,JICA報酬計算!$O$26:$P$32,2,FALSE)) -> 0 | G38: =E38*F38 -> 0 | I38: =G38*H38 -> 0 | K38: =(G38+I38)*J38 -> 0 | L38: =G38+I38+K38 -> 0 | M38: =IF(F38=0,0,L38/F38) -> 0
E39: =IF(D39="",0,VLOOKUP(D39,JICA報酬計算!$O$26:$P$32,2,FALSE)) -> 0 | G39: =E39*F39 -> 0 | I39: =G39*H39 -> 0 | K39: =(G39+I39)*J39 -> 0 | L39: =G39+I39+K39 -> 0 | M39: =IF(F39=0,0,L39/F39) -> 0
E40: =IF(D40="",0,VLOOKUP(D40,JICA報酬計算!$O$26:$P$32,2,FALSE)) -> 0 | G40: =E40*F40 -> 0 | I40: =G40*H40 -> 0 | K40: =(G40+I40)*J40 -> 0 | L40: =G40+I40+K40 -> 0 | M40: =IF(F40=0,0,L40/F40) -> 0
E41: =IF(D41="",0,VLOOKUP(D41,JICA報酬計算!$O$26:$P$32,2,FALSE)) -> 0 | G41: =E41*F41 -> 0 | I41: =G41*H41 -> 0 | K41: =(G41+I41)*J41 -> 0 | L41: =G41+I41+K41 -> 0 | M41: =IF(F41=0,0,L41/F41) -> 0
E42: =IF(D42="",0,VLOOKUP(D42,JICA報酬計算!$O$26:$P$32,2,FALSE)) -> 0 | G42: =E42*F42 -> 0 | I42: =G42*H42 -> 0 | K42: =(G42+I42)*J42 -> 0 | L42: =G42+I42+K42 -> 0 | M42: =IF(F42=0,0,L42/F42) -> 0
E43: =IF(D43="",0,VLOOKUP(D43,JICA報酬計算!$O$26:$P$32,2,FALSE)) -> 0 | G43: =E43*F43 -> 0 | I43: =G43*H43 -> 0 | K43: =(G43+I43)*J43 -> 0 | L43: =G43+I43+K43 -> 0 | M43: =IF(F43=0,0,L43/F43) -> 0
E44: =IF(D44="",0,VLOOKUP(D44,JICA報酬計算!$O$26:$P$32,2,FALSE)) -> 0 | G44: =E44*F44 -> 0 | I44: =G44*H44 -> 0 | K44: =(G44+I44)*J44 -> 0 | L44: =G44+I44+K44 -> 0 | M44: =IF(F44=0,0,L44/F44) -> 0
... E56: =IF(D56="",0,VLOOKUP(D56,JICA報酬計算!$O$26:$P$32,2,FALSE)) -> 0 | G56: =E56*F56 -> 0 | I56: =G56*H56 -> 0 | K56: =(G56+I56)*J56 -> 0 | L56: =G56+I56+K56 -> 0 | M56: =IF(F56=0,0,L56/F56) -> 0
...

Sheet ③人件費
B2: 社員人件費内訳表（円貨用） | O2: 分担部 | P2: =分担部 -> 道路橋梁部 | R2: 作業科目： | T2: =WBS -> JA15R1003
O3: 件名： | P3: =プロジェクト件名 -> ベトナム国ハノイ市環状３号線整備事業(マイジック-南タンロン区間)
B4: ※行を追加したい場合には、ロックを解除してから、行を追加してください。
O5: 通貨1： | P5: =通貨1 -> JPY | Q5: 通貨1レート: | R5: =通貨1レート -> 1 | S5: 通貨2表示単位: | U5: =通貨1単位 -> 1
B6: 番号 | C6: 社員番号 | D6: 氏名 | E6: 所属 | F6: 資格 | G6: 受注B/R | N6: 受注通貨売上額 | O6: 社内賃率 | P6: MM、人件費額 | T6: MM計 | U6: 人件費計
G7: 通貨選択 | H7: 受注通貨 | I7: レート | J7: 表示 単位 | K7: 受注単価 | L7: 円換算値 | M7: 通貨1 換算値 | P7: 契約 | Q7: 金額 | R7: 非契約 | S7: 金額
B8: 番号 | C8: 社員番号 | D8: 氏名 | E8: 所属 | F8: 資格 | G8: 通貨選択 | H8: 受注通貨 | I8: 列8 | J8: 列9 | K8: 受注BR | L8: 列11 | M8: BR通貨1換算値 | N8: 列13 | O8: 社内賃率 | P8: 契約MM | Q8: 契約分人件費 | R8: 非契約MM | S8: 非契約分人件費 | T8: MM計 | U8: 人件費計
B9: 01 | C9: a5414 | D9: =IF(C9="","",VLOOKUP(C9,参考_従業員!$B:$G,2,FALSE)) -> 前田 哲哉 | E9: =IF(C9="","",VLOOKUP(C9,参考_従業員!$B:$G,5,FALSE)) -> JN0100 | F9: =IF(C9="","",VLOOKUP(C9,参考_従業員!$B:$G,6,FALSE)) -> 副参事２級 | G9: 通貨1 | H9: =IFERROR(INDIRECT(G9),"") -> JPY | I9: =IFERROR(INDIRECT(G9&"レート"),"") -> 1 | J9: =IFERROR(INDIRECT(G9&"単位"),"") -> 1 | K9: 1750000 | L9: =IFERROR(K9*I9*J9,"") -> 1750000 | M9: =IFERROR(L9/$R$5/$U$5,"") -> 1750000 | N9: =IFERROR(K9*P9,"") -> 1277500 | O9: =IF(C9="",0,VLOOKUP(C9,T_賃率!$B:$D,2,FALSE)) -> 804000 | P9: 0.73 | Q9: =$O9*P9 -> 586920 | R9: 0.3 | S9: =$O9*R9 -> 241200 | T9: =P9+R9 -> 1.03 | U9: =$O9*T9 -> 828120
B10: 02 | C10: a7344 | D10: =IF(C10="","",VLOOKUP(C10,参考_従業員!$B:$G,2,FALSE)) -> 徳丸 祥一朗 | E10: =IF(C10="","",VLOOKUP(C10,参考_従業員!$B:$G,5,FALSE)) -> JN0100 | F10: =IF(C10="","",VLOOKUP(C10,参考_従業員!$B:$G,6,FALSE)) -> 技師３級 | G10: 通貨1 | H10: =IFERROR(INDIRECT(G10),"") -> JPY | I10: =IFERROR(INDIRECT(G10&"レート"),"") -> 1 | J10: =IFERROR(INDIRECT(G10&"単位"),"") -> 1 | K10: 1750000 | L10: =IFERROR(K10*I10*J10,"") -> 1750000 | M10: =IFERROR(L10/$R$5/$U$5,"") -> 1750000 | N10: =IFERROR(K10*P10,"") -> 2625000 | O10: =IF(C10="",0,VLOOKUP(C10,T_賃率!$B:$D,2,FALSE)) -> 495000 | P10: 1.5 | Q10: =$O10*P10 -> 742500 | R10: 0.7 | S10: =$O10*R10 -> 346500 | T10: =P10+R10 -> 2.2 | U10: =O10*T10 -> 1089000
B11: 03 | D11: =IF(C11="","",VLOOKUP(C11,参考_従業員!$B:$G,2,FALSE)) | E11: =IF(C11="","",VLOOKUP(C11,参考_従業員!$B:$G,5,FALSE)) | F11: =IF(C11="","",VLOOKUP(C11,参考_従業員!$B:$G,6,FALSE)) | H11: =IFERROR(INDIRECT(G11),"") | I11: =IFERROR(INDIRECT(G11&"レート"),"") | J11: =IFERROR(INDIRECT(G11&"単位"),"") | L11: =IFERROR(K11*I11*J11,"")
B12: 04 | D12: =IF(C12="","",VLOOKUP(C12,参考_従業員!$B:$G,2,FALSE)) | E12: =IF(C12="","",VLOOKUP(C12,参考_従業員!$B:$G,5,FALSE)) | F12: =IF(C12="","",VLOOKUP(C12,参考_従業員!$B:$G,6,FALSE)) | H12: =IFERROR(INDIRECT(G12),"") | I12: =IFERROR(INDIRECT(G12&"レート"),"") | J12: =IFERROR(INDIRECT(G12&"単位"),"") | L12: =IFERROR(K12*I12*J12,"")
B13: 05 | D13: =IF(C13="","",VLOOKUP(C13,参考_従業員!$B:$G,2,FALSE)) | E13: =IF(C13="","",VLOOKUP(C13,参考_従業員!$B:$G,5,FALSE)) | F13: =IF(C13="","",VLOOKUP(C13,参考_従業員!$B:$G,6,FALSE)) | H13: =IFERROR(INDIRECT(G13),"") | I13: =IFERROR(INDIRECT(G13&"レート"),"") | J13: =IFERROR(INDIRECT(G13&"単位"),"") | L13: =IFERROR(K13*I13*J13,"")
B14: 06 | D14: =IF(C14="","",VLOOKUP(C14,参考_従業員!$B:$G,2,FALSE)) | E14: =IF(C14="","",VLOOKUP(C14,参考_従業員!$B:$G,5,FALSE)) | F14: =IF(C14="","",VLOOKUP(C14,参考_従業員!$B:$G,6,FALSE)) | H14: =IFERROR(INDIRECT(G14),"") | I14: =IFERROR(INDIRECT(G14&"レート"),"") | J14: =IFERROR(INDIRECT(G14&"単位"),"") | L14: =IFERROR(K14*I14*J14,"")
B15: 07 | D15: =IF(C15="","",VLOOKUP(C15,参考_従業員!$B:$G,2,FALSE)) | E15: =IF(C15="","",VLOOKUP(C15,参考_従業員!$B:$G,5,FALSE)) | F15: =IF(C15="","",VLOOKUP(C15,参考_従業員!$B:$G,6,FALSE)) | H15: =IFERROR(INDIRECT(G15),"") | I15: =IFERROR(INDIRECT(G15&"レート"),"") | J15: =IFERROR(INDIRECT(G15&"単位"),"") | L15: =IFERROR(K15*I15*J15,"")
B16: 08 | D16: =IF(C16="","",VLOOKUP(C16,参考_従業員!$B:$G,2,FALSE)) | E16: =IF(C16="","",VLOOKUP(C16,参考_従業員!$B:$G,5,FALSE)) | F16: =IF(C16="","",VLOOKUP(C16,参考_従業員!$B:$G,6,FALSE)) | H16: =IFERROR(INDIRECT(G16),"") | I16: =IFERROR(INDIRECT(G16&"レート"),"") | J16: =IFERROR(INDIRECT(G16&"単位"),"") | L16: =IFERROR(K16*I16*J16,"")
B17: 09 | D17: =IF(C17="","",VLOOKUP(C17,参考_従業員!$B:$G,2,FALSE)) | E17: =IF(C17="","",VLOOKUP(C17,参考_従業員!$B:$G,5,FALSE)) | F17: =IF(C17="","",VLOOKUP(C17,参考_従業員!$B:$G,6,FALSE)) | H17: =IFERROR(INDIRECT(G17),"") | I17: =IFERROR(INDIRECT(G17&"レート"),"") | J17: =IFERROR(INDIRECT(G17&"単位"),"") | L17: =IFERROR(K17*I17*J17,"")
B18: 10 | D18: =IF(C18="","",VLOOKUP(C18,参考_従業員!$B:$G,2,FALSE)) | E18: =IF(C18="","",VLOOKUP(C18,参考_従業員!$B:$G,5,FALSE)) | F18: =IF(C18="","",VLOOKUP(C18,参考_従業員!$B:$G,6,FALSE)) | H18: =IFERROR(INDIRECT(G18),"") | I18: =IFERROR(INDIRECT(G18&"レート"),"") | J18: =IFERROR(INDIRECT(G18&"単位"),"") | L18: =IFERROR(K18*I18*J18,"")
B19: 11 | D19: =IF(C19="","",VLOOKUP(C19,参考_従業員!$B:$G,2,FALSE)) | E19: =IF(C19="","",VLOOKUP(C19,参考_従業員!$B:$G,5,FALSE)) | F19: =IF(C19="","",VLOOKUP(C19,参考_従業員!$B:$G,6,FALSE)) | H19: =IFERROR(INDIRECT(G19),"") | I19: =IFERROR(INDIRECT(G19&"レート"),"") | J19: =IFERROR(INDIRECT(G19&"単位"),"") | L19: =IFERROR(K19*I19*J19,"")
B20: 12 | D20: =IF(C20="","",VLOOKUP(C20,参考_従業員!$B:$G,2,FALSE)) | E20: =IF(C20="","",VLOOKUP(C20,参考_従業員!$B:$G,5,FALSE)) | F20: =IF(C20="","",VLOOKUP(C20,参考_従業員!$B:$G,6,FALSE)) | H20: =IFERROR(INDIRECT(G20),"") | I20: =IFERROR(INDIRECT(G20&"レート"),"") | J20: =IFERROR(INDIRECT(G20&"単位"),"") | L20: =IFERROR(K20*I20*J20,"")
B21: 13 | D21: =IF(C21="","",VLOOKUP(C21,参考_従業員!$B:$G,2,FALSE)) | E21: =IF(C21="","",VLOOKUP(C21,参考_従業員!$B:$G,5,FALSE)) | F21: =IF(C21="","",VLOOKUP(C21,参考_従業員!$B:$G,6,FALSE)) | H21: =IFERROR(INDIRECT(G21),"") | I21: =IFERROR(INDIRECT(G21&"レート"),"") | J21: =IFERROR(INDIRECT(G21&"単位"),"") | L21: =IFERROR(K21*I21*J21,"")
B22: 14 | D22: =IF(C22="","",VLOOKUP(C22,参考_従業員!$B:$G,2,FALSE)) | E22: =IF(C22="","",VLOOKUP(C22,参考_従業員!$B:$G,5,FALSE)) | F22: =IF(C22="","",VLOOKUP(C22,参考_従業員!$B:$G,6,FALSE)) | H22: =IFERROR(INDIRECT(G22),"") | I22: =IFERROR(INDIRECT(G22&"レート"),"") | J22: =IFERROR(INDIRECT(G22&"単位"),"") | L22: =IFERROR(K22*I22*J22,"")
... B58: 50 | D58: =IF(C58="","",VLOOKUP(C58,参考_従業員!$B:$G,2,FALSE)) | E58: =IF(C58="","",VLOOKUP(C58,参考_従業員!$B:$G,5,FALSE)) | F58: =IF(C58="","",VLOOKUP(C58,参考_従業員!$B:$G,6,FALSE)) | H58: =IFERROR(INDIRECT(G58),"") | I58: =IFERROR(INDIRECT(G58&"レート"),"") | J58: =IFERROR(INDIRECT(G58&"単位"),"") | L58: =IFERROR(K58*I58*J58,"")
C59: ※行を追加する必要がある場合には、この行の上に追加してください。
D60: 合計 | P60: =SUM(P9:P59) -> 2.23 | Q60: =SUM(Q9:Q59) -> 1329420 | R60: =SUM(R9:R59) -> 1 | S60: =SUM(S9:S59) -> 587700 | T60: =SUM(T9:T59) -> 3.23 | U60: =SUM(U9:U59) -> 1917120
C62: 受注通貨 | D62: 契約MM | E62: 非契約MM | F62: 売上額 | H62: 円貨集計額
C63: 通貨1 | D63: =SUMIF($G$9:$G$59,$C63,$P$9:$P$59) -> 2.23 | E63: 0 | F63: =SUMIF($G$9:$G$59,$C63,$N$9:$N$59) -> 3902500 | H63: 項目 | K63: 金額 | M63: 社員報酬 利益率 | N63: 項目 | P63: MM | Q63: 人件費額 | R63: 持出 MM率 | S63: 項目 | U63: 金額
C64: 通貨2 | D64: =SUMIF($G$9:$G$59,$C64,$P$9:$P$59) -> 0 | E64: 0 | F64: =SUMIF($G$9:$G$59,$C64,$N$9:$N$59) -> 0 | H64: 報酬売上 | K64: =SUMPRODUCT($M$9:$M$59,$P$9:$P$59) -> 3902500 | N64: 契 約 | P64: =$P$60 -> 2.23 | Q64: =$Q$60 -> 1329420 | S64: 平均賃率 | T64: 契 約 | U64: =IFERROR($Q$60/$P$60,"") -> 596152.47
C65: 通貨3 | D65: =SUMIF($G$9:$G$59,$C65,$P$9:$P$59) -> 0 | E65: 0 | F65: =SUMIF($G$9:$G$58,$C65,$N$9:$N$58) -> 0 | H65: 人件費 | K65: =人件費計_通貨1 -> 1917120 | N65: 非契約 | P65: =$R$60 -> 1 | Q65: =$S$60 -> 587700 | R65: =IFERROR(P65/P64,"") -> 0.44843049 | T65: 非契約 | U65: =IFERROR($S$60/$R$60,"") -> 587700
C66: 通貨4 | D66: =SUMIF($G$9:$G$59,$C66,$P$9:$P$59) -> 0 | E66: 0 | F66: =SUMIF($G$9:$G$58,$C66,$N$9:$N$58) -> 0 | H66: 報酬利益 | K66: =K64-K65 -> 1985380 | M66: =IFERROR(K66/K64,"") -> 0.50874568 | N66: 合 計 | P66: =P64+P65 -> 3.23 | Q66: =Q64+Q65 -> 1917120 | T66: 全 体 | U66: =IFERROR(人件費計_通貨1/$T$60,0) -> 593535.6
K68: ③JICA用報酬計算シートで入力した売上高は次のとおりです。
K69: =JICA社員報酬額 -> 0
B70: 社員人件費内訳表（外貨用） | O70: 分担部 | P70: =分担部 -> 道路橋梁部 | R70: 作業科目： | T70: =WBS -> JA15R1003
O71: 件名： | P71: =プロジェクト件名 -> ベトナム国ハノイ市環状３号線整備事業(マイジック-南タンロン区間)
O73: 通貨2： | P73: =IF(通貨2="","",通貨2) | Q73: 通貨2レート: | R73: =通貨2レート -> 0 | S73: 通貨2表示単位: | U73: =通貨2単位 -> 0
B74: 番号 | C74: 社員番号 | D74: 氏名 | E74: 所属 | F74: 資格 | G74: 受注B/R | N74: 受注通貨売上額 | O74: 社内賃率 （外貨換算） | P74: MM、人件費額（外貨換算） | T74: MM計 | U74: 人件費計 （外貨換算）
G75: 通貨選択 | H75: 受注通貨 | I75: レート | J75: 表示 単位 | K75: 受注単価 | L75: 円換算値 | M75: 通貨2 換算値 | P75: 契約 | Q75: 金額 | R75: 非契約 | S75: 金額
B76: 番号 | C76: 社員番号 | D76: 氏名 | E76: 所属 | F76: 資格 | G76: 通貨選択 | H76: 受注通貨 | I76: 列8 | J76: 列9 | K76: 受注BR | L76: 列11 | M76: BR通貨1換算値 | N76: 列13 | O76: 社内賃率 | P76: 契約MM | Q76: 契約分人件費 | R76: 非契約MM | S76: 非契約分人件費 | T76: MM計 | U76: 人件費計
B77: 01
B78: 02
B79: 03
...

Sheet ④借上費
B2: 借上費内訳表 | P2: 分担部 | R2: =分担部 -> 道路橋梁部 | T2: 作業科目： | V2: =WBS -> JA15R1003
P3: 件名： | R3: =プロジェクト件名 -> ベトナム国ハノイ市環状３号線整備事業(マイジック-南タンロン区間)
B4: ※行を追加したい場合には、ロックを解除してから、行を追加してください。
B5: 借上費内訳（通貨1） | M5: 通貨1: | O5: =通貨1 -> JPY | Q5: 通貨1レート: | S5: =通貨1レート -> 1 | T5: 通貨1表示単位: | V5: =通貨1単位 -> 1
B7: 番号 | C7: 氏名 | D7: 所属 | E7: 受注B/R | L7: 受注通貨売上額 | M7: 契約MM | Q7: 非契約MM | T7: 発注額計
E8: 通貨 選択 | F8: 受注 通貨 | G8: レート | H8: 表示 単位 | I8: 受注単価 | J8: 円換算値 | K8: 通貨1 換算値 | M8: 発注単価 | N8: MM | O8: 発注金額 | P8: 発注率 | Q8: 発注単価 | R8: MM | S8: 発注金額 | T8: MM | U8: 発注金額計 | V8: 実質 発注単価 | W8: 実質 発注率
B9: 番号 | C9: 氏名 | D9: 所属 | E9: 通貨選択 | F9: 受注通貨 | G9: 列6 | H9: 列7 | I9: 受注BR | J9: 列9 | K9: BR通貨1換算値 | L9: 列11 | M9: 発注単価_契約 | N9: 発注MM_契約 | O9: 発注金額_契約 | P9: 発注率_契約 | Q9: 発注単価_非契約 | R9: 発注MM_非契約 | S9: 発注金額_非契約 | T9: 発注MM_計 | U9: 発注金額_計 | V9: 実質発注単価 | W9: 実質発注率
B10: 01 | F10: =IFERROR(INDIRECT(E10),"") | G10: =IFERROR(INDIRECT(E10&"レート"),"") | H10: =IFERROR(INDIRECT(E10&"単位"),"") | J10: =IFERROR(I10*G10*H10,"") | K10: =IFERROR(J10/$S$5/$V$5,"") | L10: =IFERROR(I10*N10,"") -> 0 | O10: =IFERROR(M10*N10,"") -> 0 | P10: =IFERROR(M10/K10,"") | S10: =IFERROR(Q10*R10,"") -> 0 | T10: =N10+R10 -> 0 | U10: =IFERROR(O10+S10,"") -> 0 | V10: =IFERROR(U10/N10,"") | W10: =IFERROR(V10/K10,"")
B11: 02 | F11: =IFERROR(INDIRECT(E11),"") | G11: =IFERROR(INDIRECT(E11&"レート"),"") | H11: =IFERROR(INDIRECT(E11&"単位"),"") | J11: =IFERROR(I11*G11*H11,"") | K11: =IFERROR(J11/$S$5/$V$5,"") | L11: =IFERROR(I11*N11,"") -> 0 | O11: =IFERROR(M11*N11,"") -> 0 | P11: =IFERROR(M11/K11,"") | S11: =IFERROR(Q11*R11,"") -> 0 | T11: =N11+R11 -> 0 | U11: =IFERROR(O11+S11,"") -> 0 | V11: =IFERROR(U11/N11,"") | W11: =IFERROR(V11/K11,"")
B12: 03 | F12: =IFERROR(INDIRECT(E12),"") | G12: =IFERROR(INDIRECT(E12&"レート"),"") | H12: =IFERROR(INDIRECT(E12&"単位"),"") | J12: =IFERROR(I12*G12*H12,"") | K12: =IFERROR(J12/$S$5/$V$5,"") | L12: =IFERROR(I12*N12,"") -> 0 | O12: =IFERROR(M12*N12,"") -> 0 | P12: =IFERROR(M12/K12,"") | S12: =IFERROR(Q12*R12,"") -> 0 | T12: =N12+R12 -> 0 | U12: =IFERROR(O12+S12,"") -> 0 | V12: =IFERROR(U12/N12,"") | W12: =IFERROR(V12/K12,"")
B13: 04 | F13: =IFERROR(INDIRECT(E13),"") | G13: =IFERROR(INDIRECT(E13&"レート"),"") | H13: =IFERROR(INDIRECT(E13&"単位"),"") | J13: =IFERROR(I13*G13*H13,"") | K13: =IFERROR(J13/$S$5/$V$5,"") | L13: =IFERROR(I13*N13,"") -> 0 | O13: =IFERROR(M13*N13,"") -> 0 | P13: =IFERROR(M13/K13,"") | S13: =IFERROR(Q13*R13,"") -> 0 | T13: =N13+R13 -> 0 | U13: =IFERROR(O13+S13,"") -> 0 | V13: =IFERROR(U13/N13,"") | W13: =IFERROR(V13/K13,"")
B14: 05 | F14: =IFERROR(INDIRECT(E14),"") | G14: =IFERROR(INDIRECT(E14&"レート"),"") | H14: =IFERROR(INDIRECT(E14&"単位"),"") | J14: =IFERROR(I14*G14*H14,"") | K14: =IFERROR(J14/$S$5/$V$5,"") | L14: =IFERROR(I14*N14,"") -> 0 | O14: =IFERROR(M14*N14,"") -> 0 | P14: =IFERROR(M14/K14,"") | S14: =IFERROR(Q14*R14,"") -> 0 | T14: =N14+R14 -> 0 | U14: =IFERROR(O14+S14,"") -> 0 | V14: =IFERROR(U14/N14,"") | W14: =IFERROR(V14/K14,"")
B15: 06 | F15: =IFERROR(INDIRECT(E15),"") | G15: =IFERROR(INDIRECT(E15&"レート"),"") | H15: =IFERROR(INDIRECT(E15&"単位"),"") | J15: =IFERROR(I15*G15*H15,"") | K15: =IFERROR(J15/$S$5/$V$5,"") | L15: =IFERROR(I15*N15,"") -> 0 | O15: =IFERROR(M15*N15,"") -> 0 | P15: =IFERROR(M15/K15,"") | S15: =IFERROR(Q15*R15,"") -> 0 | T15: =N15+R15 -> 0 | U15: =IFERROR(O15+S15,"") -> 0 | V15: =IFERROR(U15/N15,"") | W15: =IFERROR(V15/K15,"")
B16: 07 | F16: =IFERROR(INDIRECT(E16),"") | G16: =IFERROR(INDIRECT(E16&"レート"),"") | H16: =IFERROR(INDIRECT(E16&"単位"),"") | J16: =IFERROR(I16*G16*H16,"") | K16: =IFERROR(J16/$S$5/$V$5,"") | L16: =IFERROR(I16*N16,"") -> 0 | O16: =IFERROR(M16*N16,"") -> 0 | P16: =IFERROR(M16/K16,"") | S16: =IFERROR(Q16*R16,"") -> 0 | T16: =N16+R16 -> 0 | U16: =IFERROR(O16+S16,"") -> 0 | V16: =IFERROR(U16/N16,"") | W16: =IFERROR(V16/K16,"")
B17: 08 | F17: =IFERROR(INDIRECT(E17),"") | G17: =IFERROR(INDIRECT(E17&"レート"),"") | H17: =IFERROR(INDIRECT(E17&"単位"),"") | J17: =IFERROR(I17*G17*H17,"") | K17: =IFERROR(J17/$S$5/$V$5,"") | L17: =IFERROR(I17*N17,"") -> 0 | O17: =IFERROR(M17*N17,"") -> 0 | P17: =IFERROR(M17/K17,"") | S17: =IFERROR(Q17*R17,"") -> 0 | T17: =N17+R17 -> 0 | U17: =IFERROR(O17+S17,"") -> 0 | V17: =IFERROR(U17/N17,"") | W17: =IFERROR(V17/K17,"")
B18: 09 | F18: =IFERROR(INDIRECT(E18),"") | G18: =IFERROR(INDIRECT(E18&"レート"),"") | H18: =IFERROR(INDIRECT(E18&"単位"),"") | J18: =IFERROR(I18*G18*H18,"") | K18: =IFERROR(J18/$S$5/$V$5,"") | L18: =IFERROR(I18*N18,"") -> 0 | O18: =IFERROR(M18*N18,"") -> 0 | P18: =IFERROR(M18/K18,"") | S18: =IFERROR(Q18*R18,"") -> 0 | T18: =N18+R18 -> 0 | U18: =IFERROR(O18+S18,"") -> 0 | V18: =IFERROR(U18/N18,"") | W18: =IFERROR(V18/K18,"")
B19: 10 | F19: =IFERROR(INDIRECT(E19),"") | G19: =IFERROR(INDIRECT(E19&"レート"),"") | H19: =IFERROR(INDIRECT(E19&"単位"),"") | J19: =IFERROR(I19*G19*H19,"") | K19: =IFERROR(J19/$S$5/$V$5,"") | L19: =IFERROR(I19*N19,"") -> 0 | O19: =IFERROR(M19*N19,"") -> 0 | P19: =IFERROR(M19/K19,"") | S19: =IFERROR(Q19*R19,"") -> 0 | T19: =N19+R19 -> 0 | U19: =IFERROR(O19+S19,"") -> 0 | V19: =IFERROR(U19/N19,"") | W19: =IFERROR(V19/K19,"")
B20: 11 | F20: =IFERROR(INDIRECT(E20),"") | G20: =IFERROR(INDIRECT(E20&"レート"),"") | H20: =IFERROR(INDIRECT(E20&"単位"),"") | J20: =IFERROR(I20*G20*H20,"") | K20: =IFERROR(J20/$S$5/$V$5,"") | L20: =IFERROR(I20*N20,"") -> 0 | O20: =IFERROR(M20*N20,"") -> 0 | P20: =IFERROR(M20/K20,"") | S20: =IFERROR(Q20*R20,"") -> 0 | T20: =N20+R20 -> 0 | U20: =IFERROR(O20+S20,"") -> 0 | V20: =IFERROR(U20/N20,"") | W20: =IFERROR(V20/K20,"")
B21: 12 | F21: =IFERROR(INDIRECT(E21),"") | G21: =IFERROR(INDIRECT(E21&"レート"),"") | H21: =IFERROR(INDIRECT(E21&"単位"),"") | J21: =IFERROR(I21*G21*H21,"") | K21: =IFERROR(J21/$S$5/$V$5,"") | L21: =IFERROR(I21*N21,"") -> 0 | O21: =IFERROR(M21*N21,"") -> 0 | P21: =IFERROR(M21/K21,"") | S21: =IFERROR(Q21*R21,"") -> 0 | T21: =N21+R21 -> 0 | U21: =IFERROR(O21+S21,"") -> 0 | V21: =IFERROR(U21/N21,"") | W21: =IFERROR(V21/K21,"")
... B39: 30 | F39: =IFERROR(INDIRECT(E39),"") | G39: =IFERROR(INDIRECT(E39&"レート"),"") | H39: =IFERROR(INDIRECT(E39&"単位"),"") | J39: =IFERROR(I39*G39*H39,"") | K39: =IFERROR(J39/$S$5/$V$5,"") | L39: =IFERROR(I39*N39,"") -> 0 | O39: =IFERROR(M39*N39,"") -> 0 | P39: =IFERROR(M39/K39,"") | S39: =IFERROR(Q39*R39,"") -> 0 | T39: =N39+R39 -> 0 | U39: =IFERROR(O39+S39,"") -> 0 | V39: =IFERROR(U39/N39,"") | W39: =IFERROR(V39/K39,"")
C40: ※行を追加する必要がある場合には、この行の上に追加してください。
C41: 合計 | D41: 通貨1 | N41: =SUM(N10:N40) -> 0 | O41: =SUM(O10:O40) -> 0 | R41: =SUM(R10:R40) -> 0 | S41: =SUM(S10:S40) -> 0 | T41: =SUM(T10:T40) -> 0 | U41: =SUM(U10:U40) -> 0
C42: 合計 | D42: 円換算値 | N42: =N41 -> 0 | O42: =O41*$S$5*$V$5 -> 0 | R42: =R41 -> 0 | S42: =S41*$S$5*$V$5 -> 0 | T42: =T41 -> 0 | U42: =U41*$S$5*$V$5 -> 0
B44: 通貨1 | C44: =SUMIF($E$10:$E$40,$B44,$N$10:$N$40) -> 0 | D44: 0 | E44: =SUMIF($E$10:$E$40,$B44,$L$10:$L$40) -> 0 | I44: 項目 | K44: 通貨1 | M44: 円貨 | N44: 率 | P44: 項目 | R44: 金額 | S44: 率 | U44: 項目 | W44: 金額等
B45: 通貨2 | C45: =SUMIF($E$10:$E$40,$B45,$N$10:$N$40) -> 0 | D45: 0 | E45: =SUMIF($E$10:$E$40,$B45,$L$10:$L$40) -> 0 | I45: 売上総額 | K45: =SUMPRODUCT($K$10:$K$40,$N$10:$N$40) -> 0 | M45: =K45*$S$5*$V$5 -> 0 | P45: 契約平均BR | R45: =IFERROR(SUMPRODUCT($K$10:$K$40,$N$10:$N$40)/$N$41,"") | U45: 契約平均BR | W45: =$R$45
B46: 通貨3 | C46: =SUMIF($E$10:$E$40,$B46,$N$10:$N$40) -> 0 | D46: 0 | E46: =SUMIF($E$10:$E$40,$B46,$L$10:$L$40) -> 0 | I46: 発注総額 | K46: =$U$41 -> 0 | M46: =K46*$S$5*$V$5 -> 0 | N46: =IFERROR(M46/M45,"") | P46: 契約平均発注単価 | R46: =IFERROR($O$41/$N$41,"") | S46: =IFERROR(R46/R45,"") | U46: 実質発注単価 | W46: =IFERROR($U$41/$N$41,"")
B47: 通貨4 | C47: =SUMIF($E$10:$E$40,$B47,$N$10:$N$40) -> 0 | D47: 0 | E47: =SUMIF($E$10:$E$40,$B47,$L$10:$L$40) -> 0 | I47: 売上利益 | K47: =K45-K46 -> 0 | M47: =M45-M46 -> 0 | N47: =IFERROR(M47/M45,"") | P47: 非契約平均発注単価 | R47: =IFERROR($S$41/$R$41,"") | S47: =IFERROR(R47/R45,"") | U47: 実質発注率 | W47: =IFERROR(W46/W45,"")
B49: 借上費内訳（通貨2） | M49: 通貨2： | O49: =IF(通貨2="","",通貨2) | Q49: 通貨2レート: | S49: =通貨2レート -> 0 | T49: 通貨2表示単位: | V49: =通貨2単位 -> 0
B51: 番号 | C51: 氏名 | D51: 所属 | E51: 受注B/R | L51: 受注通貨売上額 | M51: 契約MM | Q51: 非契約MM | T51: 発注額計
E52: 通貨 選択 | F52: 受注 通貨 | G52: レート | H52: 表示 単位 | I52: 受注単価 | J52: 円換算値 | K52: 通貨2 換算値 | M52: 発注単価 | N52: MM | O52: 発注金額 | P52: 発注率 | Q52: 発注単価 | R52: MM | S52: 発注金額 | T52: MM | U52: 発注金額計 | V52: 実質 発注単価 | W52: 実質 発注率
B53: 番号 | C53: 氏名 | D53: 所属 | E53: 通貨選択 | F53: 受注通貨 | G53: 列6 | H53: 列7 | I53: 受注BR | J53: 列9 | K53: BR通貨2換算値 | L53: 列11 | M53: 発注単価_契約 | N53: 発注MM_契約 | O53: 発注金額_契約 | P53: 発注率_契約 | Q53: 発注単価_非契約 | R53: 発注MM_非契約 | S53: 発注金額_非契約 | T53: 発注MM_計 | U53: 発注金額_計 | V53: 実質発注単価 | W53: 実質発注率
B54: 01 | F54: =IFERROR(INDIRECT(E54),"") | G54: =IFERROR(INDIRECT(E54&"レート"),"") | H54: =IFERROR(INDIRECT(E54&"単位"),"") | J54: =IFERROR(I54*G54*H54,"") | K54: =IFERROR(J54/$S$49/$V$49,"") | L54: =IFERROR(I54*N54,"") -> 0 | O54: =IFERROR(M54*N54,"") -> 0 | P54: =IFERROR(M54/K54,"") | S54: =IFERROR(Q54*R54,"") -> 0 | T54: =N54+R54 -> 0 | U54: =IFERROR(O54+S54,"") -> 0 | V54: =IFERROR(U54/N54,"") | W54: =IFERROR(V54/K54,"")
B55: 02 | F55: =IFERROR(INDIRECT(E55),"") | G55: =IFERROR(INDIRECT(E55&"レート"),"") | H55: =IFERROR(INDIRECT(E55&"単位"),"") | J55: =IFERROR(I55*G55*H55,"") | K55: =IFERROR(J55/$S$49/$V$49,"") | L55: =IFERROR(I55*N55,"") -> 0 | O55: =IFERROR(M55*N55,"") -> 0 | P55: =IFERROR(M55/K55,"") | S55: =IFERROR(Q55*R55,"") -> 0 | T55: =N55+R55 -> 0 | U55: =IFERROR(O55+S55,"") -> 0 | V55: =IFERROR(U55/N55,"") | W55: =IFERROR(V55/K55,"")
B56: 03 | F56: =IFERROR(INDIRECT(E56),"") | G56: =IFERROR(INDIRECT(E56&"レート"),"") | H56: =IFERROR(INDIRECT(E56&"単位"),"") | J56: =IFERROR(I56*G56*H56,"") | K56: =IFERROR(J56/$S$49/$V$49,"") | L56: =IFERROR(I56*N56,"") -> 0 | O56: =IFERROR(M56*N56,"") -> 0 | P56: =IFERROR(M56/K56,"") | S56: =IFERROR(Q56*R56,"") -> 0 | T56: =N56+R56 -> 0 | U56: =IFERROR(O56+S56,"") -> 0 | V56: =IFERROR(U56/N56,"") | W56: =IFERROR(V56/K56,"")
B57: 04 | F57: =IFERROR(INDIRECT(E57),"") | G57: =IFERROR(INDIRECT(E57&"レート"),"") | H57: =IFERROR(INDIRECT(E57&"単位"),"") | J57: =IFERROR(I57*G57*H57,"") | K57: =IFERROR(J57/$S$49/$V$49,"") | L57: =IFERROR(I57*N57,"") -> 0 | O57: =IFERROR(M57*N57,"") -> 0 | P57: =IFERROR(M57/K57,"") | S57: =IFERROR(Q57*R57,"") -> 0 | T57: =N57+R57 -> 0 | U57: =IFERROR(O57+S57,"") -> 0 | V57: =IFERROR(U57/N57,"") | W57: =IFERROR(V57/K57,"")
B58: 05 | F58: =IFERROR(INDIRECT(E58),"") | G58: =IFERROR(INDIRECT(E58&"レート"),"") | H58: =IFERROR(INDIRECT(E58&"単位"),"") | J58: =IFERROR(I58*G58*H58,"") | K58: =IFERROR(J58/$S$49/$V$49,"") | L58: =IFERROR(I58*N58,"") -> 0 | O58: =IFERROR(M58*N58,"") -> 0 | P58: =IFERROR(M58/K58,"") | S58: =IFERROR(Q58*R58,"") -> 0 | T58: =N58+R58 -> 0 | U58: =IFERROR(O58+S58,"") -> 0 | V58: =IFERROR(U58/N58,"") | W58: =IFERROR(V58/K58,"")
B59: 06 | F59: =IFERROR(INDIRECT(E59),"") | G59: =IFERROR(INDIRECT(E59&"レート"),"") | H59: =IFERROR(INDIRECT(E59&"単位"),"") | J59: =IFERROR(I59*G59*H59,"") | K59: =IFERROR(J59/$S$49/$V$49,"") | L59: =IFERROR(I59*N59,"") -> 0 | O59: =IFERROR(M59*N59,"") -> 0 | P59: =IFERROR(M59/K59,"") | S59: =IFERROR(Q59*R59,"") -> 0 | T59: =N59+R59 -> 0 | U59: =IFERROR(O59+S59,"") -> 0 | V59: =IFERROR(U59/N59,"") | W59: =IFERROR(V59/K59,"")
B60: 07 | F60: =IFERROR(INDIRECT(E60),"") | G60: =IFERROR(INDIRECT(E60&"レート"),"") | H60: =IFERROR(INDIRECT(E60&"単位"),"") | J60: =IFERROR(I60*G60*H60,"") | K60: =IFERROR(J60/$S$49/$V$49,"") | L60: =IFERROR(I60*N60,"") -> 0 | O60: =IFERROR(M60*N60,"") -> 0 | P60: =IFERROR(M60/K60,"") | S60: =IFERROR(Q60*R60,"") -> 0 | T60: =N60+R60 -> 0 | U60: =IFERROR(O60+S60,"") -> 0 | V60: =IFERROR(U60/N60,"") | W60: =IFERROR(V60/K60,"")
B61: 08 | F61: =IFERROR(INDIRECT(E61),"") | G61: =IFERROR(INDIRECT(E61&"レート"),"") | H61: =IFERROR(INDIRECT(E61&"単位"),"") | J61: =IFERROR(I61*G61*H61,"") | K61: =IFERROR(J61/$S$49/$V$49,"") | L61: =IFERROR(I61*N61,"") -> 0 | O61: =IFERROR(M61*N61,"") -> 0 | P61: =IFERROR(M61/K61,"") | S61: =IFERROR(Q61*R61,"") -> 0 | T61: =N61+R61 -> 0 | U61: =IFERROR(O61+S61,"") -> 0 | V61: =IFERROR(U61/N61,"") | W61: =IFERROR(V61/K61,"")
B62: 09 | F62: =IFERROR(INDIRECT(E62),"") | G62: =IFERROR(INDIRECT(E62&"レート"),"") | H62: =IFERROR(INDIRECT(E62&"単位"),"") | J62: =IFERROR(I62*G62*H62,"") | K62: =IFERROR(J62/$S$49/$V$49,"") | L62: =IFERROR(I62*N62,"") -> 0 | O62: =IFERROR(M62*N62,"") -> 0 | P62: =IFERROR(M62/K62,"") | S62: =IFERROR(Q62*R62,"") -> 0 | T62: =N62+R62 -> 0 | U62: =IFERROR(O62+S62,"") -> 0 | V62: =IFERROR(U62/N62,"") | W62: =IFERROR(V62/K62,"")
...

Sheet ⑤経費
B2: 直接原価費目内訳表(円貨・円換算） | K2: 分担部 | M2: =分担部 -> 道路橋梁部 | O2: 作業科目： | Q2: =WBS -> JA15R1003
K3: 件名： | M3: =プロジェクト件名 -> ベトナム国ハノイ市環状３号線整備事業(マイジック-南タンロン区間)
B5: ※行を追加したい場合には、ロックを解除してから、行を追加してください。 | L5: 通貨1： | M5: =通貨1 -> JPY | O5: 通貨2： | P5: =通貨2 -> 0 | R5: 通貨3： | S5: =通貨3 -> 0 | U5: 通貨4： | V5: =通貨4 -> 0
L6: 通貨1レート： | M6: =通貨1レート -> 1 | O6: 通貨2レート： | P6: =通貨2レート -> 0 | R6: 通貨3レート： | S6: =通貨3レート -> 0 | U6: 通貨4レート： | V6: =通貨4レート -> 0
L7: 通貨1表示単位： | M7: =通貨1単位 -> 1 | O7: 通貨2表示単位： | P7: =通貨2単位 -> 0 | R7: 通貨3表示単位： | S7: =通貨3単位 -> 0 | U7: 通貨4表示単位： | V7: =通貨4単位 -> 0
B8: 3 | C8: 材料費
B9: No. | D9: 項 目 | E9: 摘 要 | F9: 単位 | G9: 請求 区分 | H9: 円換算額 | L9: 通貨1： | M9: =通貨1 -> JPY | O9: 通貨2： | P9: =IF(通貨2="","",IF(通貨2単位=1,通貨2,通貨2単位&通貨2)) | R9: 通貨3： | S9: =IF(通貨3="","",IF(通貨3単位=1,通貨3,通貨3単位&通貨3)) | U9: 通貨4： | V9: =IF(通貨4="","",IF(通貨4単位=1,通貨4,通貨4単位&通貨4))
H10: 換算単価 | I10: 数量 | J10: 金額 | K10: 単価 | L10: 数量 | M10: 金額 | N10: 単価 | O10: 数量 | P10: 金額 | Q10: 単価 | R10: 数量 | S10: 金額 | T10: 単価 | U10: 数量 | V10: 金額
B11: No1 | C11: No2 | D11: 項目 | E11: 適用 | F11: 単位 | G11: 請求区分 | H11: 換算単価 | I11: 数量 | J11: 金額 | K11: 通貨１単価 | L11: 通貨1数量 | M11: 通貨1金額 | N11: 通貨2単価 | O11: 通貨2数量 | P11: 通貨2金額 | Q11: 通貨3単価3 | R11: 通貨3数量3 | S11: 通貨3金額4 | T11: 通貨4単価3 | U11: 通貨4数量4 | V11: 通貨4金額5
B12: 1 | D12: 納入機材
C13: 1)
D14: ※行を追加する必要がある場合には、この行の上に追加してください。
B15: 2 | D15: 工事用消耗品
C16: 1)
D17: ※行を追加する必要がある場合には、この行の上に追加してください。
D18: 合 計 | F18: 0
E19: 内、請求予定 | G19: 請求
E20: 内、持出予定 | G20: 持出
E21: =IF(J21<>0,"未区分","") | J21: =J18-J19-J20 -> 0 | M21: =M18-M19-M20 -> 0 | P21: =P18-P19-P20 -> 0 | S21: =S18-S19-S20 -> 0 | V21: =V18-V19-V20 -> 0
B22: 4 | C22: 外注費(借上費除) | E22: 注）借上費は、④借上費のシートに入力してください。また、借上の日当・宿泊費、航空運賃、交通費については、このシートの06通信交通費に入力してください。
B23: No. | D23: 項 目 | E23: 摘 要 | F23: 単位 | G23: 請求 区分 | H23: 円換算額 | L23: 通貨1： | M23: =通貨1 -> JPY | O23: 通貨2： | P23: =IF(通貨2="","",IF(通貨2単位=1,通貨2,通貨2単位&通貨2)) | R23: 通貨3： | S23: =IF(通貨3="","",IF(通貨3単位=1,通貨3,通貨3単位&通貨3)) | U23: 通貨4： | V23: =IF(通貨4="","",IF(通貨4単位=1,通貨4,通貨4単位&通貨4))
H24: 換算単価 | I24: 数量 | J24: 金額 | K24: 単価 | L24: 数量 | M24: 金額 | N24: 単価 | O24: 数量 | P24: 金額 | Q24: 単価 | R24: 数量 | S24: 金額 | T24: 単価 | U24: 数量 | V24: 金額
B25: No1 | C25: No2 | D25: 項目 | E25: 適用 | F25: 単位 | G25: 請求区分 | H25: 換算単価 | I25: 数量 | J25: 金額 | K25: 通貨１単価 | L25: 通貨1数量 | M25: 通貨1金額 | N25: 通貨2単価 | O25: 通貨2数量 | P25: 通貨2金額 | Q25: 通貨3単価3 | R25: 通貨3数量3 | S25: 通貨3金額4 | T25: 通貨4単価3 | U25: 通貨4数量4 | V25: 通貨4金額5
B26: 1
D27: ※行を追加する必要がある場合には、この行の上に追加してください。
D28: 合 計 | F28: 0
E29: 内、請求予定 | G29: 請求
E30: 内、持出予定 | G30: 持出
E31: =IF(J31<>0,"未区分","") | J31: =J28-J29-J30 -> 0 | M31: =M28-M29-M30 -> 0 | P31: =P28-P29-P30 -> 0 | S31: =S28-S29-S30 -> 0 | V31: =V28-V29-V30 -> 0
B32: 5 | C32: 労務費（ローカルスタッフ賃金・現地傭人費）
B33: No. | D33: 項 目 | E33: 摘 要 | F33: 単位 | G33: 請求 区分 | H33: 円換算額 | L33: 通貨1： | M33: =通貨1 -> JPY | O33: 通貨2： | P33: =IF(通貨2="","",IF(通貨2単位=1,通貨2,通貨2単位&通貨2)) | R33: 通貨3： | S33: =IF(通貨3="","",IF(通貨3単位=1,通貨3,通貨3単位&通貨3)) | U33: 通貨4： | V33: =IF(通貨4="","",IF(通貨4単位=1,通貨4,通貨4単位&通貨4))
H34: 換算単価 | I34: 数量 | J34: 金額 | K34: 単価 | L34: 数量 | M34: 金額 | N34: 単価 | O34: 数量 | P34: 金額 | Q34: 単価 | R34: 数量 | S34: 金額 | T34: 単価 | U34: 数量 | V34: 金額
B35: No1 | C35: No2 | D35: 項目 | E35: 適用 | F35: 単位 | G35: 請求区分 | H35: 換算単価 | I35: 数量 | J35: 金額 | K35: 通貨１単価 | L35: 通貨1数量 | M35: 通貨1金額 | N35: 通貨2単価 | O35: 通貨2数量 | P35: 通貨2金額 | Q35: 通貨3単価3 | R35: 通貨3数量3 | S35: 通貨3金額4 | T35: 通貨4単価3 | U35: 通貨4数量4 | V35: 通貨4金額5
B36: 1
D37: ※行を追加する必要がある場合には、この行の上に追加してください。
D38: 合 計 | F38: 0
E39: 内、請求予定 | G39: 請求
E40: 内、持出予定 | G40: 持出
E41: =IF(J41<>0,"未区分","") | J41: =J38-J39-J40 -> 0 | M41: =M38-M39-M40 -> 0 | P41: =P38-P39-P40 -> 0 | S41: =S38-S39-S40 -> 0 | V41: =V38-V39-V40 -> 0
B42: 6 | C42: 通信交通費(借上交通費含) | E42: 注）借上の日当・宿泊費、航空運賃、交通費については、↓ここ（06通信交通費）に入力してください。
...

Sheet ⑥経費一覧表
B2: 直接経費一覧表 | D2: 分担部 | E2: =分担部 -> 道路橋梁部 | F2: 作業科目： | G2: =WBS -> JA15R1003
D3: 件名： | E3: =プロジェクト件名 -> ベトナム国ハノイ市環状３号線整備事業(マイジック-南タンロン区間)
E5: 通貨1 | F5: 通貨2 | G5: 通貨3 | H5: 通貨4
D6: 通貨種類 | E6: =通貨1 -> JPY | F6: =通貨2 -> 0 | G6: =通貨3 -> 0 | H6: =通貨4 -> 0
D7: レート | E7: =通貨1レート -> 1 | F7: =通貨2レート -> 0 | G7: =通貨3レート -> 0 | H7: =通貨4レート -> 0
D8: 表示単位 | E8: =通貨1単位 -> 1 | F8: =通貨2単位 -> 0 | G8: =通貨3単位 -> 0 | H8: =通貨4単位 -> 0
B10: No. | C10: 項 目 | D10: 円換算額 | E10: 通貨1金額 | F10: 通貨2金額 | G10: 通貨3金額 | H10: 通貨4金額
E11: =通貨1 -> JPY | F11: =IF(通貨2="","",IF(通貨2単位=1,通貨2,通貨2単位&通貨2)) | G11: =IF(通貨3="","",IF(通貨3単位=1,通貨3,通貨3単位&通貨3)) | H11: =IF(通貨4="","",IF(通貨4単位=1,通貨4,通貨4単位&通貨4))
B12: B1a.社員人件費及びPIT
B13: 01 | C13: 人件費 | D13: =SUMPRODUCT(E13:H13,E$7:H$7,E$8:H$8) -> 1917120 | E13: =人件費計_通貨1 -> 1917120 | F13: =人件費計_通貨2 -> 0
B14: 19 | C14: 社員分PIT | D14: =SUMPRODUCT(E14:H14,E$7:H$7,E$8:H$8) -> 0 | E14: =PIT社員_通貨1 -> 0 | F14: =PIT社員_通貨2 -> 0 | G14: =PIT社員_通貨3 -> 0 | H14: =PIT社員_通貨4 -> 0
C15: 小計（社員人件費＋PIT） | D15: =D13+D14 -> 1917120 | E15: =E13+E14 -> 1917120 | F15: =F13+F14 -> 0 | G15: =G13+G14 -> 0 | H15: =H13+H14 -> 0
B17: B1b.借上費及びPIT
B18: 02 | C18: 借上費 | D18: =SUMPRODUCT(E18:H18,E$7:H$7,E$8:H$8) -> 0 | E18: =借上費_通貨1 -> 0 | F18: =借上費_通貨2 -> 0 | G18: =借上費_通貨3 -> 0 | H18: =借上費_通貨4 -> 0
B19: 20 | C19: 借上分PIT | D19: =SUMPRODUCT(E19:H19,E$7:H$7,E$8:H$8) -> 0 | E19: =PIT借上_通貨1 -> 0 | F19: =PIT借上_通貨2 -> 0 | G19: =PIT社員_通貨3 -> 0 | H19: =PIT借上_通貨4 -> 0
C20: 小計（借上外注費＋PIT） | D20: =D18+D19 -> 0 | E20: =E18+E19 -> 0 | F20: =F18+F19 -> 0 | G20: =G18+G19 -> 0 | H20: =H18+H19 -> 0
B22: B2.他経費
B23: 03 | C23: =⑤経費!D208 -> 材料費 | D23: =SUMPRODUCT(E23:H23,E$7:H$7,E$8:H$8) -> 0 | E23: =材料費_通貨1 -> 0 | F23: =材料費_通貨2 -> 0 | G23: =材料費_通貨3 -> 0 | H23: =材料費_通貨4 -> 0
B24: 04 | C24: =⑤経費!D209 -> 外注費(借上費除) | D24: =SUMPRODUCT(E24:H24,E$7:H$7,E$8:H$8) -> 0 | E24: =外注委託費_通貨1 -> 0 | F24: =外注委託費_通貨2 -> 0 | G24: =外注委託費_通貨3 -> 0 | H24: =外注委託費_通貨4 -> 0
B25: 05 | C25: =⑤経費!D210 -> 労務費（ローカルスタッフ賃金・現地傭人費） | D25: =SUMPRODUCT(E25:H25,E$7:H$7,E$8:H$8) -> 0 | E25: =労務費_通貨1 -> 0 | F25: =労務費_通貨2 -> 0 | G25: =労務費_通貨3 -> 0 | H25: =労務費_通貨4 -> 0
B26: 06 | C26: =⑤経費!D211 -> 通信交通費(借上交通費含) | D26: =SUMPRODUCT(E26:H26,E$7:H$7,E$8:H$8) -> 2188750 | E26: =通信交通費_通貨1 -> 2188750 | F26: =通信交通費_通貨2 -> 0 | G26: =通信交通費_通貨3 -> 0 | H26: =通信交通費_通貨4 -> 0
B27: 07 | C27: =⑤経費!D212 -> 事務用品複写費 | D27: =SUMPRODUCT(E27:H27,E$7:H$7,E$8:H$8) -> 100000 | E27: =事務用品複写費_通貨1 -> 100000 | F27: =事務用品複写費_通貨2 -> 0 | G27: =事務用品複写費_通貨3 -> 0 | H27: =事務用品複写費_通貨4 -> 0
B28: 08 | C28: =⑤経費!D213&"（※）" -> 福利厚生費（※） | D28: =SUMPRODUCT(E28:H28,E$7:H$7,E$8:H$8) -> 0 | E28: =福利厚生費_通貨1 -> 0 | F28: =福利厚生費_通貨2 -> 0 | G28: =福利厚生費_通貨3 -> 0 | H28: =福利厚生費_通貨4 -> 0
B29: 09 | C29: =⑤経費!D214 -> 会議費 | D29: =SUMPRODUCT(E29:H29,E$7:H$7,E$8:H$8) -> 0 | E29: =会議費_通貨1 -> 0 | F29: =会議費_通貨2 -> 0 | G29: =会議費_通貨3 -> 0 | H29: =会議費_通貨4 -> 0
B30: 10 | C30: =⑤経費!D215 -> 交際費 | D30: =SUMPRODUCT(E30:H30,E$7:H$7,E$8:H$8) -> 150000 | E30: =交際費_通貨1 -> 150000 | F30: =交際費_通貨2 -> 0 | G30: =交際費_通貨3 -> 0 | H30: =交際費_通貨4 -> 0
B31: 11 | C31: =⑤経費!D216&"（※）" -> 修繕維持費（※） | D31: =SUMPRODUCT(E31:H31,E$7:H$7,E$8:H$8) -> 0 | E31: =修繕維持費_通貨1 -> 0 | F31: =修繕維持費_通貨2 -> 0 | G31: =修繕維持費_通貨3 -> 0 | H31: =修繕維持費_通貨4 -> 0
B32: 12 | C32: =⑤経費!D217&"（※）" -> 動力用水光熱費（※） | D32: =SUMPRODUCT(E32:H32,E$7:H$7,E$8:H$8) -> 0 | E32: =動力用水光熱費_通貨1 -> 0 | F32: =動力用水光熱費_通貨2 -> 0 | G32: =動力用水光熱費_通貨3 -> 0 | H32: =動力用水光熱費_通貨4 -> 0
B33: 13 | C33: =⑤経費!D218&"（※）" -> 広告宣伝費（※） | D33: =SUMPRODUCT(E33:H33,E$7:H$7,E$8:H$8) -> 0 | E33: =広告宣伝費_通貨1 -> 0 | F33: =広告宣伝費_通貨2 -> 0 | G33: =広告宣伝費_通貨3 -> 0 | H33: =広告宣伝費_通貨4 -> 0
B34: 14 | C34: =⑤経費!D219&"（※）" -> 諸賃借料（※） | D34: =SUMPRODUCT(E34:H34,E$7:H$7,E$8:H$8) -> 0 | E34: =諸賃借料_通貨1 -> 0 | F34: =諸賃借料_通貨2 -> 0 | G34: =諸賃借料_通貨3 -> 0 | H34: =諸賃借料_通貨4 -> 0
B35: 15 | C35: =⑤経費!D220&"（※）" -> 保険料（※） | D35: =SUMPRODUCT(E35:H35,E$7:H$7,E$8:H$8) -> 0 | E35: =保険料_通貨1 -> 0 | F35: =保険料_通貨2 -> 0 | G35: =保険料_通貨3 -> 0 | H35: =保険料_通貨4 -> 0
B36: 16 | C36: =⑤経費!D221&"（※）" -> 減価償却費（※） | D36: =SUMPRODUCT(E36:H36,E$7:H$7,E$8:H$8) -> 0 | E36: =減価償却費_通貨1 -> 0 | F36: =減価償却費_通貨2 -> 0 | G36: =減価償却費_通貨3 -> 0 | H36: =減価償却費_通貨4 -> 0
B37: 17 | C37: =⑤経費!D222 -> 地代家賃 | D37: =SUMPRODUCT(E37:H37,E$7:H$7,E$8:H$8) -> 0 | E37: =地代家賃_通貨1 -> 0 | F37: =地代家賃_通貨2 -> 0 | G37: =地代家賃_通貨3 -> 0 | H37: =地代家賃_通貨4 -> 0
B38: 18 | C38: =⑤経費!D223&"（※）" -> 租税公課（※） | D38: =SUMPRODUCT(E38:H38,E$7:H$7,E$8:H$8) -> 0 | E38: =租税公課_通貨1 -> 0 | F38: =租税公課_通貨2 -> 0 | G38: =租税公課_通貨3 -> 0 | H38: =租税公課_通貨4 -> 0
B39: 22 | C39: =⑤経費!D224&"（※）" -> 雑費(PIT,事手料除)（※） | D39: =SUMPRODUCT(E39:H39,E$7:H$7,E$8:H$8) -> 50000 | E39: =雑費_通貨1 -> 50000 | F39: =雑費_通貨2 -> 0 | G39: =雑費_通貨3 -> 0 | H39: =雑費_通貨4 -> 0
C40: 小計（3～18、22） | D40: =SUBTOTAL(9,D23:D39) -> 2488750 | E40: =SUBTOTAL(9,E23:E39) -> 2488750 | F40: =SUBTOTAL(9,F23:F39) -> 0 | G40: =SUBTOTAL(9,G23:G39) -> 0 | H40: =SUBTOTAL(9,H23:H39) -> 0
C41: ※小計（8、11～16、18、22） | D41: =SUBTOTAL(9,D31:D39)+D28-D37 -> 50000 | E41: =SUBTOTAL(9,E31:E39)+E28-E37 -> 50000 | F41: =SUBTOTAL(9,F31:F39)+F28-F37 -> 0 | G41: =SUBTOTAL(9,G31:G39)+G28-G37 -> 0 | H41: =SUBTOTAL(9,H31:H39)+H28-H37 -> 0
B43: 21 | C43: =⑤経費!D232 -> 事務手数料 | D43: =SUMPRODUCT(E43:H43,E$7:H$7,E$8:H$8) -> 0 | E43: =事務手数料_通貨1 -> 0 | F43: =事務手数料_通貨2 -> 0 | G43: =事務手数料_通貨3 -> 0 | H43: =事務手数料_通貨4 -> 0
C44: B2.他経費計（3～18、21、22） | D44: =SUBTOTAL(9,D23:D43) -> 2488750 | E44: =SUBTOTAL(9,E23:E43) -> 2488750 | F44: =SUBTOTAL(9,F23:F43) -> 0 | G44: =SUBTOTAL(9,G23:G43) -> 0 | H44: =SUBTOTAL(9,H23:H43) -> 0
C46: 直接経費計（除、事務手数料） | D46: =経費_人件費及びPIT+経費_借上外注費及びPIT+D40 -> 4405870 | E46: =E15+E20+E40 -> 4405870 | F46: =F15+F20+F40 -> 0 | G46: =G15+G20+G40 -> 0 | H46: =H15+H20+H40 -> 0
C47: 直接経費計（含、事務手数料） | D47: =D46+D43 -> 4405870 | E47: =E46+E43 -> 4405870 | F47: =F46+F43 -> 0 | G47: =G46+G43 -> 0 | H47: =H46+H43 -> 0

Sheet ⑦総括表
B2: 実行予算稟議書 | E2: =IF(予算種類=F2,"☑","□") -> ☑ | F2: 単年度実行予算 | H2: =IF(予算種類=I2,"☑","□") -> □ | I2: 通期総括実行予算 | L2: システム登録日：
B4: プロジェクト番号 | D4: =プロジェクトコード -> JA15R1003P | E4: 作業科目 | G4: =WBS -> JA15R1003 | J4: 件名 | L4: =プロジェクト件名 -> ベトナム国ハノイ市環状３号線整備事業(マイジック-南タンロン区間)
B5: 主管部 | D5: =主管部 -> 道路橋梁部 | E5: 工期（開始日） | G5: =工期開始日 -> 42200 | J5: 顧客名 | L5: =顧客名 -> ベトナム政府
B6: 分担部 | D6: =分担部 -> 道路橋梁部 | E6: 工期（終了日） | G6: =工期終了日 -> 42627 | J6: 資金源 | L6: =資金源 -> (独)国際協力機構 円借款
B7: 完成年度 | D7: =完成年度 -> 2017 | E7: 完成予定日 | G7: =完成予定日 -> 42735 | J7: TL | L7: =TL -> 石本 一鶴 | M7: 課長 | O7: =課長 -> 佐野 祐一
B8: 完繰基準 | D8: =完成基準 -> 出来高基準 | E8: 請負形態 | G8: =請負形態 -> ＪＶメイン | J8: NK所長 | L8: =所長 -> 前田 哲哉 | M8: 担当者 | O8: =担当者 -> 徳丸 祥一郎
B10: MM総括表 | J10: 直接経費明細表 | P10: （単位:千円）
B11: 番号 | C11: 項 目 | E11: 今回予算 | F11: 対契約MM 比率 | G11: 前回予算 | H11: 対契約MM 比率 | J11: 番号 | K11: 費 目 | M11: 今回予算額 | N11: 経費 割合 | O11: 前回予算額 | P11: 経費 割合
B12: ① | C12: 契約MM | E12: =SUM(E13:E14) -> 2.23 | G12: =SUM(G13:G14) -> 0 | J12: B1 | K12: 報酬分経費 | M12: =SUBTOTAL(9,M13:M18) -> 1917120 | N12: =IF(M$38=0,0,M12/M$38) -> 0.43512859 | O12: =SUBTOTAL(9,O13:O18) -> 0 | P12: =IF(O$38=0,0,O12/O$38) -> 0
C13: 社員分MM | E13: =社員分_契約MM -> 2.23 | G13: 0 | J13: B1a | K13: 社員人件費及びPIT | M13: =SUBTOTAL(9,M14:M15) -> 1917120 | N13: =IF(M$38=0,0,M13/M$38) -> 0.43512859 | O13: =SUBTOTAL(9,O14:O15) -> 0 | P13: =IF(O$38=0,0,O13/O$38) -> 0
C14: 借上分MM | E14: =借上分_契約MM -> 0 | F14: =IF(E12=0,0,E14/E12) -> 0 | G14: 0 | H14: =IF(G12=0,0,G14/G12) -> 0 | J14: 01 | K14: 人件費 | M14: =⑥経費一覧表!D13 -> 1917120 | N14: =IF(M$38=0,0,M14/M$38) -> 0.43512859 | O14: 0 | P14: =IF(O$38=0,0,O14/O$38) -> 0
B15: ② | C15: 非契約MM | E15: =SUM(E16:E17) -> 1 | F15: =IF(E12=0,0,E15/E12) -> 0.44843049 | G15: =SUM(G16:G17) -> 0 | H15: =IF(G12=0,0,G15/G12) -> 0 | J15: 19 | K15: 社員分PIT | M15: =⑥経費一覧表!D14 -> 0 | N15: =IF(M$38=0,0,M15/M$38) -> 0 | O15: 0 | P15: =IF(O$38=0,0,O15/O$38) -> 0
C16: 社員分MM | E16: =社員分_非契約MM -> 1 | G16: 0 | J16: B1b | K16: 借上費及びPIT | M16: =SUBTOTAL(9,M17:M18) -> 0 | N16: =IF(M$38=0,0,M16/M$38) -> 0 | O16: =SUBTOTAL(9,O17:O18) -> 0 | P16: =IF(O$38=0,0,O16/O$38) -> 0
C17: 借上分MM | E17: =借上分_非契約MM -> 0 | G17: 0 | J17: 02 | K17: 借上費(通信交通費除) | M17: =⑥経費一覧表!D18 -> 0 | N17: =IF(M$38=0,0,M17/M$38) -> 0 | O17: 0 | P17: =IF(O$38=0,0,O17/O$38) -> 0
B18: ③ | C18: 稼働MM（①＋②） | E18: =SUM(E19:E20) -> 3.23 | F18: =IF(E12=0,0,E18/E12) -> 1.4484305 | G18: =SUM(G19:G20) -> 0 | H18: =IF(G12=0,0,G18/G12) -> 0 | J18: 20 | K18: 借上分PIT | M18: =⑥経費一覧表!D19 -> 0 | N18: =IF(M$38=0,0,M18/M$38) -> 0 | O18: 0 | P18: =IF(O$38=0,0,O18/O$38) -> 0
C19: 社員分MM | E19: =E13+E16 -> 3.23 | G19: =G13+G16 -> 0 | J19: B2 | K19: 他経費計 | M19: =SUBTOTAL(9,M20:M37) -> 2488750 | N19: =IF(M$38=0,0,M19/M$38) -> 0.56487141 | O19: =SUBTOTAL(9,O20:O37) -> 0 | P19: =IF(O$38=0,0,O19/O$38) -> 0
C20: 借上分MM | E20: =E14+E17 -> 0 | G20: =G14+G17 -> 0 | J20: 03 | K20: 材料費 | M20: =材料費_円換算値 -> 0 | N20: =IF(M$38=0,0,M20/M$38) -> 0 | O20: 0 | P20: =IF(O$38=0,0,O20/O$38) -> 0
J21: 04 | K21: 外注費(借上費除) | M21: =外注委託費_円換算値 -> 0 | N21: =IF(M$38=0,0,M21/M$38) -> 0 | O21: 0 | P21: =IF(O$38=0,0,O21/O$38) -> 0
B22: 予算総括表 | J22: 05 | K22: 労務費 | M22: =労務費_円換算値 -> 0 | N22: =IF(M$38=0,0,M22/M$38) -> 0 | O22: 0 | P22: =IF(O$38=0,0,O22/O$38) -> 0
B23: 番号 | C23: 項 目 | E23: 今回予算額 | F23: 対売上 比率 | G23: 前回予算額 | H23: 対売上 比率 | J23: 06 | K23: 通信交通費(借上通信交通費含) | M23: =通信交通費_円換算値 -> 2188750 | N23: =IF(M$38=0,0,M23/M$38) -> 0.49678043 | O23: 0 | P23: =IF(O$38=0,0,O23/O$38) -> 0
C24: 売上高 | J24: 07 | K24: 事務用品・複写費 | M24: =事務用品複写費_円換算値 -> 100000 | N24: =IF(M$38=0,0,M24/M$38) -> 0.022696993 | O24: 0 | P24: =IF(O$38=0,0,O24/O$38) -> 0
B25: A1 | C25: 報酬売上額 | E25: =SUBTOTAL(9,E26:E27) -> 3902500 | F25: =IF(E$29=0,0,E25/E$29) -> 0.71015231 | G25: =SUBTOTAL(9,G26:G27) -> 0 | H25: =IF(G$29=0,0,G25/G$29) -> 0 | J25: 09 | K25: 会議費 | M25: =会議費_円換算値 -> 0 | N25: =IF(M$38=0,0,M25/M$38) -> 0 | O25: 0 | P25: =IF(O$38=0,0,O25/O$38) -> 0
B26: A1a | C26: 社員報酬額 | E26: =社員報酬額 -> 3902500 | F26: =IF(E$29=0,0,E26/E$29) -> 0.71015231 | G26: 0 | H26: =IF(G$29=0,0,G26/G$29) -> 0 | J26: 10 | K26: 交際費 | M26: =交際費_円換算値 -> 150000 | N26: =IF(M$38=0,0,M26/M$38) -> 0.034045489 | O26: 0 | P26: =IF(O$38=0,0,O26/O$38) -> 0
B27: A1b | C27: 借上報酬額 | E27: =借上報酬額 -> 0 | F27: =IF(E$29=0,0,E27/E$29) -> 0 | G27: 0 | H27: =IF(G$29=0,0,G27/G$29) -> 0 | J27: 17 | K27: 地代家賃 | M27: =地代家賃_円換算値 -> 0 | N27: =IF(M$38=0,0,M27/M$38) -> 0 | O27: 0 | P27: =IF(O$38=0,0,O27/O$38) -> 0
B28: A2 | C28: 経費売上額 | E28: =経費売上額 -> 1592800 | F28: =IF(E$29=0,0,E28/E$29) -> 0.28984769 | G28: 0 | H28: =IF(G$29=0,0,G28/G$29) -> 0 | K28: （その他経費） | M28: =SUBTOTAL(9,M29:M37) -> 50000 | N28: =IF(M$38=0,0,M28/M$38) -> 0.011348496 | O28: =SUBTOTAL(9,O29:O37) -> 0 | P28: =IF(O$38=0,0,O28/O$38) -> 0
B29: A | C29: 売上額(CIT込,VAT除) 計 | E29: =SUBTOTAL(9,E25:E28) -> 5495300 | F29: =IF(E$29=0,0,E29/E$29) -> 1 | G29: =SUBTOTAL(9,G25:G28) -> 0 | H29: =IF(G$29=0,0,G29/G$29) -> 0 | J29: 08 | K29: 福利厚生費 | M29: =福利厚生費_円換算値 -> 0 | N29: =IF(M$38=0,0,M29/M$38) -> 0 | O29: 0 | P29: =IF(O$38=0,0,O29/O$38) -> 0
B30: K | C30: （内,CIT見込額） | E30: =CIT見込額 -> 250000 | F30: =IF(E$29=0,0,E30/E$29) -> 0.045493422 | G30: 0 | H30: =IF(G$29=0,0,G30/G$29) -> 0 | J30: 11 | K30: 修繕維持費 | M30: =修繕維持費_円換算値 -> 0 | N30: =IF(M$38=0,0,M30/M$38) -> 0 | O30: 0 | P30: =IF(O$38=0,0,O30/O$38) -> 0
J31: 12 | K31: 動力用水光熱費 | M31: =動力用水光熱費_円換算値 -> 0 | N31: =IF(M$38=0,0,M31/M$38) -> 0 | O31: 0 | P31: =IF(O$38=0,0,O31/O$38) -> 0
C32: 直接経費 | F32: 対売上 比率 | H32: 対売上 比率 | J32: 13 | K32: 広告宣伝費 | M32: =広告宣伝費_円換算値 -> 0 | N32: =IF(M$38=0,0,M32/M$38) -> 0 | O32: 0 | P32: =IF(O$38=0,0,O32/O$38) -> 0
B33: B1. | C33: 報酬分経費(B1a+B1b) | E33: =SUBTOTAL(9,E34:E35) -> 1917120 | F33: =IF(E$29=0,0,E33/E$29) -> 0.34886539 | G33: =SUBTOTAL(9,G34:G35) -> 0 | H33: =IF(G$29=0,0,G33/G$29) -> 0 | J33: 14 | K33: 諸賃借料 | M33: =諸賃借料_円換算値 -> 0 | N33: =IF(M$38=0,0,M33/M$38) -> 0 | O33: 0 | P33: =IF(O$38=0,0,O33/O$38) -> 0
B34: B1a. | C34: 社員人件費及びPIT | E34: =M13 -> 1917120 | F34: =IF(E$29=0,0,E34/E$29) -> 0.34886539 | G34: =O13 -> 0 | H34: =IF(G$29=0,0,G34/G$29) -> 0 | J34: 15 | K34: 保険料 | M34: =保険料_円換算値 -> 0 | N34: =IF(M$38=0,0,M34/M$38) -> 0 | O34: 0 | P34: =IF(O$38=0,0,O34/O$38) -> 0
