Workbook
Name JICA国別: #REF!
Name JICA国別: #REF!
Name JICA国別: #REF!
Name JICA国別: #REF!
Name JICA国別: #REF!
Name JICA国別: #REF!
Name ソート用: #REF!
Name ソート用: #REF!
Name ソート用: #REF!
Name ソート用: #REF!
Name ソート用: #REF!
Name ソート用: #REF!
Name ﾌﾟﾛｼﾞｪｸﾄｺｰﾄﾞ: [1]ﾌﾟﾛｼﾞｪｸﾄｺｰﾄﾞ!$A$2:$G$6
Name 国コード: 区分!$D$1:$F$66
Name 国コード: 区分!$D$1:$F$66
Name 国コード: 区分!$D$1:$F$66
Name 国コード: 区分!$D$1:$F$66
Name 国コード: 区分!$D$1:$F$66
Name 国コード: 区分!$D$1:$F$66
Name 資金源: 区分!$A$1:$B$88
Name 資金源: 区分!$A$1:$B$88
Name 資金源: 区分!$A$1:$B$88
Name 資金源: 区分!$A$1:$B$88
Name 資金源: 区分!$A$1:$B$88
Name 資金源: 区分!$A$1:$B$88
Name 集計用: #REF!
Name 集計用: #REF!
Name 集計用: #REF!
Name 集計用: #REF!
Name 集計用: #REF!
Name 集計用: #REF!

Sheet 最新_未回収案件一覧
F1: 42582 | O1: 1 | R1: =O1+1 -> 2 | U1: =R1+1 -> 3 | X1: =U1+1 -> 4 | AA1: =X1+1 -> 5 | AD1: =AA1+1 -> 6 | AG1: =AD1+1 -> 7 | AJ1: =AG1+1 -> 8 | AM1: =AJ1+1 -> 9 | AP1: =AM1+1 -> 10 | AS1: =AP1+1 -> 11 | AV1: =AS1+1 -> 12 | AY1: =AV1+1 -> 13 | BB1: =AY1+1 -> 14 | BE1: =BB1+1 -> 15 | BH1: =BE1+1 -> 16 | BK1: =BH1+1 -> 17 | BN1: =BK1+1 -> 18 | BQ1: =BN1+1 -> 19 | BT1: =BQ1+1 -> 20 | BW1: =BT1+1 -> 21 | BZ1: （単位：百万）
M2: 2009年3月期 | P2: 2010年3月期 | S2: 2011年3月期 | V2: 2012年3月期 | Y2: 2013年3月期 | AB2: 2013年6月期 | AE2: 2014年6月期 | AH2: 2014年6月期迄小計 | AK2: 2015年6月期 | AN2: 2015年6月期迄小計 | AQ2: 2016年6月期上期 | AT2: 2016年6月期上期迄小計 | AW2: 2016年6月期下期 | AZ2: 2016年6月期 | BC2: 2016年6月期迄小計 | BF2: 2017年6月期上期 | BI2: 2017年6月期上期迄小計 | BL2: 2017年6月期下期 | BO2: 2017年6月期 | BR2: 2017年6月期迄小計 | BU2: 2017年6月期 | BX2: 合計
H3: プロジェクト | M3: 売掛金 | P3: 売掛金 | S3: 売掛金 | V3: 売掛金 | Y3: 売掛金 | AB3: 売掛金 | AE3: 売掛金 | AH3: 売掛金 | AK3: 売掛金 | AN3: 売掛金（一年以上滞留） | AQ3: 売掛金 | AT3: 売掛金 | AW3: 売掛金 | AZ3: 売掛金 | BC3: 売掛金（期首売掛金残） | BF3: 売掛金 | BI3: 売掛金 | BL3: 売掛金 | BO3: 売掛金 | BR3: 売掛金（A） | BU3: 前受金残（B） | BX3: （C=A+B） | CA3: 売掛金
A4: ｿｰﾄ① | B4: ｿｰﾄ② | C4: ｿｰﾄ③ | D4: 売掛対象月 | E4: リンクコード(入力可） | F4: 事業部 | G4: 主管部 | H4: コード | I4: 案件名 | J4: 客先 | K4: 資金源 | L4: 通貨 | M4: 円 | N4: 現地貨 | O4: 円相当 | P4: 円 | Q4: 現地貨 | R4: 円相当 | S4: 円 | T4: 現地貨 | U4: 円相当 | V4: 円 | W4: 現地貨 | X4: 円相当 | Y4: 円 | Z4: 現地貨 | AA4: 円相当 | AB4: 円 | AC4: 現地貨 | AD4: 円相当 | AE4: 円 | AF4: 現地貨 | AG4: 円相当 | AH4: 円 | AI4: 現地貨 | AJ4: 円相当 | AK4: 円 | AL4: 現地貨 | AM4: 円相当 | AN4: 円 | AO4: 現地貨 | AP4: 円相当 | AQ4: 円 | AR4: 現地貨 | AS4: 円相当 | AT4: 円 | AU4: 現地貨 | AV4: 円相当 | AW4: 円 | AX4: 現地貨 | AY4: 円相当 | AZ4: 円 | BA4: 現地貨 | BB4: 円相当 | BC4: 円 | BD4: 現地貨 | BE4: 円相当 | BF4: 円 | BG4: 現地貨 | BH4: 円相当 | BI4: 円 | BJ4: 現地貨 | BK4: 円相当 | BL4: 円 | BM4: 現地貨 | BN4: 円相当 | BO4: 円 | BP4: 現地貨 | BQ4: 円相当 | BR4: 円 | BS4: 現地貨 | BT4: 円相当 | BU4: 円 | BV4: 現地貨 | BW4: 円相当 | BX4: 円 | BY4: 現地貨 | BZ4: 円相当 | CA4: 対象月 | CB4: 国コード | CE4: 事業部 | CF4: 主管部 | CG4: 資金源
A5: =F5 -> J1 | B5: =G5 -> KE | C5: =K5 -> (独)国際協力機構 円借款 | D5: =CA5 -> 201604-201604 | E5: JA11E1008P-JPY-CVN0000000 | F5: J1 | G5: KE | H5: =IF($E5="","",LEFT(E5,10)) -> JA11E1008P | I5: ベトナム国ハイフォン市環境改善事業（Ⅰ） | J5: ベトナム政府 | K5: (独)国際協力機構 円借款 | L5: JPY | M5: 0 | N5: 0 | O5: 0 | P5: 0 | Q5: 0 | R5: 0 | S5: 0 | T5: 0 | U5: 0 | V5: 0 | W5: 0 | X5: 0 | Y5: 0 | Z5: 0 | AA5: 0 | AB5: 0 | AC5: 0 | AD5: 0 | AE5: 0 | AF5: 0 | AG5: 0 | AH5: =+M5+P5+S5+V5+Y5+AB5+AE5 -> 0 | AI5: =+N5+Q5+T5+W5+Z5+AC5+AF5 -> 0 | AJ5: =+O5+R5+U5+X5+AA5+AD5+AG5 -> 0 | AK5: 0 | AL5: 0 | AM5: 0 | AN5: =AH5+AK5 -> 0 | AO5: =AI5+AL5 -> 0 | AP5: =AJ5+AM5 -> 0 | AQ5: 0 | AR5: 0 | AS5: 0 | AT5: =AN5+AQ5 -> 0 | AU5: =AO5+AR5 -> 0 | AV5: =AP5+AS5 -> 0 | AW5: =AZ5-AQ5 -> 739570 | AX5: =BA5-AR5 -> 0 | AY5: =BB5-AS5 -> 739570 | AZ5: 739570 | BA5: 0 | BB5: 739570 | BC5: =AN5+AZ5 -> 739570 | BD5: =AO5+BA5 -> 0 | BE5: =AP5+BB5 -> 739570 | BF5: 0 | BG5: 0 | BH5: 0 | BI5: =BC5+BF5 -> 739570 | BJ5: =BD5+BG5 -> 0 | BK5: =BE5+BH5 -> 739570 | BL5: =BO5-BF5 -> 0 | BM5: =BP5-BG5 -> 0 | BN5: =BQ5-BH5 -> 0 | BO5: 0 | BP5: 0 | BQ5: 0 | BR5: =BC5+BO5 -> 739570 | BS5: =BD5+BP5 -> 0 | BT5: =BE5+BQ5 -> 739570 | BU5: -576222 | BV5: 0 | BW5: -576222 | BX5: =BR5+BU5 -> 163348 | BY5: =BS5+BV5 -> 0 | BZ5: =BT5+BW5 -> 163348 | CA5: 201604-201604 | CB5: VN | CC5: OK！ | CD5: =IF($E5="","",IF($BW5>0,IF($CA5="-","BA列に売掛金の対象月を入力して下さい！","OK！"),"OK！")) -> OK！ | CE5: =F5 -> J1 | CF5: =G5 -> KE | CG5: =VLOOKUP(K5,資金源,2,FALSE) -> JICA円借款
A6: =F6 -> J1 | B6: =G6 -> KE | C6: =K6 -> (独)国際協力機構 円借款 | D6: =CA6 -> 201309-201606 | E6: JA12E1004P-INR-CIN0000000 | F6: J1 | G6: KE | H6: =IF($E6="","",LEFT(E6,10)) -> JA12E1004P | I6: インド国ラジャスタン森林・生物多様性事業 | J6: インド政府 | K6: (独)国際協力機構 円借款 | L6: INR | M6: 0 | N6: 0 | O6: 0 | P6: 0 | Q6: 0 | R6: 0 | S6: 0 | T6: 0 | U6: 0 | V6: 0 | W6: 0 | X6: 0 | Y6: 0 | Z6: 0 | AA6: 0 | AB6: 0 | AC6: 0 | AD6: 0 | AE6: 0 | AF6: 63958 | AG6: 104994 | AH6: =+M6+P6+S6+V6+Y6+AB6+AE6 -> 0 | AI6: =+N6+Q6+T6+W6+Z6+AC6+AF6 -> 63958 | AJ6: =+O6+R6+U6+X6+AA6+AD6+AG6 -> 104994 | AK6: 0 | AL6: 24255 | AM6: 46251 | AN6: =AH6+AK6 -> 0 | AO6: =AI6+AL6 -> 88213 | AP6: =AJ6+AM6 -> 151245 | AQ6: 0 | AR6: 0 | AS6: 0 | AT6: =AN6+AQ6 -> 0 | AU6: =AO6+AR6 -> 88213 | AV6: =AP6+AS6 -> 151245 | AW6: =AZ6-AQ6 -> 0 | AX6: =BA6-AR6 -> 334264 | AY6: =BB6-AS6 -> 553023 | AZ6: 0 | BA6: 334264 | BB6: 553023 | BC6: =AN6+AZ6 -> 0 | BD6: =AO6+BA6 -> 422477 | BE6: =AP6+BB6 -> 704268 | BF6: 0 | BG6: 0 | BH6: 0 | BI6: =BC6+BF6 -> 0 | BJ6: =BD6+BG6 -> 422477 | BK6: =BE6+BH6 -> 704268 | BL6: =BO6-BF6 -> 0 | BM6: =BP6-BG6 -> 0 | BN6: =BQ6-BH6 -> 0 | BO6: 0 | BP6: 0 | BQ6: 0 | BR6: =BC6+BO6 -> 0 | BS6: =BD6+BP6 -> 422477 | BT6: =BE6+BQ6 -> 704268 | BU6: 0 | BV6: 0 | BW6: 0 | BX6: =BR6+BU6 -> 0 | BY6: =BS6+BV6 -> 422477 | BZ6: =BT6+BW6 -> 704268 | CA6: 201309-201606 | CB6: IN | CC6: OK！ | CD6: =IF($E6="","",IF($BW6>0,IF($CA6="-","BA列に売掛金の対象月を入力して下さい！","OK！"),"OK！")) -> OK！ | CE6: =F6 -> J1 | CF6: =G6 -> KE | CG6: =VLOOKUP(K6,資金源,2,FALSE) -> JICA円借款
A7: =F7 -> J1 | B7: =G7 -> KE | C7: =K7 -> (独)国際協力機構 円借款 | D7: =CA7 -> 201601-201606 | E7: JA12E1005P-JPY-CVN0000000 | F7: J1 | G7: KE | H7: =IF($E7="","",LEFT(E7,10)) -> JA12E1005P | I7: ベトナム国保全林回復・持続的管理事業（円 | J7: ベトナム政府 | K7: (独)国際協力機構 円借款 | L7: JPY | M7: 0 | N7: 0 | O7: 0 | P7: 0 | Q7: 0 | R7: 0 | S7: 0 | T7: 0 | U7: 0 | V7: 0 | W7: 0 | X7: 0 | Y7: 0 | Z7: 0 | AA7: 0 | AB7: 0 | AC7: 0 | AD7: 0 | AE7: 0 | AF7: 0 | AG7: 0 | AH7: =+M7+P7+S7+V7+Y7+AB7+AE7 -> 0 | AI7: =+N7+Q7+T7+W7+Z7+AC7+AF7 -> 0 | AJ7: =+O7+R7+U7+X7+AA7+AD7+AG7 -> 0 | AK7: 0 | AL7: 0 | AM7: 0 | AN7: =AH7+AK7 -> 0 | AO7: =AI7+AL7 -> 0 | AP7: =AJ7+AM7 -> 0 | AQ7: 0 | AR7: 0 | AS7: 0 | AT7: =AN7+AQ7 -> 0 | AU7: =AO7+AR7 -> 0 | AV7: =AP7+AS7 -> 0 | AW7: =AZ7-AQ7 -> 14061500 | AX7: =BA7-AR7 -> 0 | AY7: =BB7-AS7 -> 14061500 | AZ7: 14061500 | BA7: 0 | BB7: 14061500 | BC7: =AN7+AZ7 -> 14061500 | BD7: =AO7+BA7 -> 0 | BE7: =AP7+BB7 -> 14061500 | BF7: 0 | BG7: 0 | BH7: 0 | BI7: =BC7+BF7 -> 14061500 | BJ7: =BD7+BG7 -> 0 | BK7: =BE7+BH7 -> 14061500 | BL7: =BO7-BF7 -> 0 | BM7: =BP7-BG7 -> 0 | BN7: =BQ7-BH7 -> 0 | BO7: 0 | BP7: 0 | BQ7: 0 | BR7: =BC7+BO7 -> 14061500 | BS7: =BD7+BP7 -> 0 | BT7: =BE7+BQ7 -> 14061500 | BU7: -2071237 | BV7: 0 | BW7: -2071237 | BX7: =BR7+BU7 -> 11990263 | BY7: =BS7+BV7 -> 0 | BZ7: =BT7+BW7 -> 11990263 | CA7: 201601-201606 | CB7: VN | CC7: OK！ | CD7: =IF($E7="","",IF($BW7>0,IF($CA7="-","BA列に売掛金の対象月を入力して下さい！","OK！"),"OK！")) -> OK！ | CE7: =F7 -> J1 | CF7: =G7 -> KE | CG7: =VLOOKUP(K7,資金源,2,FALSE) -> JICA円借款
A8: =F8 -> J1 | B8: =G8 -> KE | C8: =K8 -> (独)国際協力機構 円借款 | D8: =CA8 -> 201601-201606 | E8: JA12E1005P-VND-CVN0000000 | F8: J1 | G8: KE | H8: =IF($E8="","",LEFT(E8,10)) -> JA12E1005P | I8: ベトナム国保全林回復・持続的管理事業（円 | J8: ベトナム政府 | K8: (独)国際協力機構 円借款 | L8: VND | M8: 0 | N8: 0 | O8: 0 | P8: 0 | Q8: 0 | R8: 0 | S8: 0 | T8: 0 | U8: 0 | V8: 0 | W8: 0 | X8: 0 | Y8: 0 | Z8: 0 | AA8: 0 | AB8: 0 | AC8: 0 | AD8: 0 | AE8: 0 | AF8: 0 | AG8: 0 | AH8: =+M8+P8+S8+V8+Y8+AB8+AE8 -> 0 | AI8: =+N8+Q8+T8+W8+Z8+AC8+AF8 -> 0 | AJ8: =+O8+R8+U8+X8+AA8+AD8+AG8 -> 0 | AK8: 0 | AL8: 0 | AM8: 0 | AN8: =AH8+AK8 -> 0 | AO8: =AI8+AL8 -> 0 | AP8: =AJ8+AM8 -> 0 | AQ8: 0 | AR8: 0 | AS8: 0 | AT8: =AN8+AQ8 -> 0 | AU8: =AO8+AR8 -> 0 | AV8: =AP8+AS8 -> 0 | AW8: =AZ8-AQ8 -> 0 | AX8: =BA8-AR8 -> 53672000 | AY8: =BB8-AS8 -> 274508 | AZ8: 0 | BA8: 53672000 | BB8: 274508 | BC8: =AN8+AZ8 -> 0 | BD8: =AO8+BA8 -> 53672000 | BE8: =AP8+BB8 -> 274508 | BF8: 0 | BG8: 0 | BH8: 0 | BI8: =BC8+BF8 -> 0 | BJ8: =BD8+BG8 -> 53672000 | BK8: =BE8+BH8 -> 274508 | BL8: =BO8-BF8 -> 0 | BM8: =BP8-BG8 -> 0 | BN8: =BQ8-BH8 -> 0 | BO8: 0 | BP8: 0 | BQ8: 0 | BR8: =BC8+BO8 -> 0 | BS8: =BD8+BP8 -> 53672000 | BT8: =BE8+BQ8 -> 274508 | BU8: 0 | BV8: -128899120 | BW8: -594225 | BX8: =BR8+BU8 -> 0 | BY8: =BS8+BV8 -> -75227120 | BZ8: =BT8+BW8 -> -319717 | CA8: 201601-201606 | CB8: VN | CC8: OK！ | CD8: =IF($E8="","",IF($BW8>0,IF($CA8="-","BA列に売掛金の対象月を入力して下さい！","OK！"),"OK！")) -> OK！ | CE8: =F8 -> J1 | CF8: =G8 -> KE | CG8: =VLOOKUP(K8,資金源,2,FALSE) -> JICA円借款
A9: =F9 -> J1 | B9: =G9 -> KE | C9: =K9 -> (独)国際協力機構 調査 | D9: =CA9 -> 201407-201606 | E9: JA13E1004P-JPY-G501100000 | F9: J1 | G9: KE | H9: =IF($E9="","",LEFT(E9,10)) -> JA13E1004P | I9: ミャンマー国用地取得及び住民移転に係る法 | J9: (独)国際協力機構 調査 | K9: (独)国際協力機構 調査 | L9: JPY | M9: 0 | N9: 0 | O9: 0 | P9: 0 | Q9: 0 | R9: 0 | S9: 0 | T9: 0 | U9: 0 | V9: 0 | W9: 0 | X9: 0 | Y9: 0 | Z9: 0 | AA9: 0 | AB9: 0 | AC9: 0 | AD9: 0 | AE9: 0 | AF9: 0 | AG9: 0 | AH9: =+M9+P9+S9+V9+Y9+AB9+AE9 -> 0 | AI9: =+N9+Q9+T9+W9+Z9+AC9+AF9 -> 0 | AJ9: =+O9+R9+U9+X9+AA9+AD9+AG9 -> 0 | AK9: 0 | AL9: 0 | AM9: 0 | AN9: =AH9+AK9 -> 0 | AO9: =AI9+AL9 -> 0 | AP9: =AJ9+AM9 -> 0 | AQ9: 0 | AR9: 0 | AS9: 0 | AT9: =AN9+AQ9 -> 0 | AU9: =AO9+AR9 -> 0 | AV9: =AP9+AS9 -> 0 | AW9: =AZ9-AQ9 -> 137901960 | AX9: =BA9-AR9 -> 0 | AY9: =BB9-AS9 -> 137901960 | AZ9: 137901960 | BA9: 0 | BB9: 137901960 | BC9: =AN9+AZ9 -> 137901960 | BD9: =AO9+BA9 -> 0 | BE9: =AP9+BB9 -> 137901960 | BF9: 0 | BG9: 0 | BH9: 0 | BI9: =BC9+BF9 -> 137901960 | BJ9: =BD9+BG9 -> 0 | BK9: =BE9+BH9 -> 137901960 | BL9: =BO9-BF9 -> 0 | BM9: =BP9-BG9 -> 0 | BN9: =BQ9-BH9 -> 0 | BO9: 0 | BP9: 0 | BQ9: 0 | BR9: =BC9+BO9 -> 137901960 | BS9: =BD9+BP9 -> 0 | BT9: =BE9+BQ9 -> 137901960 | BU9: -112270320 | BV9: 0 | BW9: -112270320 | BX9: =BR9+BU9 -> 25631640 | BY9: =BS9+BV9 -> 0 | BZ9: =BT9+BW9 -> 25631640 | CA9: 201407-201606 | CB9: MM | CC9: OK！ | CD9: =IF($E9="","",IF($BW9>0,IF($CA9="-","BA列に売掛金の対象月を入力して下さい！","OK！"),"OK！")) -> OK！ | CE9: =F9 -> J1 | CF9: =G9 -> KE | CG9: =VLOOKUP(K9,資金源,2,FALSE) -> JICA調査
A10: =F10 -> J1 | B10: =G10 -> KE | C10: =K10 -> (独)国際協力機構 調査 | D10: =CA10 -> 201406-201606 | E10: JA14E1024P-JPY-G501100000 | F10: J1 | G10: KE | H10: =IF($E10="","",LEFT(E10,10)) -> JA14E1024P | I10: ミャンマー国非自発的住民移転に伴う生計回 | J10: (独)国際協力機構 調査 | K10: (独)国際協力機構 調査 | L10: JPY | M10: 0 | N10: 0 | O10: 0 | P10: 0 | Q10: 0 | R10: 0 | S10: 0 | T10: 0 | U10: 0 | V10: 0 | W10: 0 | X10: 0 | Y10: 0 | Z10: 0 | AA10: 0 | AB10: 0 | AC10: 0 | AD10: 0 | AE10: 0 | AF10: 0 | AG10: 0 | AH10: =+M10+P10+S10+V10+Y10+AB10+AE10 -> 0 | AI10: =+N10+Q10+T10+W10+Z10+AC10+AF10 -> 0 | AJ10: =+O10+R10+U10+X10+AA10+AD10+AG10 -> 0 | AK10: 0 | AL10: 0 | AM10: 0 | AN10: =AH10+AK10 -> 0 | AO10: =AI10+AL10 -> 0 | AP10: =AJ10+AM10 -> 0 | AQ10: 0 | AR10: 0 | AS10: 0 | AT10: =AN10+AQ10 -> 0 | AU10: =AO10+AR10 -> 0 | AV10: =AP10+AS10 -> 0 | AW10: =AZ10-AQ10 -> 37411632 | AX10: =BA10-AR10 -> 0 | AY10: =BB10-AS10 -> 37411632 | AZ10: 37411632 | BA10: 0 | BB10: 37411632 | BC10: =AN10+AZ10 -> 37411632 | BD10: =AO10+BA10 -> 0 | BE10: =AP10+BB10 -> 37411632 | BF10: 0 | BG10: 0 | BH10: 0 | BI10: =BC10+BF10 -> 37411632 | BJ10: =BD10+BG10 -> 0 | BK10: =BE10+BH10 -> 37411632 | BL10: =BO10-BF10 -> 0 | BM10: =BP10-BG10 -> 0 | BN10: =BQ10-BH10 -> 0 | BO10: 0 | BP10: 0 | BQ10: 0 | BR10: =BC10+BO10 -> 37411632 | BS10: =BD10+BP10 -> 0 | BT10: =BE10+BQ10 -> 37411632 | BU10: -13332400 | BV10: 0 | BW10: -13332400 | BX10: =BR10+BU10 -> 24079232 | BY10: =BS10+BV10 -> 0 | BZ10: =BT10+BW10 -> 24079232 | CA10: 201406-201606 | CB10: MM | CC10: OK！ | CD10: =IF($E10="","",IF($BW10>0,IF($CA10="-","BA列に売掛金の対象月を入力して下さい！","OK！"),"OK！")) -> OK！ | CE10: =F10 -> J1 | CF10: =G10 -> KE | CG10: =VLOOKUP(K10,資金源,2,FALSE) -> JICA調査
A11: =F11 -> J1 | B11: =G11 -> KE | C11: =K11 -> (独)国際協力機構 調査 | D11: =CA11 -> 201507-201606 | E11: JA15E1025P-JPY-M000265200 | F11: J1 | G11: KE | H11: =IF($E11="","",LEFT(E11,10)) -> JA15E1025P | I11: ベトナム国簡易測定法を用いた省エネ診断技 | J11: (株)オオスミ | K11: (独)国際協力機構 調査 | L11: JPY | M11: 0 | N11: 0 | O11: 0 | P11: 0 | Q11: 0 | R11: 0 | S11: 0 | T11: 0 | U11: 0 | V11: 0 | W11: 0 | X11: 0 | Y11: 0 | Z11: 0 | AA11: 0 | AB11: 0 | AC11: 0 | AD11: 0 | AE11: 0 | AF11: 0 | AG11: 0 | AH11: =+M11+P11+S11+V11+Y11+AB11+AE11 -> 0 | AI11: =+N11+Q11+T11+W11+Z11+AC11+AF11 -> 0 | AJ11: =+O11+R11+U11+X11+AA11+AD11+AG11 -> 0 | AK11: 0 | AL11: 0 | AM11: 0 | AN11: =AH11+AK11 -> 0 | AO11: =AI11+AL11 -> 0 | AP11: =AJ11+AM11 -> 0 | AQ11: 0 | AR11: 0 | AS11: 0 | AT11: =AN11+AQ11 -> 0 | AU11: =AO11+AR11 -> 0 | AV11: =AP11+AS11 -> 0 | AW11: =AZ11-AQ11 -> 12112918 | AX11: =BA11-AR11 -> 0 | AY11: =BB11-AS11 -> 12112918 | AZ11: 12112918 | BA11: 0 | BB11: 12112918 | BC11: =AN11+AZ11 -> 12112918 | BD11: =AO11+BA11 -> 0 | BE11: =AP11+BB11 -> 12112918 | BF11: 0 | BG11: 0 | BH11: 0 | BI11: =BC11+BF11 -> 12112918 | BJ11: =BD11+BG11 -> 0 | BK11: =BE11+BH11 -> 12112918 | BL11: =BO11-BF11 -> 0 | BM11: =BP11-BG11 -> 0 | BN11: =BQ11-BH11 -> 0 | BO11: 0 | BP11: 0 | BQ11: 0 | BR11: =BC11+BO11 -> 12112918 | BS11: =BD11+BP11 -> 0 | BT11: =BE11+BQ11 -> 12112918 | BU11: 0 | BV11: 0 | BW11: 0 | BX11: =BR11+BU11 -> 12112918 | BY11: =BS11+BV11 -> 0 | BZ11: =BT11+BW11 -> 12112918 | CA11: 201507-201606 | CB11: VN | CC11: OK！ | CD11: =IF($E11="","",IF($BW11>0,IF($CA11="-","BA列に売掛金の対象月を入力して下さい！","OK！"),"OK！")) -> OK！ | CE11: =F11 -> J1 | CF11: =G11 -> KE | CG11: =VLOOKUP(K11,資金源,2,FALSE) -> JICA調査
A12: =F12 -> J1 | B12: =G12 -> KE | C12: =K12 -> (独)国際協力機構 調査 | D12: =CA12 -> 201504-201606 | E12: JA15E1031P-JPY-G501100000 | F12: J1 | G12: KE | H12: =IF($E12="","",LEFT(E12,10)) -> JA15E1031P | I12: イラン国アンザリ湿原環境管理プロジェクト | J12: (独)国際協力機構 調査 | K12: (独)国際協力機構 調査 | L12: JPY | M12: 0 | N12: 0 | O12: 0 | P12: 0 | Q12: 0 | R12: 0 | S12: 0 | T12: 0 | U12: 0 | V12: 0 | W12: 0 | X12: 0 | Y12: 0 | Z12: 0 | AA12: 0 | AB12: 0 | AC12: 0 | AD12: 0 | AE12: 0 | AF12: 0 | AG12: 0 | AH12: =+M12+P12+S12+V12+Y12+AB12+AE12 -> 0 | AI12: =+N12+Q12+T12+W12+Z12+AC12+AF12 -> 0 | AJ12: =+O12+R12+U12+X12+AA12+AD12+AG12 -> 0 | AK12: 0 | AL12: 0 | AM12: 0 | AN12: =AH12+AK12 -> 0 | AO12: =AI12+AL12 -> 0 | AP12: =AJ12+AM12 -> 0 | AQ12: 0 | AR12: 0 | AS12: 0 | AT12: =AN12+AQ12 -> 0 | AU12: =AO12+AR12 -> 0 | AV12: =AP12+AS12 -> 0 | AW12: =AZ12-AQ12 -> 293421960 | AX12: =BA12-AR12 -> 0 | AY12: =BB12-AS12 -> 293421960 | AZ12: 293421960 | BA12: 0 | BB12: 293421960 | BC12: =AN12+AZ12 -> 293421960 | BD12: =AO12+BA12 -> 0 | BE12: =AP12+BB12 -> 293421960 | BF12: 0 | BG12: 0 | BH12: 0 | BI12: =BC12+BF12 -> 293421960 | BJ12: =BD12+BG12 -> 0 | BK12: =BE12+BH12 -> 293421960 | BL12: =BO12-BF12 -> 0 | BM12: =BP12-BG12 -> 0 | BN12: =BQ12-BH12 -> 0 | BO12: 0 | BP12: 0 | BQ12: 0 | BR12: =BC12+BO12 -> 293421960 | BS12: =BD12+BP12 -> 0 | BT12: =BE12+BQ12 -> 293421960 | BU12: -109593000 | BV12: 0 | BW12: -109593000 | BX12: =BR12+BU12 -> 183828960 | BY12: =BS12+BV12 -> 0 | BZ12: =BT12+BW12 -> 183828960 | CA12: 201504-201606 | CB12: IR | CC12: OK！ | CD12: =IF($E12="","",IF($BW12>0,IF($CA12="-","BA列に売掛金の対象月を入力して下さい！","OK！"),"OK！")) -> OK！ | CE12: =F12 -> J1 | CF12: =G12 -> KE | CG12: =VLOOKUP(K12,資金源,2,FALSE) -> JICA調査
A13: =F13 -> J1 | B13: =G13 -> KE | C13: =K13 -> (独)国際協力機構 調査 | D13: =CA13 -> 201506-201606 | E13: JA15E1035P-JPY-G501100000 | F13: J1 | G13: KE | H13: =IF($E13="","",LEFT(E13,10)) -> JA15E1035P | I13: パプアニューギニア国生物多様性保全のため | J13: (独)国際協力機構 調査 | K13: (独)国際協力機構 調査 | L13: JPY | M13: 0 | N13: 0 | O13: 0 | P13: 0 | Q13: 0 | R13: 0 | S13: 0 | T13: 0 | U13: 0 | V13: 0 | W13: 0 | X13: 0 | Y13: 0 | Z13: 0 | AA13: 0 | AB13: 0 | AC13: 0 | AD13: 0 | AE13: 0 | AF13: 0 | AG13: 0 | AH13: =+M13+P13+S13+V13+Y13+AB13+AE13 -> 0 | AI13: =+N13+Q13+T13+W13+Z13+AC13+AF13 -> 0 | AJ13: =+O13+R13+U13+X13+AA13+AD13+AG13 -> 0 | AK13: 0 | AL13: 0 | AM13: 0 | AN13: =AH13+AK13 -> 0 | AO13: =AI13+AL13 -> 0 | AP13: =AJ13+AM13 -> 0 | AQ13: 0 | AR13: 0 | AS13: 0 | AT13: =AN13+AQ13 -> 0 | AU13: =AO13+AR13 -> 0 | AV13: =AP13+AS13 -> 0 | AW13: =AZ13-AQ13 -> 7021836 | AX13: =BA13-AR13 -> 0 | AY13: =BB13-AS13 -> 7021836 | AZ13: 7021836 | BA13: 0 | BB13: 7021836 | BC13: =AN13+AZ13 -> 7021836 | BD13: =AO13+BA13 -> 0 | BE13: =AP13+BB13 -> 7021836 | BF13: 0 | BG13: 0 | BH13: 0 | BI13: =BC13+BF13 -> 7021836 | BJ13: =BD13+BG13 -> 0 | BK13: =BE13+BH13 -> 7021836 | BL13: =BO13-BF13 -> 0 | BM13: =BP13-BG13 -> 0 | BN13: =BQ13-BH13 -> 0 | BO13: 0 | BP13: 0 | BQ13: 0 | BR13: =BC13+BO13 -> 7021836 | BS13: =BD13+BP13 -> 0 | BT13: =BE13+BQ13 -> 7021836 | BU13: -88105700 | BV13: 0 | BW13: -88105700 | BX13: =BR13+BU13 -> -81083864 | BY13: =BS13+BV13 -> 0 | BZ13: =BT13+BW13 -> -81083864 | CA13: 201506-201606 | CB13: PG | CC13: OK！ | CD13: =IF($E13="","",IF($BW13>0,IF($CA13="-","BA列に売掛金の対象月を入力して下さい！","OK！"),"OK！")) -> OK！ | CE13: =F13 -> J1 | CF13: =G13 -> KE | CG13: =VLOOKUP(K13,資金源,2,FALSE) -> JICA調査
A14: =F14 -> J1 | B14: =G14 -> KE | C14: =K14 -> (独)国際協力機構 調査 | D14: =CA14 -> 201505-201605 | E14: JA15E1037P-JPY-G501100000 | F14: J1 | G14: KE | H14: =IF($E14="","",LEFT(E14,10)) -> JA15E1037P | I14: ミャンマー国水環境管理及び環境影響評価制 | J14: (独)国際協力機構 調査 | K14: (独)国際協力機構 調査 | L14: JPY | M14: 0 | N14: 0 | O14: 0 | P14: 0 | Q14: 0 | R14: 0 | S14: 0 | T14: 0 | U14: 0 | V14: 0 | W14: 0 | X14: 0 | Y14: 0 | Z14: 0 | AA14: 0 | AB14: 0 | AC14: 0 | AD14: 0 | AE14: 0 | AF14: 0 | AG14: 0 | AH14: =+M14+P14+S14+V14+Y14+AB14+AE14 -> 0 | AI14: =+N14+Q14+T14+W14+Z14+AC14+AF14 -> 0 | AJ14: =+O14+R14+U14+X14+AA14+AD14+AG14 -> 0 | AK14: 0 | AL14: 0 | AM14: 0 | AN14: =AH14+AK14 -> 0 | AO14: =AI14+AL14 -> 0 | AP14: =AJ14+AM14 -> 0 | AQ14: 0 | AR14: 0 | AS14: 0 | AT14: =AN14+AQ14 -> 0 | AU14: =AO14+AR14 -> 0 | AV14: =AP14+AS14 -> 0 | AW14: =AZ14-AQ14 -> 3891888 | AX14: =BA14-AR14 -> 0 | AY14: =BB14-AS14 -> 3891888 | AZ14: 3891888 | BA14: 0 | BB14: 3891888 | BC14: =AN14+AZ14 -> 3891888 | BD14: =AO14+BA14 -> 0 | BE14: =AP14+BB14 -> 3891888 | BF14: 0 | BG14: 0 | BH14: 0 | BI14: =BC14+BF14 -> 3891888 | BJ14: =BD14+BG14 -> 0 | BK14: =BE14+BH14 -> 3891888 | BL14: =BO14-BF14 -> 0 | BM14: =BP14-BG14 -> 0 | BN14: =BQ14-BH14 -> 0 | BO14: 0 | BP14: 0 | BQ14: 0 | BR14: =BC14+BO14 -> 3891888 | BS14: =BD14+BP14 -> 0 | BT14: =BE14+BQ14 -> 3891888 | BU14: -20011600 | BV14: 0 | BW14: -20011600 | BX14: =BR14+BU14 -> -16119712 | BY14: =BS14+BV14 -> 0 | BZ14: =BT14+BW14 -> -16119712 | CA14: 201505-201605 | CB14: MM | CC14: OK！ | CD14: =IF($E14="","",IF($BW14>0,IF($CA14="-","BA列に売掛金の対象月を入力して下さい！","OK！"),"OK！")) -> OK！ | CE14: =F14 -> J1 | CF14: =G14 -> KE | CG14: =VLOOKUP(K14,資金源,2,FALSE) -> JICA調査
A15: =F15 -> J1 | B15: =G15 -> KE | C15: =K15 -> (独)国際協力機構 調査 | D15: =CA15 -> - | E15: JA16E1001P-JPY-G501100000 | F15: J1 | G15: KE | H15: =IF($E15="","",LEFT(E15,10)) -> JA16E1001P | I15: ベトナム国クアンニン省ハロン湾の持続可能 | J15: (独)国際協力機構 調査 | K15: (独)国際協力機構 調査 | L15: JPY | M15: 0 | N15: 0 | O15: 0 | P15: 0 | Q15: 0 | R15: 0 | S15: 0 | T15: 0 | U15: 0 | V15: 0 | W15: 0 | X15: 0 | Y15: 0 | Z15: 0 | AA15: 0 | AB15: 0 | AC15: 0 | AD15: 0 | AE15: 0 | AF15: 0 | AG15: 0 | AH15: =+M15+P15+S15+V15+Y15+AB15+AE15 -> 0 | AI15: =+N15+Q15+T15+W15+Z15+AC15+AF15 -> 0 | AJ15: =+O15+R15+U15+X15+AA15+AD15+AG15 -> 0 | AK15: 0 | AL15: 0 | AM15: 0 | AN15: =AH15+AK15 -> 0 | AO15: =AI15+AL15 -> 0 | AP15: =AJ15+AM15 -> 0 | AQ15: 0 | AR15: 0 | AS15: 0 | AT15: =AN15+AQ15 -> 0 | AU15: =AO15+AR15 -> 0 | AV15: =AP15+AS15 -> 0 | AW15: =AZ15-AQ15 -> 0 | AX15: =BA15-AR15 -> 0 | AY15: =BB15-AS15 -> 0 | AZ15: 0 | BA15: 0 | BB15: 0 | BC15: =AN15+AZ15 -> 0 | BD15: =AO15+BA15 -> 0 | BE15: =AP15+BB15 -> 0 | BF15: 0 | BG15: 0 | BH15: 0 | BI15: =BC15+BF15 -> 0 | BJ15: =BD15+BG15 -> 0 | BK15: =BE15+BH15 -> 0 | BL15: =BO15-BF15 -> 0 | BM15: =BP15-BG15 -> 0 | BN15: =BQ15-BH15 -> 0 | BO15: 0 | BP15: 0 | BQ15: 0 | BR15: =BC15+BO15 -> 0 | BS15: =BD15+BP15 -> 0 | BT15: =BE15+BQ15 -> 0 | BU15: -33926000 | BV15: 0 | BW15: -33926000 | BX15: =BR15+BU15 -> -33926000 | BY15: =BS15+BV15 -> 0 | BZ15: =BT15+BW15 -> -33926000 | CA15: - | CB15: VN | CC15: OK！ | CD15: =IF($E15="","",IF($BW15>0,IF($CA15="-","BA列に売掛金の対象月を入力して下さい！","OK！"),"OK！")) -> OK！ | CE15: =F15 -> J1 | CF15: =G15 -> KE | CG15: =VLOOKUP(K15,資金源,2,FALSE) -> JICA調査
A16: =F16 -> J1 | B16: =G16 -> KE | C16: =K16 -> (独)国際協力機構 調査 | D16: =CA16 -> 201512-201606 | E16: JA16E1007P-JPY-G501100000 | F16: J1 | G16: KE | H16: =IF($E16="","",LEFT(E16,10)) -> JA16E1007P | I16: ベトナム国流域水環境管理能力向上プロジェ | J16: (独)国際協力機構 調査 | K16: (独)国際協力機構 調査 | L16: JPY | M16: 0 | N16: 0 | O16: 0 | P16: 0 | Q16: 0 | R16: 0 | S16: 0 | T16: 0 | U16: 0 | V16: 0 | W16: 0 | X16: 0 | Y16: 0 | Z16: 0 | AA16: 0 | AB16: 0 | AC16: 0 | AD16: 0 | AE16: 0 | AF16: 0 | AG16: 0 | AH16: =+M16+P16+S16+V16+Y16+AB16+AE16 -> 0 | AI16: =+N16+Q16+T16+W16+Z16+AC16+AF16 -> 0 | AJ16: =+O16+R16+U16+X16+AA16+AD16+AG16 -> 0 | AK16: 0 | AL16: 0 | AM16: 0 | AN16: =AH16+AK16 -> 0 | AO16: =AI16+AL16 -> 0 | AP16: =AJ16+AM16 -> 0 | AQ16: 0 | AR16: 0 | AS16: 0 | AT16: =AN16+AQ16 -> 0 | AU16: =AO16+AR16 -> 0 | AV16: =AP16+AS16 -> 0 | AW16: =AZ16-AQ16 -> 36817200 | AX16: =BA16-AR16 -> 0 | AY16: =BB16-AS16 -> 36817200 | AZ16: 36817200 | BA16: 0 | BB16: 36817200 | BC16: =AN16+AZ16 -> 36817200 | BD16: =AO16+BA16 -> 0 | BE16: =AP16+BB16 -> 36817200 | BF16: 0 | BG16: 0 | BH16: 0 | BI16: =BC16+BF16 -> 36817200 | BJ16: =BD16+BG16 -> 0 | BK16: =BE16+BH16 -> 36817200 | BL16: =BO16-BF16 -> 0 | BM16: =BP16-BG16 -> 0 | BN16: =BQ16-BH16 -> 0 | BO16: 0 | BP16: 0 | BQ16: 0 | BR16: =BC16+BO16 -> 36817200 | BS16: =BD16+BP16 -> 0 | BT16: =BE16+BQ16 -> 36817200 | BU16: 0 | BV16: 0 | BW16: 0 | BX16: =BR16+BU16 -> 36817200 | BY16: =BS16+BV16 -> 0 | BZ16: =BT16+BW16 -> 36817200 | CA16: 201512-201606 | CB16: VN | CC16: OK！ | CD16: =IF($E16="","",IF($BW16>0,IF($CA16="-","BA列に売掛金の対象月を入力して下さい！","OK！"),"OK！")) -> OK！ | CE16: =F16 -> J1 | CF16: =G16 -> KE | CG16: =VLOOKUP(K16,資金源,2,FALSE) -> JICA調査
... A28: =F28 -> J1 | B28: =G28 -> KE | C28: =K28 -> アジア開発銀行 | D28: =CA28 -> 201605-201605 | E28: JA16E1029P-USD-CMV0000000 | F28: J1 | G28: KE | H28: =IF($E28="","",LEFT(E28,10)) -> JA16E1029P | I28: モルディブ国アッドゥ環礁におけるスマート | J28: モルディブ政府 | K28: アジア開発銀行 | L28: USD | M28: 0 | N28: 0 | O28: 0 | P28: 0 | Q28: 0 | R28: 0 | S28: 0 | T28: 0 | U28: 0 | V28: 0 | W28: 0 | X28: 0 | Y28: 0 | Z28: 0 | AA28: 0 | AB28: 0 | AC28: 0 | AD28: 0 | AE28: 0 | AF28: 0 | AG28: 0 | AH28: =+M28+P28+S28+V28+Y28+AB28+AE28 -> 0 | AI28: =+N28+Q28+T28+W28+Z28+AC28+AF28 -> 0 | AJ28: =+O28+R28+U28+X28+AA28+AD28+AG28 -> 0 | AK28: 0 | AL28: 0 | AM28: 0 | AN28: =AH28+AK28 -> 0 | AO28: =AI28+AL28 -> 0 | AP28: =AJ28+AM28 -> 0 | AQ28: 0 | AR28: 0 | AS28: 0 | AT28: =AN28+AQ28 -> 0 | AU28: =AO28+AR28 -> 0 | AV28: =AP28+AS28 -> 0 | AW28: =AZ28-AQ28 -> 0 | AX28: =BA28-AR28 -> 19240 | AY28: =BB28-AS28 -> 2144587 | AZ28: 0 | BA28: 19240 | BB28: 2144587 | BC28: =AN28+AZ28 -> 0 | BD28: =AO28+BA28 -> 19240 | BE28: =AP28+BB28 -> 2144587 | BF28: 0 | BG28: 0 | BH28: 0 | BI28: =BC28+BF28 -> 0 | BJ28: =BD28+BG28 -> 19240 | BK28: =BE28+BH28 -> 2144587 | BL28: =BO28-BF28 -> 0 | BM28: =BP28-BG28 -> 0 | BN28: =BQ28-BH28 -> 0 | BO28: 0 | BP28: 0 | BQ28: 0 | BR28: =BC28+BO28 -> 0 | BS28: =BD28+BP28 -> 19240 | BT28: =BE28+BQ28 -> 2144587 | BU28: 0 | BV28: 0 | BW28: 0 | BX28: =BR28+BU28 -> 0 | BY28: =BS28+BV28 -> 19240 | BZ28: =BT28+BW28 -> 2144587 | CA28: 201605-201605 | CB28: MV | CC28: OK！ | CD28: =IF($E28="","",IF($BW28>0,IF($CA28="-","BA列に売掛金の対象月を入力して下さい！","OK！"),"OK！")) -> OK！ | CE28: =F28 -> J1 | CF28: =G28 -> KE | CG28: =VLOOKUP(K28,資金源,2,FALSE) -> ｱｼﾞｱ開発銀行
A29: =F29 -> J1 | B29: =G29 -> KE | C29: =K29 -> 環境省 | D29: =CA29 -> - | E29: JA16E1030P-JPY-M000284100 | F29: J1 | G29: KE | H29: =IF($E29="","",LEFT(E29,10)) -> JA16E1030P | I29: JCM設備補助事業提案書作成 | J29: ニチバン(株) | K29: 環境省 | L29: JPY | M29: 0 | N29: 0 | O29: 0 | P29: 0 | Q29: 0 | R29: 0 | S29: 0 | T29: 0 | U29: 0 | V29: 0 | W29: 0 | X29: 0 | Y29: 0 | Z29: 0 | AA29: 0 | AB29: 0 | AC29: 0 | AD29: 0 | AE29: 0 | AF29: 0 | AG29: 0 | AH29: =+M29+P29+S29+V29+Y29+AB29+AE29 -> 0 | AI29: =+N29+Q29+T29+W29+Z29+AC29+AF29 -> 0 | AJ29: =+O29+R29+U29+X29+AA29+AD29+AG29 -> 0 | AK29: 0 | AL29: 0 | AM29: 0 | AN29: =AH29+AK29 -> 0 | AO29: =AI29+AL29 -> 0 | AP29: =AJ29+AM29 -> 0 | AQ29: 0 | AR29: 0 | AS29: 0 | AT29: =AN29+AQ29 -> 0 | AU29: =AO29+AR29 -> 0 | AV29: =AP29+AS29 -> 0 | AW29: =AZ29-AQ29 -> 0 | AX29: =BA29-AR29 -> 0 | AY29: =BB29-AS29 -> 0 | AZ29: 0 | BA29: 0 | BB29: 0 | BC29: =AN29+AZ29 -> 0 | BD29: =AO29+BA29 -> 0 | BE29: =AP29+BB29 -> 0 | BF29: 0 | BG29: 0 | BH29: 0 | BI29: =BC29+BF29 -> 0 | BJ29: =BD29+BG29 -> 0 | BK29: =BE29+BH29 -> 0 | BL29: =BO29-BF29 -> 0 | BM29: =BP29-BG29 -> 0 | BN29: =BQ29-BH29 -> 0 | BO29: 0 | BP29: 0 | BQ29: 0 | BR29: =BC29+BO29 -> 0 | BS29: =BD29+BP29 -> 0 | BT29: =BE29+BQ29 -> 0 | BU29: -1080000 | BV29: 0 | BW29: -1080000 | BX29: =BR29+BU29 -> -1080000 | BY29: =BS29+BV29 -> 0 | BZ29: =BT29+BW29 -> -1080000 | CA29: - | CC29: OK！ | CD29: =IF($E29="","",IF($BW29>0,IF($CA29="-","BA列に売掛金の対象月を入力して下さい！","OK！"),"OK！")) -> OK！ | CE29: =F29 -> J1 | CF29: =G29 -> KE | CG29: =VLOOKUP(K29,資金源,2,FALSE) -> 環境省
A30: =F30 -> J1 | B30: =G30 -> KE | C30: =K30 -> 環境省 | D30: =CA30 -> - | E30: JA16E1030P-JPY-M000284300 | F30: J1 | G30: KE | H30: =IF($E30="","",LEFT(E30,10)) -> JA16E1030P | I30: JCM設備補助事業提案書作成 | J30: キリンホールディングス(株) | K30: 環境省 | L30: JPY | M30: 0 | N30: 0 | O30: 0 | P30: 0 | Q30: 0 | R30: 0 | S30: 0 | T30: 0 | U30: 0 | V30: 0 | W30: 0 | X30: 0 | Y30: 0 | Z30: 0 | AA30: 0 | AB30: 0 | AC30: 0 | AD30: 0 | AE30: 0 | AF30: 0 | AG30: 0 | AH30: =+M30+P30+S30+V30+Y30+AB30+AE30 -> 0 | AI30: =+N30+Q30+T30+W30+Z30+AC30+AF30 -> 0 | AJ30: =+O30+R30+U30+X30+AA30+AD30+AG30 -> 0 | AK30: 0 | AL30: 0 | AM30: 0 | AN30: =AH30+AK30 -> 0 | AO30: =AI30+AL30 -> 0 | AP30: =AJ30+AM30 -> 0 | AQ30: 0 | AR30: 0 | AS30: 0 | AT30: =AN30+AQ30 -> 0 | AU30: =AO30+AR30 -> 0 | AV30: =AP30+AS30 -> 0 | AW30: =AZ30-AQ30 -> 0 | AX30: =BA30-AR30 -> 0 | AY30: =BB30-AS30 -> 0 | AZ30: 0 | BA30: 0 | BB30: 0 | BC30: =AN30+AZ30 -> 0 | BD30: =AO30+BA30 -> 0 | BE30: =AP30+BB30 -> 0 | BF30: 0 | BG30: 0 | BH30: 0 | BI30: =BC30+BF30 -> 0 | BJ30: =BD30+BG30 -> 0 | BK30: =BE30+BH30 -> 0 | BL30: =BO30-BF30 -> 0 | BM30: =BP30-BG30 -> 0 | BN30: =BQ30-BH30 -> 0 | BO30: 0 | BP30: 0 | BQ30: 0 | BR30: =BC30+BO30 -> 0 | BS30: =BD30+BP30 -> 0 | BT30: =BE30+BQ30 -> 0 | BU30: -1080000 | BV30: 0 | BW30: -1080000 | BX30: =BR30+BU30 -> -1080000 | BY30: =BS30+BV30 -> 0 | BZ30: =BT30+BW30 -> -1080000 | CA30: - | CC30: OK！ | CD30: =IF($E30="","",IF($BW30>0,IF($CA30="-","BA列に売掛金の対象月を入力して下さい！","OK！"),"OK！")) -> OK！ | CE30: =F30 -> J1 | CF30: =G30 -> KE | CG30: =VLOOKUP(K30,資金源,2,FALSE) -> 環境省
A31: =F31 -> J1 | B31: =G31 -> KG | C31: =K31 -> (独)国際協力機構 円借款 | D31: =CA31 -> 201605-201606 | E31: JA15G1006P-JPY-CBO0000000 | F31: J1 | G31: KG | H31: =IF($E31="","",LEFT(E31,10)) -> JA15G1006P | I31: ボリビア国ラグナ・コロラダ地熱発電所建設 | J31: ボリヴィア政府 | K31: (独)国際協力機構 円借款 | L31: JPY | M31: 0 | N31: 0 | O31: 0 | P31: 0 | Q31: 0 | R31: 0 | S31: 0 | T31: 0 | U31: 0 | V31: 0 | W31: 0 | X31: 0 | Y31: 0 | Z31: 0 | AA31: 0 | AB31: 0 | AC31: 0 | AD31: 0 | AE31: 0 | AF31: 0 | AG31: 0 | AH31: =+M31+P31+S31+V31+Y31+AB31+AE31 -> 0 | AI31: =+N31+Q31+T31+W31+Z31+AC31+AF31 -> 0 | AJ31: =+O31+R31+U31+X31+AA31+AD31+AG31 -> 0 | AK31: 0 | AL31: 0 | AM31: 0 | AN31: =AH31+AK31 -> 0 | AO31: =AI31+AL31 -> 0 | AP31: =AJ31+AM31 -> 0 | AQ31: 0 | AR31: 0 | AS31: 0 | AT31: =AN31+AQ31 -> 0 | AU31: =AO31+AR31 -> 0 | AV31: =AP31+AS31 -> 0 | AW31: =AZ31-AQ31 -> 3400000 | AX31: =BA31-AR31 -> 0 | AY31: =BB31-AS31 -> 3400000 | AZ31: 3400000 | BA31: 0 | BB31: 3400000 | BC31: =AN31+AZ31 -> 3400000 | BD31: =AO31+BA31 -> 0 | BE31: =AP31+BB31 -> 3400000 | BF31: 0 | BG31: 0 | BH31: 0 | BI31: =BC31+BF31 -> 3400000 | BJ31: =BD31+BG31 -> 0 | BK31: =BE31+BH31 -> 3400000 | BL31: =BO31-BF31 -> 0 | BM31: =BP31-BG31 -> 0 | BN31: =BQ31-BH31 -> 0 | BO31: 0 | BP31: 0 | BQ31: 0 | BR31: =BC31+BO31 -> 3400000 | BS31: =BD31+BP31 -> 0 | BT31: =BE31+BQ31 -> 3400000 | BU31: 0 | BV31: 0 | BW31: 0 | BX31: =BR31+BU31 -> 3400000 | BY31: =BS31+BV31 -> 0 | BZ31: =BT31+BW31 -> 3400000 | CA31: 201605-201606 | CB31: BO | CC31: OK！ | CD31: =IF($E31="","",IF($BW31>0,IF($CA31="-","BA列に売掛金の対象月を入力して下さい！","OK！"),"OK！")) -> OK！ | CE31: =F31 -> J1 | CF31: =G31 -> KG | CG31: =VLOOKUP(K31,資金源,2,FALSE) -> JICA円借款
A32: =F32 -> J1 | B32: =G32 -> KG | C32: =K32 -> (独)国際協力機構 調査 | D32: =CA32 -> 201504-201605 | E32: JA15G1012P-JPY-G501100000 | F32: J1 | G32: KG | H32: =IF($E32="","",LEFT(E32,10)) -> JA15G1012P | I32: ブラジル国統合自然災害リスク管理国家戦略 | J32: (独)国際協力機構 調査 | K32: (独)国際協力機構 調査 | L32: JPY | M32: 0 | N32: 0 | O32: 0 | P32: 0 | Q32: 0 | R32: 0 | S32: 0 | T32: 0 | U32: 0 | V32: 0 | W32: 0 | X32: 0 | Y32: 0 | Z32: 0 | AA32: 0 | AB32: 0 | AC32: 0 | AD32: 0 | AE32: 0 | AF32: 0 | AG32: 0 | AH32: =+M32+P32+S32+V32+Y32+AB32+AE32 -> 0 | AI32: =+N32+Q32+T32+W32+Z32+AC32+AF32 -> 0 | AJ32: =+O32+R32+U32+X32+AA32+AD32+AG32 -> 0 | AK32: 0 | AL32: 0 | AM32: 0 | AN32: =AH32+AK32 -> 0 | AO32: =AI32+AL32 -> 0 | AP32: =AJ32+AM32 -> 0 | AQ32: 0 | AR32: 0 | AS32: 0 | AT32: =AN32+AQ32 -> 0 | AU32: =AO32+AR32 -> 0 | AV32: =AP32+AS32 -> 0 | AW32: =AZ32-AQ32 -> 29816640 | AX32: =BA32-AR32 -> 0 | AY32: =BB32-AS32 -> 29816640 | AZ32: 29816640 | BA32: 0 | BB32: 29816640 | BC32: =AN32+AZ32 -> 29816640 | BD32: =AO32+BA32 -> 0 | BE32: =AP32+BB32 -> 29816640 | BF32: 0 | BG32: 0 | BH32: 0 | BI32: =BC32+BF32 -> 29816640 | BJ32: =BD32+BG32 -> 0 | BK32: =BE32+BH32 -> 29816640 | BL32: =BO32-BF32 -> 0 | BM32: =BP32-BG32 -> 0 | BN32: =BQ32-BH32 -> 0 | BO32: 0 | BP32: 0 | BQ32: 0 | BR32: =BC32+BO32 -> 29816640 | BS32: =BD32+BP32 -> 0 | BT32: =BE32+BQ32 -> 29816640 | BU32: -8033000 | BV32: 0 | BW32: -8033000 | BX32: =BR32+BU32 -> 21783640 | BY32: =BS32+BV32 -> 0 | BZ32: =BT32+BW32 -> 21783640 | CA32: 201504-201605 | CB32: BR | CC32: OK！ | CD32: =IF($E32="","",IF($BW32>0,IF($CA32="-","BA列に売掛金の対象月を入力して下さい！","OK！"),"OK！")) -> OK！ | CE32: =F32 -> J1 | CF32: =G32 -> KG | CG32: =VLOOKUP(K32,資金源,2,FALSE) -> JICA調査
A33: =F33 -> J1 | B33: =G33 -> KG | C33: =K33 -> (独)国際協力機構 調査 | D33: =CA33 -> 201502-201605 | E33: JA15G1014P-JPY-G501100000 | F33: J1 | G33: KG | H33: =IF($E33="","",LEFT(E33,10)) -> JA15G1014P | I33: セントビンセント及びグレナダ地熱開発に係 | J33: (独)国際協力機構 調査 | K33: (独)国際協力機構 調査 | L33: JPY | M33: 0 | N33: 0 | O33: 0 | P33: 0 | Q33: 0 | R33: 0 | S33: 0 | T33: 0 | U33: 0 | V33: 0 | W33: 0 | X33: 0 | Y33: 0 | Z33: 0 | AA33: 0 | AB33: 0 | AC33: 0 | AD33: 0 | AE33: 0 | AF33: 0 | AG33: 0 | AH33: =+M33+P33+S33+V33+Y33+AB33+AE33 -> 0 | AI33: =+N33+Q33+T33+W33+Z33+AC33+AF33 -> 0 | AJ33: =+O33+R33+U33+X33+AA33+AD33+AG33 -> 0 | AK33: 0 | AL33: 0 | AM33: 0 | AN33: =AH33+AK33 -> 0 | AO33: =AI33+AL33 -> 0 | AP33: =AJ33+AM33 -> 0 | AQ33: 0 | AR33: 0 | AS33: 0 | AT33: =AN33+AQ33 -> 0 | AU33: =AO33+AR33 -> 0 | AV33: =AP33+AS33 -> 0 | AW33: =AZ33-AQ33 -> 8019324 | AX33: =BA33-AR33 -> 0 | AY33: =BB33-AS33 -> 8019324 | AZ33: 8019324 | BA33: 0 | BB33: 8019324 | BC33: =AN33+AZ33 -> 8019324 | BD33: =AO33+BA33 -> 0 | BE33: =AP33+BB33 -> 8019324 | BF33: 0 | BG33: 0 | BH33: 0 | BI33: =BC33+BF33 -> 8019324 | BJ33: =BD33+BG33 -> 0 | BK33: =BE33+BH33 -> 8019324 | BL33: =BO33-BF33 -> 0 | BM33: =BP33-BG33 -> 0 | BN33: =BQ33-BH33 -> 0 | BO33: 0 | BP33: 0 | BQ33: 0 | BR33: =BC33+BO33 -> 8019324 | BS33: =BD33+BP33 -> 0 | BT33: =BE33+BQ33 -> 8019324 | BU33: -14824300 | BV33: 0 | BW33: -14824300 | BX33: =BR33+BU33 -> -6804976 | BY33: =BS33+BV33 -> 0 | BZ33: =BT33+BW33 -> -6804976 | CA33: 201502-201605 | CB33: VC | CC33: OK！ | CD33: =IF($E33="","",IF($BW33>0,IF($CA33="-","BA列に売掛金の対象月を入力して下さい！","OK！"),"OK！")) -> OK！ | CE33: =F33 -> J1 | CF33: =G33 -> KG | CG33: =VLOOKUP(K33,資金源,2,FALSE) -> JICA調査
A34: =F34 -> J1 | B34: =G34 -> KG | C34: =K34 -> (独)国際協力機構 調査 | D34: =CA34 -> - | E34: JA16G1001P-JPY-G501100000 | F34: J1 | G34: KG | H34: =IF($E34="","",LEFT(E34,10)) -> JA16G1001P | I34: アルメニア国地すべり災害管理対策プロジェ | J34: (独)国際協力機構 調査 | K34: (独)国際協力機構 調査 | L34: JPY | M34: 0 | N34: 0 | O34: 0 | P34: 0 | Q34: 0 | R34: 0 | S34: 0 | T34: 0 | U34: 0 | V34: 0 | W34: 0 | X34: 0 | Y34: 0 | Z34: 0 | AA34: 0 | AB34: 0 | AC34: 0 | AD34: 0 | AE34: 0 | AF34: 0 | AG34: 0 | AH34: =+M34+P34+S34+V34+Y34+AB34+AE34 -> 0 | AI34: =+N34+Q34+T34+W34+Z34+AC34+AF34 -> 0 | AJ34: =+O34+R34+U34+X34+AA34+AD34+AG34 -> 0 | AK34: 0 | AL34: 0 | AM34: 0 | AN34: =AH34+AK34 -> 0 | AO34: =AI34+AL34 -> 0 | AP34: =AJ34+AM34 -> 0 | AQ34: 0 | AR34: 0 | AS34: 0 | AT34: =AN34+AQ34 -> 0 | AU34: =AO34+AR34 -> 0 | AV34: =AP34+AS34 -> 0 | AW34: =AZ34-AQ34 -> 0 | AX34: =BA34-AR34 -> 0 | AY34: =BB34-AS34 -> 0 | AZ34: 0 | BA34: 0 | BB34: 0 | BC34: =AN34+AZ34 -> 0 | BD34: =AO34+BA34 -> 0 | BE34: =AP34+BB34 -> 0 | BF34: 0 | BG34: 0 | BH34: 0 | BI34: =BC34+BF34 -> 0 | BJ34: =BD34+BG34 -> 0 | BK34: =BE34+BH34 -> 0 | BL34: =BO34-BF34 -> 0 | BM34: =BP34-BG34 -> 0 | BN34: =BQ34-BH34 -> 0 | BO34: 0 | BP34: 0 | BQ34: 0 | BR34: =BC34+BO34 -> 0 | BS34: =BD34+BP34 -> 0 | BT34: =BE34+BQ34 -> 0 | BU34: -83236000 | BV34: 0 | BW34: -83236000 | BX34: =BR34+BU34 -> -83236000 | BY34: =BS34+BV34 -> 0 | BZ34: =BT34+BW34 -> -83236000 | CA34: - | CB34: AM | CC34: OK！ | CD34: =IF($E34="","",IF($BW34>0,IF($CA34="-","BA列に売掛金の対象月を入力して下さい！","OK！"),"OK！")) -> OK！ | CE34: =F34 -> J1 | CF34: =G34 -> KG | CG34: =VLOOKUP(K34,資金源,2,FALSE) -> JICA調査
A35: =F35 -> J1 | B35: =G35 -> KG | C35: =K35 -> (独)国際協力機構 調査 | D35: =CA35 -> - | E35: JA16G1002P-JPY-G501100000 | F35: J1 | G35: KG | H35: =IF($E35="","",LEFT(E35,10)) -> JA16G1002P | I35: エチオピア国地熱開発に係る情報収集･確認 | J35: (独)国際協力機構 調査 | K35: (独)国際協力機構 調査 | L35: JPY | M35: 0 | N35: 0 | O35: 0 | P35: 0 | Q35: 0 | R35: 0 | S35: 0 | T35: 0 | U35: 0 | V35: 0 | W35: 0 | X35: 0 | Y35: 0 | Z35: 0 | AA35: 0 | AB35: 0 | AC35: 0 | AD35: 0 | AE35: 0 | AF35: 0 | AG35: 0 | AH35: =+M35+P35+S35+V35+Y35+AB35+AE35 -> 0 | AI35: =+N35+Q35+T35+W35+Z35+AC35+AF35 -> 0 | AJ35: =+O35+R35+U35+X35+AA35+AD35+AG35 -> 0 | AK35: 0 | AL35: 0 | AM35: 0 | AN35: =AH35+AK35 -> 0 | AO35: =AI35+AL35 -> 0 | AP35: =AJ35+AM35 -> 0 | AQ35: 0 | AR35: 0 | AS35: 0 | AT35: =AN35+AQ35 -> 0 | AU35: =AO35+AR35 -> 0 | AV35: =AP35+AS35 -> 0 | AW35: =AZ35-AQ35 -> 0 | AX35: =BA35-AR35 -> 0 | AY35: =BB35-AS35 -> 0 | AZ35: 0 | BA35: 0 | BB35: 0 | BC35: =AN35+AZ35 -> 0 | BD35: =AO35+BA35 -> 0 | BE35: =AP35+BB35 -> 0 | BF35: 0 | BG35: 0 | BH35: 0 | BI35: =BC35+BF35 -> 0 | BJ35: =BD35+BG35 -> 0 | BK35: =BE35+BH35 -> 0 | BL35: =BO35-BF35 -> 0 | BM35: =BP35-BG35 -> 0 | BN35: =BQ35-BH35 -> 0 | BO35: 0 | BP35: 0 | BQ35: 0 | BR35: =BC35+BO35 -> 0 | BS35: =BD35+BP35 -> 0 | BT35: =BE35+BQ35 -> 0 | BU35: -70745000 | BV35: 0 | BW35: -70745000 | BX35: =BR35+BU35 -> -70745000 | BY35: =BS35+BV35 -> 0 | BZ35: =BT35+BW35 -> -70745000 | CA35: - | CB35: ET | CC35: OK！ | CD35: =IF($E35="","",IF($BW35>0,IF($CA35="-","BA列に売掛金の対象月を入力して下さい！","OK！"),"OK！")) -> OK！ | CE35: =F35 -> J1 | CF35: =G35 -> KG | CG35: =VLOOKUP(K35,資金源,2,FALSE) -> JICA調査
A36: =F36 -> J1 | B36: =G36 -> KG | C36: =K36 -> (独)国際協力機構 調査 | D36: =CA36 -> - | E36: JA16G1006P-JPY-G501100000 | F36: J1 | G36: KG | H36: =IF($E36="","",LEFT(E36,10)) -> JA16G1006P | I36: ジブチ国地熱開発のための情報収集･確認調 | J36: (独)国際協力機構 調査 | K36: (独)国際協力機構 調査 | L36: JPY | M36: 0 | N36: 0 | O36: 0 | P36: 0 | Q36: 0 | R36: 0 | S36: 0 | T36: 0 | U36: 0 | V36: 0 | W36: 0 | X36: 0 | Y36: 0 | Z36: 0 | AA36: 0 | AB36: 0 | AC36: 0 | AD36: 0 | AE36: 0 | AF36: 0 | AG36: 0 | AH36: =+M36+P36+S36+V36+Y36+AB36+AE36 -> 0 | AI36: =+N36+Q36+T36+W36+Z36+AC36+AF36 -> 0 | AJ36: =+O36+R36+U36+X36+AA36+AD36+AG36 -> 0 | AK36: 0 | AL36: 0 | AM36: 0 | AN36: =AH36+AK36 -> 0 | AO36: =AI36+AL36 -> 0 | AP36: =AJ36+AM36 -> 0 | AQ36: 0 | AR36: 0 | AS36: 0 | AT36: =AN36+AQ36 -> 0 | AU36: =AO36+AR36 -> 0 | AV36: =AP36+AS36 -> 0 | AW36: =AZ36-AQ36 -> 0 | AX36: =BA36-AR36 -> 0 | AY36: =BB36-AS36 -> 0 | AZ36: 0 | BA36: 0 | BB36: 0 | BC36: =AN36+AZ36 -> 0 | BD36: =AO36+BA36 -> 0 | BE36: =AP36+BB36 -> 0 | BF36: 0 | BG36: 0 | BH36: 0 | BI36: =BC36+BF36 -> 0 | BJ36: =BD36+BG36 -> 0 | BK36: =BE36+BH36 -> 0 | BL36: =BO36-BF36 -> 0 | BM36: =BP36-BG36 -> 0 | BN36: =BQ36-BH36 -> 0 | BO36: 0 | BP36: 0 | BQ36: 0 | BR36: =BC36+BO36 -> 0 | BS36: =BD36+BP36 -> 0 | BT36: =BE36+BQ36 -> 0 | BU36: -67259000 | BV36: 0 | BW36: -67259000 | BX36: =BR36+BU36 -> -67259000 | BY36: =BS36+BV36 -> 0 | BZ36: =BT36+BW36 -> -67259000 | CA36: - | CB36: DJ | CC36: OK！ | CD36: =IF($E36="","",IF($BW36>0,IF($CA36="-","BA列に売掛金の対象月を入力して下さい！","OK！"),"OK！")) -> OK！ | CE36: =F36 -> J1 | CF36: =G36 -> KG | CG36: =VLOOKUP(K36,資金源,2,FALSE) -> JICA調査
A37: =F37 -> J1 | B37: =G37 -> KG | C37: =K37 -> (独)国際協力機構 調査 | D37: =CA37 -> - | E37: JA16G1007P-JPY-G501100000 | F37: J1 | G37: KG | H37: =IF($E37="","",LEFT(E37,10)) -> JA16G1007P | I37: 中米地域(エルサルバドル他)広域防災能力 | J37: (独)国際協力機構 調査 | K37: (独)国際協力機構 調査 | L37: JPY | M37: 0 | N37: 0 | O37: 0 | P37: 0 | Q37: 0 | R37: 0 | S37: 0 | T37: 0 | U37: 0 | V37: 0 | W37: 0 | X37: 0 | Y37: 0 | Z37: 0 | AA37: 0 | AB37: 0 | AC37: 0 | AD37: 0 | AE37: 0 | AF37: 0 | AG37: 0 | AH37: =+M37+P37+S37+V37+Y37+AB37+AE37 -> 0 | AI37: =+N37+Q37+T37+W37+Z37+AC37+AF37 -> 0 | AJ37: =+O37+R37+U37+X37+AA37+AD37+AG37 -> 0 | AK37: 0 | AL37: 0 | AM37: 0 | AN37: =AH37+AK37 -> 0 | AO37: =AI37+AL37 -> 0 | AP37: =AJ37+AM37 -> 0 | AQ37: 0 | AR37: 0 | AS37: 0 | AT37: =AN37+AQ37 -> 0 | AU37: =AO37+AR37 -> 0 | AV37: =AP37+AS37 -> 0 | AW37: =AZ37-AQ37 -> 0 | AX37: =BA37-AR37 -> 0 | AY37: =BB37-AS37 -> 0 | AZ37: 0 | BA37: 0 | BB37: 0 | BC37: =AN37+AZ37 -> 0 | BD37: =AO37+BA37 -> 0 | BE37: =AP37+BB37 -> 0 | BF37: 0 | BG37: 0 | BH37: 0 | BI37: =BC37+BF37 -> 0 | BJ37: =BD37+BG37 -> 0 | BK37: =BE37+BH37 -> 0 | BL37: =BO37-BF37 -> 0 | BM37: =BP37-BG37 -> 0 | BN37: =BQ37-BH37 -> 0 | BO37: 0 | BP37: 0 | BQ37: 0 | BR37: =BC37+BO37 -> 0 | BS37: =BD37+BP37 -> 0 | BT37: =BE37+BQ37 -> 0 | BU37: -20494000 | BV37: 0 | BW37: -20494000 | BX37: =BR37+BU37 -> -20494000 | BY37: =BS37+BV37 -> 0 | BZ37: =BT37+BW37 -> -20494000 | CA37: - | CB37: SV | CC37: OK！ | CD37: =IF($E37="","",IF($BW37>0,IF($CA37="-","BA列に売掛金の対象月を入力して下さい！","OK！"),"OK！")) -> OK！ | CE37: =F37 -> J1 | CF37: =G37 -> KG | CG37: =VLOOKUP(K37,資金源,2,FALSE) -> JICA調査
A38: =F38 -> J1 | B38: =G38 -> KG | C38: =K38 -> (独)国際協力機構 調査 | D38: =CA38 -> - | E38: JA16G1008P-JPY-G501100000 | F38: J1 | G38: KG | H38: =IF($E38="","",LEFT(E38,10)) -> JA16G1008P | I38: スリランカ国土砂災害対策強化プロジェクト | J38: (独)国際協力機構 調査 | K38: (独)国際協力機構 調査 | L38: JPY | M38: 0 | N38: 0 | O38: 0 | P38: 0 | Q38: 0 | R38: 0 | S38: 0 | T38: 0 | U38: 0 | V38: 0 | W38: 0 | X38: 0 | Y38: 0 | Z38: 0 | AA38: 0 | AB38: 0 | AC38: 0 | AD38: 0 | AE38: 0 | AF38: 0 | AG38: 0 | AH38: =+M38+P38+S38+V38+Y38+AB38+AE38 -> 0 | AI38: =+N38+Q38+T38+W38+Z38+AC38+AF38 -> 0 | AJ38: =+O38+R38+U38+X38+AA38+AD38+AG38 -> 0 | AK38: 0 | AL38: 0 | AM38: 0 | AN38: =AH38+AK38 -> 0 | AO38: =AI38+AL38 -> 0 | AP38: =AJ38+AM38 -> 0 | AQ38: 0 | AR38: 0 | AS38: 0 | AT38: =AN38+AQ38 -> 0 | AU38: =AO38+AR38 -> 0 | AV38: =AP38+AS38 -> 0 | AW38: =AZ38-AQ38 -> 0 | AX38: =BA38-AR38 -> 0 | AY38: =BB38-AS38 -> 0 | AZ38: 0 | BA38: 0 | BB38: 0 | BC38: =AN38+AZ38 -> 0 | BD38: =AO38+BA38 -> 0 | BE38: =AP38+BB38 -> 0 | BF38: 0 | BG38: 0 | BH38: 0 | BI38: =BC38+BF38 -> 0 | BJ38: =BD38+BG38 -> 0 | BK38: =BE38+BH38 -> 0 | BL38: =BO38-BF38 -> 0 | BM38: =BP38-BG38 -> 0 | BN38: =BQ38-BH38 -> 0 | BO38: 0 | BP38: 0 | BQ38: 0 | BR38: =BC38+BO38 -> 0 | BS38: =BD38+BP38 -> 0 | BT38: =BE38+BQ38 -> 0 | BU38: -9949000 | BV38: 0 | BW38: -9949000 | BX38: =BR38+BU38 -> -9949000 | BY38: =BS38+BV38 -> 0 | BZ38: =BT38+BW38 -> -9949000 | CA38: - | CB38: LK | CC38: OK！ | CD38: =IF($E38="","",IF($BW38>0,IF($CA38="-","BA列に売掛金の対象月を入力して下さい！","OK！"),"OK！")) -> OK！ | CE38: =F38 -> J1 | CF38: =G38 -> KG | CG38: =VLOOKUP(K38,資金源,2,FALSE) -> JICA調査
A39: =F39 -> J1 | B39: =G39 -> KG | C39: =K39 -> (独)国際協力機構 調査 | D39: =CA39 -> - | E39: JA16G1010P-JPY-G501100000 | F39: J1 | G39: KG | H39: =IF($E39="","",LEFT(E39,10)) -> JA16G1010P | I39: ホンジュラス国国道6号線地すべり防止計画 | J39: (独)国際協力機構 調査 | K39: (独)国際協力機構 調査 | L39: JPY | M39: 0 | N39: 0 | O39: 0 | P39: 0 | Q39: 0 | R39: 0 | S39: 0 | T39: 0 | U39: 0 | V39: 0 | W39: 0 | X39: 0 | Y39: 0 | Z39: 0 | AA39: 0 | AB39: 0 | AC39: 0 | AD39: 0 | AE39: 0 | AF39: 0 | AG39: 0 | AH39: =+M39+P39+S39+V39+Y39+AB39+AE39 -> 0 | AI39: =+N39+Q39+T39+W39+Z39+AC39+AF39 -> 0 | AJ39: =+O39+R39+U39+X39+AA39+AD39+AG39 -> 0 | AK39: 0 | AL39: 0 | AM39: 0 | AN39: =AH39+AK39 -> 0 | AO39: =AI39+AL39 -> 0 | AP39: =AJ39+AM39 -> 0 | AQ39: 0 | AR39: 0 | AS39: 0 | AT39: =AN39+AQ39 -> 0 | AU39: =AO39+AR39 -> 0 | AV39: =AP39+AS39 -> 0 | AW39: =AZ39-AQ39 -> 0 | AX39: =BA39-AR39 -> 0 | AY39: =BB39-AS39 -> 0 | AZ39: 0 | BA39: 0 | BB39: 0 | BC39: =AN39+AZ39 -> 0 | BD39: =AO39+BA39 -> 0 | BE39: =AP39+BB39 -> 0 | BF39: 0 | BG39: 0 | BH39: 0 | BI39: =BC39+BF39 -> 0 | BJ39: =BD39+BG39 -> 0 | BK39: =BE39+BH39 -> 0 | BL39: =BO39-BF39 -> 0 | BM39: =BP39-BG39 -> 0 | BN39: =BQ39-BH39 -> 0 | BO39: 0 | BP39: 0 | BQ39: 0 | BR39: =BC39+BO39 -> 0 | BS39: =BD39+BP39 -> 0 | BT39: =BE39+BQ39 -> 0 | BU39: -50367000 | BV39: 0 | BW39: -50367000 | BX39: =BR39+BU39 -> -50367000 | BY39: =BS39+BV39 -> 0 | BZ39: =BT39+BW39 -> -50367000 | CA39: - | CB39: HN | CC39: OK！ | CD39: =IF($E39="","",IF($BW39>0,IF($CA39="-","BA列に売掛金の対象月を入力して下さい！","OK！"),"OK！")) -> OK！ | CE39: =F39 -> J1 | CF39: =G39 -> KG | CG39: =VLOOKUP(K39,資金源,2,FALSE) -> JICA調査
A40: =F40 -> J1 | B40: =G40 -> KG | C40: =K40 -> (独)国際協力機構 調査 | D40: =CA40 -> - | E40: JA16G1013P-JPY-G501100000 | F40: J1 | G40: KG | H40: =IF($E40="","",LEFT(E40,10)) -> JA16G1013P | I40: コロンビア国地熱発電開発にかかる情報収集 | J40: (独)国際協力機構 調査 | K40: (独)国際協力機構 調査 | L40: JPY | M40: 0 | N40: 0 | O40: 0 | P40: 0 | Q40: 0 | R40: 0 | S40: 0 | T40: 0 | U40: 0 | V40: 0 | W40: 0 | X40: 0 | Y40: 0 | Z40: 0 | AA40: 0 | AB40: 0 | AC40: 0 | AD40: 0 | AE40: 0 | AF40: 0 | AG40: 0 | AH40: =+M40+P40+S40+V40+Y40+AB40+AE40 -> 0 | AI40: =+N40+Q40+T40+W40+Z40+AC40+AF40 -> 0 | AJ40: =+O40+R40+U40+X40+AA40+AD40+AG40 -> 0 | AK40: 0 | AL40: 0 | AM40: 0 | AN40: =AH40+AK40 -> 0 | AO40: =AI40+AL40 -> 0 | AP40: =AJ40+AM40 -> 0 | AQ40: 0 | AR40: 0 | AS40: 0 | AT40: =AN40+AQ40 -> 0 | AU40: =AO40+AR40 -> 0 | AV40: =AP40+AS40 -> 0 | AW40: =AZ40-AQ40 -> 0 | AX40: =BA40-AR40 -> 0 | AY40: =BB40-AS40 -> 0 | AZ40: 0 | BA40: 0 | BB40: 0 | BC40: =AN40+AZ40 -> 0 | BD40: =AO40+BA40 -> 0 | BE40: =AP40+BB40 -> 0 | BF40: 0 | BG40: 0 | BH40: 0 | BI40: =BC40+BF40 -> 0 | BJ40: =BD40+BG40 -> 0 | BK40: =BE40+BH40 -> 0 | BL40: =BO40-BF40 -> 0 | BM40: =BP40-BG40 -> 0 | BN40: =BQ40-BH40 -> 0 | BO40: 0 | BP40: 0 | BQ40: 0 | BR40: =BC40+BO40 -> 0 | BS40: =BD40+BP40 -> 0 | BT40: =BE40+BQ40 -> 0 | BU40: -10253000 | BV40: 0 | BW40: -10253000 | BX40: =BR40+BU40 -> -10253000 | BY40: =BS40+BV40 -> 0 | BZ40: =BT40+BW40 -> -10253000 | CA40: - | CB40: CO | CC40: OK！ | CD40: =IF($E40="","",IF($BW40>0,IF($CA40="-","BA列に売掛金の対象月を入力して下さい！","OK！"),"OK！")) -> OK！ | CE40: =F40 -> J1 | CF40: =G40 -> KG | CG40: =VLOOKUP(K40,資金源,2,FALSE) -> JICA調査
A41: =F41 -> J1 | B41: =G41 -> KG | C41: =K41 -> パキスタン政府 | D41: =CA41 -> 201303-201308 | E41: JA11G1010P-JPY-CPK0000000 | F41: J1 | G41: KG | H41: =IF($E41="","",LEFT(E41,10)) -> JA11G1010P | I41: パキスタン国ムンダ水力詳細設計 | J41: パキスタン政府 | K41: パキスタン政府 | L41: JPY | M41: 0 | N41: 0 | O41: 0 | P41: 0 | Q41: 0 | R41: 0 | S41: 0 | T41: 0 | U41: 0 | V41: 0 | W41: 0 | X41: 0 | Y41: 2377654 | Z41: 0 | AA41: 2377654 | AB41: 0 | AC41: 0 | AD41: 0 | AE41: 391200 | AF41: 0 | AG41: 391200 | AH41: =+M41+P41+S41+V41+Y41+AB41+AE41 -> 2768854 | AI41: =+N41+Q41+T41+W41+Z41+AC41+AF41 -> 0 | AJ41: =+O41+R41+U41+X41+AA41+AD41+AG41 -> 2768854 | AK41: 0 | AL41: 0 | AM41: 0 | AN41: =AH41+AK41 -> 2768854 | AO41: =AI41+AL41 -> 0 | AP41: =AJ41+AM41 -> 2768854 | AQ41: 0 | AR41: 0 | AS41: 0 | AT41: =AN41+AQ41 -> 2768854 | AU41: =AO41+AR41 -> 0 | AV41: =AP41+AS41 -> 2768854 | AW41: =AZ41-AQ41 -> 0 | AX41: =BA41-AR41 -> 0 | AY41: =BB41-AS41 -> 0 | AZ41: 0 | BA41: 0 | BB41: 0 | BC41: =AN41+AZ41 -> 2768854 | BD41: =AO41+BA41 -> 0 | BE41: =AP41+BB41 -> 2768854 | BF41: 0 | BG41: 0 | BH41: 0 | BI41: =BC41+BF41 -> 2768854 | BJ41: =BD41+BG41 -> 0 | BK41: =BE41+BH41 -> 2768854 | BL41: =BO41-BF41 -> 0 | BM41: =BP41-BG41 -> 0 | BN41: =BQ41-BH41 -> 0 | BO41: 0 | BP41: 0 | BQ41: 0 | BR41: =BC41+BO41 -> 2768854 | BS41: =BD41+BP41 -> 0 | BT41: =BE41+BQ41 -> 2768854 | BU41: -1041868 | BV41: 0 | BW41: -1041868 | BX41: =BR41+BU41 -> 1726986 | BY41: =BS41+BV41 -> 0 | BZ41: =BT41+BW41 -> 1726986 | CA41: 201303-201308 | CB41: PK | CC41: OK！ | CD41: =IF($E41="","",IF($BW41>0,IF($CA41="-","BA列に売掛金の対象月を入力して下さい！","OK！"),"OK！")) -> OK！ | CE41: =F41 -> J1 | CF41: =G41 -> KG | CG41: =VLOOKUP(K41,資金源,2,FALSE) -> ﾊﾟｷｽﾀﾝ政府
A42: =F42 -> J1 | B42: =G42 -> KG | C42: =K42 -> 世界銀行 | D42: =CA42 -> 201506-201605 | E42: JA15G1017P-USD-C080000000 | F42: J1 | G42: KG | H42: =IF($E42="","",LEFT(E42,10)) -> JA15G1017P | I42: 道路防災対策ハンドブック作成業務(全世界 | J42: 世界銀行 | K42: 世界銀行 | L42: USD | M42: 0 | N42: 0 | O42: 0 | P42: 0 | Q42: 0 | R42: 0 | S42: 0 | T42: 0 | U42: 0 | V42: 0 | W42: 0 | X42: 0 | Y42: 0 | Z42: 0 | AA42: 0 | AB42: 0 | AC42: 0 | AD42: 0 | AE42: 0 | AF42: 0 | AG42: 0 | AH42: =+M42+P42+S42+V42+Y42+AB42+AE42 -> 0 | AI42: =+N42+Q42+T42+W42+Z42+AC42+AF42 -> 0 | AJ42: =+O42+R42+U42+X42+AA42+AD42+AG42 -> 0 | AK42: 0 | AL42: 0 | AM42: 0 | AN42: =AH42+AK42 -> 0 | AO42: =AI42+AL42 -> 0 | AP42: =AJ42+AM42 -> 0 | AQ42: 0 | AR42: 0 | AS42: 0 | AT42: =AN42+AQ42 -> 0 | AU42: =AO42+AR42 -> 0 | AV42: =AP42+AS42 -> 0 | AW42: =AZ42-AQ42 -> 0 | AX42: =BA42-AR42 -> 33260 | AY42: =BB42-AS42 -> 3707326 | AZ42: 0 | BA42: 33260 | BB42: 3707326 | BC42: =AN42+AZ42 -> 0 | BD42: =AO42+BA42 -> 33260 | BE42: =AP42+BB42 -> 3707326 | BF42: 0 | BG42: 0 | BH42: 0 | BI42: =BC42+BF42 -> 0 | BJ42: =BD42+BG42 -> 33260 | BK42: =BE42+BH42 -> 3707326 | BL42: =BO42-BF42 -> 0 | BM42: =BP42-BG42 -> 0 | BN42: =BQ42-BH42 -> 0 | BO42: 0 | BP42: 0 | BQ42: 0 | BR42: =BC42+BO42 -> 0 | BS42: =BD42+BP42 -> 33260 | BT42: =BE42+BQ42 -> 3707326 | BU42: 0 | BV42: 0 | BW42: 0 | BX42: =BR42+BU42 -> 0 | BY42: =BS42+BV42 -> 33260 | BZ42: =BT42+BW42 -> 3707326 | CA42: 201506-201605 | CC42: OK！ | CD42: =IF($E42="","",IF($BW42>0,IF($CA42="-","BA列に売掛金の対象月を入力して下さい！","OK！"),"OK！")) -> OK！ | CE42: =F42 -> J1 | CF42: =G42 -> KG | CG42: =VLOOKUP(K42,資金源,2,FALSE) -> 世界銀行
A43: =F43 -> J1 | B43: =G43 -> KH | C43: =K43 -> (独)国際協力機構 円借款 | D43: =CA43 -> 201406-201407 | E43: JA07H1010P-INR-CIN0000000 | F43: J1 | G43: KH | H43: =IF($E43="","",LEFT(E43,10)) -> JA07H1010P | I43: インド国アンドラプラデシュ州灌漑・農家生 | J43: インド政府 | K43: (独)国際協力機構 円借款 | L43: INR | M43: 0 | N43: 0 | O43: 0 | P43: 0 | Q43: 0 | R43: 0 | S43: 0 | T43: 0 | U43: 0 | V43: 0 | W43: 0 | X43: 0 | Y43: 0 | Z43: 0 | AA43: 0 | AB43: 0 | AC43: 0 | AD43: 0 | AE43: 0 | AF43: 498173 | AG43: 857186 | AH43: =+M43+P43+S43+V43+Y43+AB43+AE43 -> 0 | AI43: =+N43+Q43+T43+W43+Z43+AC43+AF43 -> 498173 | AJ43: =+O43+R43+U43+X43+AA43+AD43+AG43 -> 857186 | AK43: 0 | AL43: 208208 | AM43: 351286 | AN43: =AH43+AK43 -> 0 | AO43: =AI43+AL43 -> 706381 | AP43: =AJ43+AM43 -> 1208472 | AQ43: 0 | AR43: 0 | AS43: 0 | AT43: =AN43+AQ43 -> 0 | AU43: =AO43+AR43 -> 706381 | AV43: =AP43+AS43 -> 1208472 | AW43: =AZ43-AQ43 -> 0 | AX43: =BA43-AR43 -> 0 | AY43: =BB43-AS43 -> 0 | AZ43: 0 | BA43: 0 | BB43: 0 | BC43: =AN43+AZ43 -> 0 | BD43: =AO43+BA43 -> 706381 | BE43: =AP43+BB43 -> 1208472 | BF43: 0 | BG43: 0 | BH43: 0 | BI43: =BC43+BF43 -> 0 | BJ43: =BD43+BG43 -> 706381 | BK43: =BE43+BH43 -> 1208472 | BL43: =BO43-BF43 -> 0 | BM43: =BP43-BG43 -> 0 | BN43: =BQ43-BH43 -> 0 | BO43: 0 | BP43: 0 | BQ43: 0 | BR43: =BC43+BO43 -> 0 | BS43: =BD43+BP43 -> 706381 | BT43: =BE43+BQ43 -> 1208472 | BU43: 0 | BV43: 0 | BW43: 0 | BX43: =BR43+BU43 -> 0 | BY43: =BS43+BV43 -> 706381 | BZ43: =BT43+BW43 -> 1208472 | CA43: 201406-201407 | CB43: IN | CC43: OK！ | CD43: =IF($E43="","",IF($BW43>0,IF($CA43="-","BA列に売掛金の対象月を入力して下さい！","OK！"),"OK！")) -> OK！ | CE43: =F43 -> J1 | CF43: =G43 -> KH | CG43: =VLOOKUP(K43,資金源,2,FALSE) -> JICA円借款
A44: =F44 -> J1 | B44: =G44 -> KH | C44: =K44 -> (独)国際協力機構 円借款 | D44: =CA44 -> 201603-201606 | E44: JA08H1025P-IDR-CID0000000 | F44: J1 | G44: KH | H44: =IF($E44="","",LEFT(E44,10)) -> JA08H1025P | I44: インドネシア国参加型灌漑施設改修計画設計 | J44: インドネシア政府 | K44: (独)国際協力機構 円借款 | L44: IDR | M44: 0 | N44: 0 | O44: 0 | P44: 0 | Q44: 0 | R44: 0 | S44: 0 | T44: 0 | U44: 0 | V44: 0 | W44: 0 | X44: 0 | Y44: 0 | Z44: 0 | AA44: 0 | AB44: 0 | AC44: 0 | AD44: 0 | AE44: 0 | AF44: 0 | AG44: 0 | AH44: =+M44+P44+S44+V44+Y44+AB44+AE44 -> 0 | AI44: =+N44+Q44+T44+W44+Z44+AC44+AF44 -> 0 | AJ44: =+O44+R44+U44+X44+AA44+AD44+AG44 -> 0 | AK44: 0 | AL44: 0 | AM44: 0 | AN44: =AH44+AK44 -> 0 | AO44: =AI44+AL44 -> 0 | AP44: =AJ44+AM44 -> 0 | AQ44: 0 | AR44: 0 | AS44: 0 | AT44: =AN44+AQ44 -> 0 | AU44: =AO44+AR44 -> 0 | AV44: =AP44+AS44 -> 0 | AW44: =AZ44-AQ44 -> 0 | AX44: =BA44-AR44 -> 2922590430 | AY44: =BB44-AS44 -> 24552859 | AZ44: 0 | BA44: 2922590430 | BB44: 24552859 | BC44: =AN44+AZ44 -> 0 | BD44: =AO44+BA44 -> 2922590430 | BE44: =AP44+BB44 -> 24552859 | BF44: 0 | BG44: 0 | BH44: 0 | BI44: =BC44+BF44 -> 0 | BJ44: =BD44+BG44 -> 2922590430 | BK44: =BE44+BH44 -> 24552859 | BL44: =BO44-BF44 -> 0 | BM44: =BP44-BG44 -> 0 | BN44: =BQ44-BH44 -> 0 | BO44: 0 | BP44: 0 | BQ44: 0 | BR44: =BC44+BO44 -> 0 | BS44: =BD44+BP44 -> 2922590430 | BT44: =BE44+BQ44 -> 24552859 | BU44: 0 | BV44: 0 | BW44: 0 | BX44: =BR44+BU44 -> 0 | BY44: =BS44+BV44 -> 2922590430 | BZ44: =BT44+BW44 -> 24552859 | CA44: 201603-201606 | CB44: ID | CC44: OK！ | CD44: =IF($E44="","",IF($BW44>0,IF($CA44="-","BA列に売掛金の対象月を入力して下さい！","OK！"),"OK！")) -> OK！ | CE44: =F44 -> J1 | CF44: =G44 -> KH | CG44: =VLOOKUP(K44,資金源,2,FALSE) -> JICA円借款
A45: =F45 -> J1 | B45: =G45 -> KH | C45: =K45 -> (独)国際協力機構 円借款 | D45: =CA45 -> 201603-201606 | E45: JA08H1025P-JPY-CID0000000 | F45: J1 | G45: KH | H45: =IF($E45="","",LEFT(E45,10)) -> JA08H1025P | I45: インドネシア国参加型灌漑施設改修計画設計 | J45: インドネシア政府 | K45: (独)国際協力機構 円借款 | L45: JPY | M45: 0 | N45: 0 | O45: 0 | P45: 0 | Q45: 0 | R45: 0 | S45: 0 | T45: 0 | U45: 0 | V45: 0 | W45: 0 | X45: 0 | Y45: 0 | Z45: 0 | AA45: 0 | AB45: 0 | AC45: 0 | AD45: 0 | AE45: 0 | AF45: 0 | AG45: 0 | AH45: =+M45+P45+S45+V45+Y45+AB45+AE45 -> 0 | AI45: =+N45+Q45+T45+W45+Z45+AC45+AF45 -> 0 | AJ45: =+O45+R45+U45+X45+AA45+AD45+AG45 -> 0 | AK45: 0 | AL45: 0 | AM45: 0 | AN45: =AH45+AK45 -> 0 | AO45: =AI45+AL45 -> 0 | AP45: =AJ45+AM45 -> 0 | AQ45: 0 | AR45: 0 | AS45: 0 | AT45: =AN45+AQ45 -> 0 | AU45: =AO45+AR45 -> 0 | AV45: =AP45+AS45 -> 0 | AW45: =AZ45-AQ45 -> 57372806 | AX45: =BA45-AR45 -> 0 | AY45: =BB45-AS45 -> 57372806 | AZ45: 57372806 | BA45: 0 | BB45: 57372806 | BC45: =AN45+AZ45 -> 57372806 | BD45: =AO45+BA45 -> 0 | BE45: =AP45+BB45 -> 57372806 | BF45: 0 | BG45: 0 | BH45: 0 | BI45: =BC45+BF45 -> 57372806 | BJ45: =BD45+BG45 -> 0 | BK45: =BE45+BH45 -> 57372806 | BL45: =BO45-BF45 -> 0 | BM45: =BP45-BG45 -> 0 | BN45: =BQ45-BH45 -> 0 | BO45: 0 | BP45: 0 | BQ45: 0 | BR45: =BC45+BO45 -> 57372806 | BS45: =BD45+BP45 -> 0 | BT45: =BE45+BQ45 -> 57372806 | BU45: -1 | BV45: 0 | BW45: -1 | BX45: =BR45+BU45 -> 57372805 | BY45: =BS45+BV45 -> 0 | BZ45: =BT45+BW45 -> 57372805 | CA45: 201603-201606 | CB45: ID | CC45: OK！ | CD45: =IF($E45="","",IF($BW45>0,IF($CA45="-","BA列に売掛金の対象月を入力して下さい！","OK！"),"OK！")) -> OK！ | CE45: =F45 -> J1 | CF45: =G45 -> KH | CG45: =VLOOKUP(K45,資金源,2,FALSE) -> JICA円借款
A46: =F46 -> J1 | B46: =G46 -> KH | C46: =K46 -> (独)国際協力機構 円借款 | D46: =CA46 -> 201604-201606 | E46: JA10H1015P-JPY-CKE0000000 | F46: J1 | G46: KH | H46: =IF($E46="","",LEFT(E46,10)) -> JA10H1015P | I46: ケニア国ムエア灌漑開発事業設計・監督 | J46: ケニア政府 | K46: (独)国際協力機構 円借款 | L46: JPY | M46: 0 | N46: 0 | O46: 0 | P46: 0 | Q46: 0 | R46: 0 | S46: 0 | T46: 0 | U46: 0 | V46: 0 | W46: 0 | X46: 0 | Y46: 0 | Z46: 0 | AA46: 0 | AB46: 0 | AC46: 0 | AD46: 0 | AE46: 0 | AF46: 0 | AG46: 0 | AH46: =+M46+P46+S46+V46+Y46+AB46+AE46 -> 0 | AI46: =+N46+Q46+T46+W46+Z46+AC46+AF46 -> 0 | AJ46: =+O46+R46+U46+X46+AA46+AD46+AG46 -> 0 | AK46: 0 | AL46: 0 | AM46: 0 | AN46: =AH46+AK46 -> 0 | AO46: =AI46+AL46 -> 0 | AP46: =AJ46+AM46 -> 0 | AQ46: 0 | AR46: 0 | AS46: 0 | AT46: =AN46+AQ46 -> 0 | AU46: =AO46+AR46 -> 0 | AV46: =AP46+AS46 -> 0 | AW46: =AZ46-AQ46 -> 7405927 | AX46: =BA46-AR46 -> 0 | AY46: =BB46-AS46 -> 7405927 | AZ46: 7405927 | BA46: 0 | BB46: 7405927 | BC46: =AN46+AZ46 -> 7405927 | BD46: =AO46+BA46 -> 0 | BE46: =AP46+BB46 -> 7405927 | BF46: 0 | BG46: 0 | BH46: 0 | BI46: =BC46+BF46 -> 7405927 | BJ46: =BD46+BG46 -> 0 | BK46: =BE46+BH46 -> 7405927 | BL46: =BO46-BF46 -> 0 | BM46: =BP46-BG46 -> 0 | BN46: =BQ46-BH46 -> 0 | BO46: 0 | BP46: 0 | BQ46: 0 | BR46: =BC46+BO46 -> 7405927 | BS46: =BD46+BP46 -> 0 | BT46: =BE46+BQ46 -> 7405927 | BU46: -71393081 | BV46: 0 | BW46: -71393081 | BX46: =BR46+BU46 -> -63987154 | BY46: =BS46+BV46 -> 0 | BZ46: =BT46+BW46 -> -63987154 | CA46: 201604-201606 | CB46: KE | CC46: OK！ | CD46: =IF($E46="","",IF($BW46>0,IF($CA46="-","BA列に売掛金の対象月を入力して下さい！","OK！"),"OK！")) -> OK！ | CE46: =F46 -> J1 | CF46: =G46 -> KH | CG46: =VLOOKUP(K46,資金源,2,FALSE) -> JICA円借款
A47: =F47 -> J1 | B47: =G47 -> KH | C47: =K47 -> (独)国際協力機構 円借款 | D47: =CA47 -> 201604-201606 | E47: JA10H1015P-KES-CKE0000000 | F47: J1 | G47: KH | H47: =IF($E47="","",LEFT(E47,10)) -> JA10H1015P | I47: ケニア国ムエア灌漑開発事業設計・監督 | J47: ケニア政府 | K47: (独)国際協力機構 円借款 | L47: KES | M47: 0 | N47: 0 | O47: 0 | P47: 0 | Q47: 0 | R47: 0 | S47: 0 | T47: 0 | U47: 0 | V47: 0 | W47: 0 | X47: 0 | Y47: 0 | Z47: 0 | AA47: 0 | AB47: 0 | AC47: 0 | AD47: 0 | AE47: 0 | AF47: 0 | AG47: 0 | AH47: =+M47+P47+S47+V47+Y47+AB47+AE47 -> 0 | AI47: =+N47+Q47+T47+W47+Z47+AC47+AF47 -> 0 | AJ47: =+O47+R47+U47+X47+AA47+AD47+AG47 -> 0 | AK47: 0 | AL47: 0 | AM47: 0 | AN47: =AH47+AK47 -> 0 | AO47: =AI47+AL47 -> 0 | AP47: =AJ47+AM47 -> 0 | AQ47: 0 | AR47: 0 | AS47: 0 | AT47: =AN47+AQ47 -> 0 | AU47: =AO47+AR47 -> 0 | AV47: =AP47+AS47 -> 0 | AW47: =AZ47-AQ47 -> 0 | AX47: =BA47-AR47 -> 10202733 | AY47: =BB47-AS47 -> 11266859 | AZ47: 0 | BA47: 10202733 | BB47: 11266859 | BC47: =AN47+AZ47 -> 0 | BD47: =AO47+BA47 -> 10202733 | BE47: =AP47+BB47 -> 11266859 | BF47: 0 | BG47: 0 | BH47: 0 | BI47: =BC47+BF47 -> 0 | BJ47: =BD47+BG47 -> 10202733 | BK47: =BE47+BH47 -> 11266859 | BL47: =BO47-BF47 -> 0 | BM47: =BP47-BG47 -> 0 | BN47: =BQ47-BH47 -> 0 | BO47: 0 | BP47: 0 | BQ47: 0 | BR47: =BC47+BO47 -> 0 | BS47: =BD47+BP47 -> 10202733 | BT47: =BE47+BQ47 -> 11266859 | BU47: 0 | BV47: -31736350 | BW47: -32277772 | BX47: =BR47+BU47 -> 0 | BY47: =BS47+BV47 -> -21533617 | BZ47: =BT47+BW47 -> -21010913 | CA47: 201604-201606 | CB47: KE | CC47: OK！ | CD47: =IF($E47="","",IF($BW47>0,IF($CA47="-","BA列に売掛金の対象月を入力して下さい！","OK！"),"OK！")) -> OK！ | CE47: =F47 -> J1 | CF47: =G47 -> KH | CG47: =VLOOKUP(K47,資金源,2,FALSE) -> JICA円借款
A48: =F48 -> J1 | B48: =G48 -> KH | C48: =K48 -> (独)国際協力機構 円借款 | D48: =CA48 -> 201602-201606 | E48: JA11H1022P-JPY-CKH0000000 | F48: J1 | G48: KH | H48: =IF($E48="","",LEFT(E48,10)) -> JA11H1022P | I48: カンボジア国トンレサップ西部流域灌漑施設 | J48: カンボジア政府 | K48: (独)国際協力機構 円借款 | L48: JPY | M48: 0 | N48: 0 | O48: 0 | P48: 0 | Q48: 0 | R48: 0 | S48: 0 | T48: 0 | U48: 0 | V48: 0 | W48: 0 | X48: 0 | Y48: 0 | Z48: 0 | AA48: 0 | AB48: 0 | AC48: 0 | AD48: 0 | AE48: 0 | AF48: 0 | AG48: 0 | AH48: =+M48+P48+S48+V48+Y48+AB48+AE48 -> 0 | AI48: =+N48+Q48+T48+W48+Z48+AC48+AF48 -> 0 | AJ48: =+O48+R48+U48+X48+AA48+AD48+AG48 -> 0 | AK48: 0 | AL48: 0 | AM48: 0 | AN48: =AH48+AK48 -> 0 | AO48: =AI48+AL48 -> 0 | AP48: =AJ48+AM48 -> 0 | AQ48: 0 | AR48: 0 | AS48: 0 | AT48: =AN48+AQ48 -> 0 | AU48: =AO48+AR48 -> 0 | AV48: =AP48+AS48 -> 0 | AW48: =AZ48-AQ48 -> 14402167 | AX48: =BA48-AR48 -> 0 | AY48: =BB48-AS48 -> 14402167 | AZ48: 14402167 | BA48: 0 | BB48: 14402167 | BC48: =AN48+AZ48 -> 14402167 | BD48: =AO48+BA48 -> 0 | BE48: =AP48+BB48 -> 14402167 | BF48: 0 | BG48: 0 | BH48: 0 | BI48: =BC48+BF48 -> 14402167 | BJ48: =BD48+BG48 -> 0 | BK48: =BE48+BH48 -> 14402167 | BL48: =BO48-BF48 -> 0 | BM48: =BP48-BG48 -> 0 | BN48: =BQ48-BH48 -> 0 | BO48: 0 | BP48: 0 | BQ48: 0 | BR48: =BC48+BO48 -> 14402167 | BS48: =BD48+BP48 -> 0 | BT48: =BE48+BQ48 -> 14402167 | BU48: 0 | BV48: 0 | BW48: 0 | BX48: =BR48+BU48 -> 14402167 | BY48: =BS48+BV48 -> 0 | BZ48: =BT48+BW48 -> 14402167 | CA48: 201602-201606 | CB48: KH | CC48: OK！ | CD48: =IF($E48="","",IF($BW48>0,IF($CA48="-","BA列に売掛金の対象月を入力して下さい！","OK！"),"OK！")) -> OK！ | CE48: =F48 -> J1 | CF48: =G48 -> KH | CG48: =VLOOKUP(K48,資金源,2,FALSE) -> JICA円借款
A49: =F49 -> J1 | B49: =G49 -> KH | C49: =K49 -> (独)国際協力機構 円借款 | D49: =CA49 -> 201602-201606 | E49: JA11H1022P-USD-CKH0000000 | F49: J1 | G49: KH | H49: =IF($E49="","",LEFT(E49,10)) -> JA11H1022P | I49: カンボジア国トンレサップ西部流域灌漑施設 | J49: カンボジア政府 | K49: (独)国際協力機構 円借款 | L49: USD | M49: 0 | N49: 0 | O49: 0 | P49: 0 | Q49: 0 | R49: 0 | S49: 0 | T49: 0 | U49: 0 | V49: 0 | W49: 0 | X49: 0 | Y49: 0 | Z49: 0 | AA49: 0 | AB49: 0 | AC49: 0 | AD49: 0 | AE49: 0 | AF49: 0 | AG49: 0 | AH49: =+M49+P49+S49+V49+Y49+AB49+AE49 -> 0 | AI49: =+N49+Q49+T49+W49+Z49+AC49+AF49 -> 0 | AJ49: =+O49+R49+U49+X49+AA49+AD49+AG49 -> 0 | AK49: 0 | AL49: 0 | AM49: 0 | AN49: =AH49+AK49 -> 0 | AO49: =AI49+AL49 -> 0 | AP49: =AJ49+AM49 -> 0 | AQ49: 0 | AR49: 0 | AS49: 0 | AT49: =AN49+AQ49 -> 0 | AU49: =AO49+AR49 -> 0 | AV49: =AP49+AS49 -> 0 | AW49: =AZ49-AQ49 -> 0 | AX49: =BA49-AR49 -> 40755 | AY49: =BB49-AS49 -> 4644120 | AZ49: 0 | BA49: 40755 | BB49: 4644120 | BC49: =AN49+AZ49 -> 0 | BD49: =AO49+BA49 -> 40755 | BE49: =AP49+BB49 -> 4644120 | BF49: 0 | BG49: 0 | BH49: 0 | BI49: =BC49+BF49 -> 0 | BJ49: =BD49+BG49 -> 40755 | BK49: =BE49+BH49 -> 4644120 | BL49: =BO49-BF49 -> 0 | BM49: =BP49-BG49 -> 0 | BN49: =BQ49-BH49 -> 0 | BO49: 0 | BP49: 0 | BQ49: 0 | BR49: =BC49+BO49 -> 0 | BS49: =BD49+BP49 -> 40755 | BT49: =BE49+BQ49 -> 4644120 | BU49: 0 | BV49: 0 | BW49: 0 | BX49: =BR49+BU49 -> 0 | BY49: =BS49+BV49 -> 40755 | BZ49: =BT49+BW49 -> 4644120 | CA49: 201602-201606 | CB49: KH | CC49: OK！ | CD49: =IF($E49="","",IF($BW49>0,IF($CA49="-","BA列に売掛金の対象月を入力して下さい！","OK！"),"OK！")) -> OK！ | CE49: =F49 -> J1 | CF49: =G49 -> KH | CG49: =VLOOKUP(K49,資金源,2,FALSE) -> JICA円借款
A50: =F50 -> J1 | B50: =G50 -> KH | C50: =K50 -> (独)国際協力機構 円借款 | D50: =CA50 -> 201605-201606 | E50: JA12H1011P-JPY-CPH0000000 | F50: J1 | G50: KH | H50: =IF($E50="","",LEFT(E50,10)) -> JA12H1011P | I50: フィリピン国灌漑セクター改修改善事業（N | J50: フィリピン政府 | K50: (独)国際協力機構 円借款 | L50: JPY | M50: 0 | N50: 0 | O50: 0 | P50: 0 | Q50: 0 | R50: 0 | S50: 0 | T50: 0 | U50: 0 | V50: 0 | W50: 0 | X50: 0 | Y50: 0 | Z50: 0 | AA50: 0 | AB50: 0 | AC50: 0 | AD50: 0 | AE50: 0 | AF50: 0 | AG50: 0 | AH50: =+M50+P50+S50+V50+Y50+AB50+AE50 -> 0 | AI50: =+N50+Q50+T50+W50+Z50+AC50+AF50 -> 0 | AJ50: =+O50+R50+U50+X50+AA50+AD50+AG50 -> 0 | AK50: 0 | AL50: 0 | AM50: 0 | AN50: =AH50+AK50 -> 0 | AO50: =AI50+AL50 -> 0 | AP50: =AJ50+AM50 -> 0 | AQ50: 0 | AR50: 0 | AS50: 0 | AT50: =AN50+AQ50 -> 0 | AU50: =AO50+AR50 -> 0 | AV50: =AP50+AS50 -> 0 | AW50: =AZ50-AQ50 -> 9020000 | AX50: =BA50-AR50 -> 0 | AY50: =BB50-AS50 -> 9020000 | AZ50: 9020000 | BA50: 0 | BB50: 9020000 | BC50: =AN50+AZ50 -> 9020000 | BD50: =AO50+BA50 -> 0 | BE50: =AP50+BB50 -> 9020000 | BF50: 0 | BG50: 0 | BH50: 0 | BI50: =BC50+BF50 -> 9020000 | BJ50: =BD50+BG50 -> 0 | BK50: =BE50+BH50 -> 9020000 | BL50: =BO50-BF50 -> 0 | BM50: =BP50-BG50 -> 0 | BN50: =BQ50-BH50 -> 0 | BO50: 0 | BP50: 0 | BQ50: 0 | BR50: =BC50+BO50 -> 9020000 | BS50: =BD50+BP50 -> 0 | BT50: =BE50+BQ50 -> 9020000 | BU50: -5689264 | BV50: 0 | BW50: -5689264 | BX50: =BR50+BU50 -> 3330736 | BY50: =BS50+BV50 -> 0 | BZ50: =BT50+BW50 -> 3330736 | CA50: 201605-201606 | CB50: PH | CC50: OK！ | CD50: =IF($E50="","",IF($BW50>0,IF($CA50="-","BA列に売掛金の対象月を入力して下さい！","OK！"),"OK！")) -> OK！ | CE50: =F50 -> J1 | CF50: =G50 -> KH | CG50: =VLOOKUP(K50,資金源,2,FALSE) -> JICA円借款
