Workbook
Name becoc: #REF!
Name becoc: #REF!
Name bemo: #REF!
Name bemo: #REF!
Name Caungang: '[1]Cau Vuot ngang'!$B$9:$AF$27
Name CHT: #REF!
Name CHT: #REF!
Name DGDAM: #REF!
Name DGDAM: #REF!
Name DT: #REF!
Name DT: #REF!
Name KL: #REF!
Name KL: #REF!
Name Rong: #REF!
Name Rong: #REF!
Name SLmo: #REF!
Name SLmo: #REF!
Name TONGHOP: #REF!
Name TONGHOP: #REF!
Name trcan: #REF!
Name trcan: #REF!
Name Trunuoc: #REF!
Name Trunuoc: #REF!

Sheet Cover
A1: Engineering Geological Survey Plan
S4: 1 | V4: Project Facility Plan | BP4: Page 2
S7: 2 | V7: Survey Packages and Demarcation among Sub-contractors | BP7: Page 3
S10: 3 | V10: Survey Cost
V13: 3.1 | Y13: Survey Cost by Sub-contractors | BP13: Page 4
V16: 3.2 | Y16: Survey Cost by Survey Packages | BP16: Page 5
S19: 4 | V19: Survey Plan
V22: 4.1 | Y22: Survey Plan | BP22: Page 7
V25: 4.2 | Y25: Detailed Survey Plan
Y28: 4.2.1 | AC28: Detailed Survey Plan (Main Line, Normal Embankment and Excavation) | BP28: Page 19
Y31: 4.2.2 | AC31: Detailed Survey Plan (Main Line, Tunnel) | BP31: Page 22
Y34: 4.2.3 | AC34: Detailed Survey Plan (Bridge) | BP34: Page 23
Y37: 4.2.4 | AC37: Detailed Survey Plan (Interchange) | BP37: Page 26
Y40: 4.2.5 | AC40: Detailed Survey Plan (Building) | BP40: Page 27
Y43: 4.2.6 | AC43: Detailed Survey Plan (Main Line, Softground) | BP43: Page 28
Y46: 4.2.7 | AC46: Detailed Survey Plan (Main Line, Deep Excavation) | BP46: Page 30
Y49: 4.2.8 | AC49: Detailed Survey Plan (Main Line, High-embankment) | BP49: Page 32
Y52: 4.2.9 | AC52: Detailed Survey Plan (Existing Road) | BP52: Page 33

Sheet 1.Facility Plan

Sheet 2.PKG
A1: Jurisdiction | C1: Road | E1: Construction Contract Package (Civil Works) | K1: Survey Package | T1: Demarcation among Sub-contractors
C2: Classification | E2: No. | F2: Section | I2: Length | K2: No. | M2: Section | P2: Equation | R2: Length | T2: TEDI | V2: TEDIS | X2: TECCO533 | Z2: VECC | AB2: EGS | AD2: Tien Khai | AF2: INPEL | AH2: BMT | AJ2: Thanh Cong | AL2: Tan Phat | AN2: ATH | AP2: ICTC
B3: Danang | D3: Expressway | E3: PKG01 | F3: KM000+000 | G3: - | H3: 8000 | I3: =H3-P3-P4 -> 8000 | K3: 1 | L3: ='4.1Plan'!D6 -> ML01-1 | M3: ='4.1Plan'!V6 -> -800 | N3: - | O3: ='4.1Plan'!X6 -> 4000 | P3: ='4.1Plan'!Z6 -> 0 | R3: ='4.1Plan'!AB6 -> 4800
K4: =K3+1 -> 2 | L4: ='4.1Plan'!D25 -> ML01-2 | M4: ='4.1Plan'!V25 -> 4000 | N4: - | O4: ='4.1Plan'!X25 -> 8000 | P4: ='4.1Plan'!Z25 -> 0 | R4: ='4.1Plan'!AB25 -> 4000
B5: Quang Nam | E5: PKG02 | F5: 8000 | G5: - | H5: 17000 | I5: =(H5-F5)-P5-P6 -> 9000 | K5: =K4+1 -> 3 | L5: ='4.1Plan'!D37 -> ML02-1 | M5: ='4.1Plan'!V37 -> 8000 | N5: - | O5: ='4.1Plan'!X37 -> 13000 | P5: ='4.1Plan'!Z37 -> 0 | R5: ='4.1Plan'!AB37 -> 5000
K6: =K5+1 -> 4 | L6: ='4.1Plan'!D54 -> ML02-2 | M6: ='4.1Plan'!V54 -> 13000 | N6: - | O6: ='4.1Plan'!X54 -> 17000 | P6: ='4.1Plan'!Z54 -> 0 | R6: ='4.1Plan'!AB54 -> 4000
E7: PKG03 | F7: 17000 | G7: - | H7: 22000 | I7: =(H7-F7)-P7 -> 5059.78 | K7: =K6+1 -> 5 | L7: ='4.1Plan'!D70 -> ML03-1 | M7: ='4.1Plan'!V70 -> 17000 | N7: - | O7: ='4.1Plan'!X70 -> 22000 | P7: ='4.1Plan'!Z70 -> -59.78 | R7: ='4.1Plan'!AB70 -> 5059.78
E8: PKG04 | F8: 22000 | G8: - | H8: 32000 | I8: =(H8-F8)-P8-P9 -> 10000 | K8: =K7+1 -> 6 | L8: ='4.1Plan'!D92 -> ML04-1 | M8: ='4.1Plan'!V92 -> 22000 | N8: - | O8: ='4.1Plan'!X92 -> 26800 | P8: ='4.1Plan'!Z92 -> 0 | R8: ='4.1Plan'!AB92 -> 4800
K9: =K8+1 -> 7 | L9: ='4.1Plan'!D110 -> ML04-2 | M9: ='4.1Plan'!V110 -> 26800 | N9: - | O9: ='4.1Plan'!X110 -> 32000 | P9: ='4.1Plan'!Z110 -> 0 | R9: ='4.1Plan'!AB110 -> 5200
E10: PKG05 | F10: 32000 | G10: - | H10: 42000 | I10: =(H10-F10)-P10-P11 -> 10000 | K10: =K9+1 -> 8 | L10: ='4.1Plan'!D124 -> ML05-1 | M10: ='4.1Plan'!V124 -> 32000 | N10: - | O10: ='4.1Plan'!X124 -> 35000 | P10: ='4.1Plan'!Z124 -> 0 | R10: ='4.1Plan'!AB124 -> 3000
K11: =K10+1 -> 9 | L11: ='4.1Plan'!D134 -> ML05-2 | M11: ='4.1Plan'!V134 -> 35000 | N11: - | O11: ='4.1Plan'!X134 -> 42000 | P11: ='4.1Plan'!Z134 -> 0 | R11: ='4.1Plan'!AB134 -> 7000
E12: PKG06 | F12: 42000 | G12: - | H12: 52000 | I12: =(H12-F12)-P12-P13 -> 10000 | K12: =K11+1 -> 10 | L12: ='4.1Plan'!D156 -> ML06-1 | M12: ='4.1Plan'!V156 -> 42000 | N12: - | O12: ='4.1Plan'!X156 -> 46600 | P12: ='4.1Plan'!Z156 -> 0 | R12: ='4.1Plan'!AB156 -> 4600
K13: =K12+1 -> 11 | L13: ='4.1Plan'!D176 -> ML06-2 | M13: ='4.1Plan'!V176 -> 46600 | N13: - | O13: ='4.1Plan'!X176 -> 52000 | P13: ='4.1Plan'!Z176 -> 0 | R13: ='4.1Plan'!AB176 -> 5400
E14: PKG07 | F14: 52000 | G14: - | H14: 65000 | I14: =(H14-F14)-P14-P15-P16 -> 13000 | K14: =K13+1 -> 12 | L14: ='4.1Plan'!D188 -> ML07-1 | M14: ='4.1Plan'!V188 -> 52000 | N14: - | O14: ='4.1Plan'!X188 -> 56000 | P14: ='4.1Plan'!Z188 -> 0 | R14: ='4.1Plan'!AB188 -> 4000
K15: =K14+1 -> 13 | L15: ='4.1Plan'!D198 -> ML07-2 | M15: ='4.1Plan'!V198 -> 56000 | N15: - | O15: ='4.1Plan'!X198 -> 60000 | P15: ='4.1Plan'!Z198 -> 0 | R15: ='4.1Plan'!AB198 -> 4000
K16: =K15+1 -> 14 | L16: ='4.1Plan'!D214 -> ML07-3 | M16: ='4.1Plan'!V214 -> 60000 | N16: - | O16: ='4.1Plan'!X214 -> 65000 | P16: ='4.1Plan'!Z214 -> 0 | R16: ='4.1Plan'!AB214 -> 5000
E17: PKGA1 | F17: 65000 | G17: - | H17: 81500 | I17: =(H17-F17)-P17-P18-P19 -> 16557.32 | K17: =K16+1 -> 15 | L17: ='4.1Plan'!D223 -> MLA1-1 | M17: ='4.1Plan'!V223 -> 65000 | N17: - | O17: ='4.1Plan'!X223 -> 70000 | P17: ='4.1Plan'!Z223 -> 0 | R17: ='4.1Plan'!AB223 -> 5000
K18: =K17+1 -> 16 | L18: ='4.1Plan'!D233 -> MLA1-2 | M18: ='4.1Plan'!V233 -> 70000 | N18: - | O18: ='4.1Plan'!X233 -> 76000 | P18: ='4.1Plan'!Z233 -> -57.32 | R18: ='4.1Plan'!AB233 -> 6057.32
K19: =K18+1 -> 17 | L19: ='4.1Plan'!D243 -> MLA1-3 | M19: ='4.1Plan'!V243 -> 76000 | N19: - | O19: ='4.1Plan'!X243 -> 81500 | P19: ='4.1Plan'!Z243 -> 0 | R19: ='4.1Plan'!AB243 -> 5500
E20: PKGA2 | F20: 81500 | G20: - | H20: 100000 | I20: =(H20-F20)-P20-P21-P22 -> 18200 | K20: =K19+1 -> 18 | L20: ='4.1Plan'!D253 -> MLA2-1 | M20: ='4.1Plan'!V253 -> 81500 | N20: - | O20: ='4.1Plan'!X253 -> 87000 | P20: ='4.1Plan'!Z253 -> 0 | R20: ='4.1Plan'!AB253 -> 5500
K21: =K20+1 -> 19 | L21: ='4.1Plan'!D267 -> MLA2-2 | M21: ='4.1Plan'!V267 -> 87000 | N21: - | O21: ='4.1Plan'!X267 -> 93000 | P21: ='4.1Plan'!Z267 -> 0 | R21: ='4.1Plan'!AB267 -> 6000
K22: =K21+1 -> 20 | L22: ='4.1Plan'!D283 -> MLA2-3 | M22: ='4.1Plan'!V283 -> 93000 | N22: - | O22: ='4.1Plan'!X283 -> 100000 | P22: ='4.1Plan'!Z283 -> 300 | R22: ='4.1Plan'!AB283 -> 6700
B23: Quang Ngai | E23: PKGA3 | F23: 100000 | G23: - | H23: 110000 | I23: =(H23-F23)-P23-P24 -> 10173.22 | K23: =K22+1 -> 21 | L23: ='4.1Plan'!D294 -> MLA3-1 | M23: ='4.1Plan'!V294 -> 100000 | N23: - | O23: ='4.1Plan'!X294 -> 105000 | P23: ='4.1Plan'!Z294 -> -173.22 | R23: ='4.1Plan'!AB294 -> 5173.22
K24: =K23+1 -> 22 | L24: ='4.1Plan'!D307 -> MLA3-2 | M24: ='4.1Plan'!V307 -> 105000 | N24: - | O24: ='4.1Plan'!X307 -> 110000 | P24: ='4.1Plan'!Z307 -> 0 | R24: ='4.1Plan'!AB307 -> 5000
E25: PKGA4 | F25: 110000 | G25: - | H25: 125000 | I25: =(H25-F25)-P25-P26-P27 -> 15000 | K25: =K24+1 -> 23 | L25: ='4.1Plan'!D321 -> MLA4-1 | M25: ='4.1Plan'!V321 -> 110000 | N25: - | O25: ='4.1Plan'!X321 -> 115000 | P25: ='4.1Plan'!Z321 -> 0 | R25: ='4.1Plan'!AB321 -> 5000
K26: =K25+1 -> 24 | L26: ='4.1Plan'!D337 -> MLA4-2 | M26: ='4.1Plan'!V337 -> 115000 | N26: - | O26: ='4.1Plan'!X337 -> 120000 | P26: ='4.1Plan'!Z337 -> 0 | R26: ='4.1Plan'!AB337 -> 5000
K27: =K26+1 -> 25 | L27: ='4.1Plan'!D353 -> MLA4-3 | M27: ='4.1Plan'!V353 -> 120000 | N27: - | O27: ='4.1Plan'!X353 -> 125000 | P27: ='4.1Plan'!Z353 -> 0 | R27: ='4.1Plan'!AB353 -> 5000
E28: PKGA5 | F28: 125000 | G28: - | H28: 139522 | I28: =(H28-F28)-P28-P29-P30 -> 14522 | K28: =K27+1 -> 26 | L28: ='4.1Plan'!D365 -> MLA5-1 | M28: ='4.1Plan'!V365 -> 125000 | N28: - | O28: ='4.1Plan'!X365 -> 131500 | P28: ='4.1Plan'!Z365 -> 0 | R28: ='4.1Plan'!AB365 -> 6500
D29: Linking Road | K29: =K28+1 -> 27 | L29: ='4.1Plan'!D379 -> MLA5-2 | M29: ='4.1Plan'!V379 -> 131500 | N29: - | O29: ='4.1Plan'!X379 -> 136000 | P29: ='4.1Plan'!Z379 -> 0 | R29: ='4.1Plan'!AB379 -> 4500
K30: =K29+1 -> 28 | L30: ='4.1Plan'!D387 -> MLA5-3 | M30: ='4.1Plan'!V387 -> 136000 | N30: - | O30: ='4.1Plan'!X387 -> 139522 | P30: ='4.1Plan'!Z387 -> 0 | R30: ='4.1Plan'!AB387 -> 3522
A31: Total | I31: =SUM(I3:I30) -> 139512.32 | R31: =SUM(T31:AP31) -> 0 | T31: =SUM(T3:T30) -> 0 | V31: =SUM(V3:V30) -> 0 | X31: =SUM(X3:X30) -> 0 | Z31: =SUM(Z3:Z30) -> 0 | AB31: =SUM(AB3:AB30) -> 0 | AD31: =SUM(AD3:AD30) -> 0 | AF31: =SUM(AF3:AF30) -> 0 | AH31: =SUM(AH3:AH30) -> 0 | AJ31: =SUM(AJ3:AJ30) -> 0 | AL31: =SUM(AL3:AL30) -> 0 | AN31: =SUM(AN3:AN30) -> 0 | AP31: =SUM(AP3:AP30) -> 0
R32: =SUM(T32:AQ32) -> #DIV/0! | T32: =T31/$R$31 -> #DIV/0! | V32: =V31/$R$31 -> #DIV/0! | X32: =X31/$R$31 -> #DIV/0! | Z32: =Z31/$R$31 -> #DIV/0! | AB32: =AB31/$R$31 -> #DIV/0! | AD32: =AD31/$R$31 -> #DIV/0! | AF32: =AF31/$R$31 -> #DIV/0! | AH32: =AH31/$R$31 -> #DIV/0! | AJ32: =AJ31/$R$31 -> #DIV/0! | AL32: =AL31/$R$31 -> #DIV/0! | AN32: =AN31/$R$31 -> #DIV/0! | AP32: =AP31/$R$31 -> #DIV/0!
A33: Geotechnical Survey for PKG8 (O&M Buildings) is included in each Survey Package above
BP52: Page 33

Sheet 3.1Cost by Sub-contractors
A1: No. | B1: Item | H1: Soil Class | K1: Unit | L1: Total | R1: By Sub-contractors
R2: TEDI | V2: TEDIS | Z2: TECCO533 | AD2: VECC | AH2: EGS | AL2: Tien Khai | AP2: INPEL | AT2: BMT | AX2: Thanh Cong | BB2: Tan Phat | BF2: ATH | BJ2: ICTC
L3: Unit Price | N3: Qty | P3: Amount | R3: Qty | T3: Amount | V3: Qty | X3: Amount | Z3: Qty | AB3: Amount | AD3: Qty | AF3: Amount | AH3: Qty | AJ3: Amount | AL3: Qty | AN3: Amount | AP3: Qty | AR3: Amount | AT3: Qty | AV3: Amount | AX3: Qty | AZ3: Amount | BB3: Qty | BD3: Amount | BF3: Qty | BH3: Amount | BJ3: Qty | BL3: Amount
L4: (USD) | P4: (USD) | T4: (USD) | X4: (USD) | AB4: (USD) | AF4: (USD) | AJ4: (USD) | AN4: (USD) | AR4: (USD) | AV4: (USD) | AZ4: (USD) | BD4: (USD) | BH4: (USD) | BL4: (USD)
A5: A | C5: Expressway | N5: ='3.2Cost by Packages'!N7+'3.2Cost by Packages'!R7+'3.2Cost by Packages'!V7+'3.2Cost by Packages'!Z7+'3.2Cost by Packages'!AD7+'3.2Cost by Packages'!AH7+'3.2Cost by Packages'!AL7+'3.2Cost by Packages'!AP7+'3.2Cost by Packages'!AT7+'3.2Cost by Packages'!AX7+'3.2Cost by Packages'!BB7+'3.2Cost by Packages'!BF7+'3.2Cost by Packages'!BJ7+'3.2Cost by Packages'!BN7+'3.2Cost by Packages'!BR7+'3.2Cost by Packages'!BV7+'3.2Cost by Packages'!BZ7+'3.2Cost by Packages'!CD7+'3.2Cost by Packages'!CH7+'3.2Cost by Packages'!CL7+'3.2Cost by Packages'!CP7+'3.2Cost by Packages'!CT7+'3.2Cost by Packages'!CX7+'3.2Cost by Packages'!DB7+'3.2Cost by Packages'!DF7+'3.2Cost by Packages'!DJ7+'3.2Cost by Packages'!DN7+'3.2Cost by Packages'!DR7 -> 0 | P5: ='3.2Cost by Packages'!P7+'3.2Cost by Packages'!T7+'3.2Cost by Packages'!X7+'3.2Cost by Packages'!AB7+'3.2Cost by Packages'!AF7+'3.2Cost by Packages'!AJ7+'3.2Cost by Packages'!AN7+'3.2Cost by Packages'!AR7+'3.2Cost by Packages'!AV7+'3.2Cost by Packages'!AZ7+'3.2Cost by Packages'!BD7+'3.2Cost by Packages'!BH7+'3.2Cost by Packages'!BL7+'3.2Cost by Packages'!BP7+'3.2Cost by Packages'!BT7+'3.2Cost by Packages'!BX7+'3.2Cost by Packages'!CB7+'3.2Cost by Packages'!CF7+'3.2Cost by Packages'!CJ7+'3.2Cost by Packages'!CN7+'3.2Cost by Packages'!CR7+'3.2Cost by Packages'!CV7+'3.2Cost by Packages'!CZ7+'3.2Cost by Packages'!DD7+'3.2Cost by Packages'!DH7+'3.2Cost by Packages'!DL7+'3.2Cost by Packages'!DP7+'3.2Cost by Packages'!DT7 -> 1728444.4
A6: 1 | C6: Main Line (ML, Normal Embankment and Excavation Sections (NEE)) | N6: ='3.2Cost by Packages'!N8+'3.2Cost by Packages'!R8+'3.2Cost by Packages'!V8+'3.2Cost by Packages'!Z8+'3.2Cost by Packages'!AD8+'3.2Cost by Packages'!AH8+'3.2Cost by Packages'!AL8+'3.2Cost by Packages'!AP8+'3.2Cost by Packages'!AT8+'3.2Cost by Packages'!AX8+'3.2Cost by Packages'!BB8+'3.2Cost by Packages'!BF8+'3.2Cost by Packages'!BJ8+'3.2Cost by Packages'!BN8+'3.2Cost by Packages'!BR8+'3.2Cost by Packages'!BV8+'3.2Cost by Packages'!BZ8+'3.2Cost by Packages'!CD8+'3.2Cost by Packages'!CH8+'3.2Cost by Packages'!CL8+'3.2Cost by Packages'!CP8+'3.2Cost by Packages'!CT8+'3.2Cost by Packages'!CX8+'3.2Cost by Packages'!DB8+'3.2Cost by Packages'!DF8+'3.2Cost by Packages'!DJ8+'3.2Cost by Packages'!DN8+'3.2Cost by Packages'!DR8 -> 0 | P6: ='3.2Cost by Packages'!P8+'3.2Cost by Packages'!T8+'3.2Cost by Packages'!X8+'3.2Cost by Packages'!AB8+'3.2Cost by Packages'!AF8+'3.2Cost by Packages'!AJ8+'3.2Cost by Packages'!AN8+'3.2Cost by Packages'!AR8+'3.2Cost by Packages'!AV8+'3.2Cost by Packages'!AZ8+'3.2Cost by Packages'!BD8+'3.2Cost by Packages'!BH8+'3.2Cost by Packages'!BL8+'3.2Cost by Packages'!BP8+'3.2Cost by Packages'!BT8+'3.2Cost by Packages'!BX8+'3.2Cost by Packages'!CB8+'3.2Cost by Packages'!CF8+'3.2Cost by Packages'!CJ8+'3.2Cost by Packages'!CN8+'3.2Cost by Packages'!CR8+'3.2Cost by Packages'!CV8+'3.2Cost by Packages'!CZ8+'3.2Cost by Packages'!DD8+'3.2Cost by Packages'!DH8+'3.2Cost by Packages'!DL8+'3.2Cost by Packages'!DP8+'3.2Cost by Packages'!DT8 -> 20616
A7: 1.1 | C7: Mechanical Boring | I7: I-III (100%) | K7: (l.m.) | L7: =ROUND(1180473/F89*(1-D90),2) -> 51.08 | N7: ='3.2Cost by Packages'!N9+'3.2Cost by Packages'!R9+'3.2Cost by Packages'!V9+'3.2Cost by Packages'!Z9+'3.2Cost by Packages'!AD9+'3.2Cost by Packages'!AH9+'3.2Cost by Packages'!AL9+'3.2Cost by Packages'!AP9+'3.2Cost by Packages'!AT9+'3.2Cost by Packages'!AX9+'3.2Cost by Packages'!BB9+'3.2Cost by Packages'!BF9+'3.2Cost by Packages'!BJ9+'3.2Cost by Packages'!BN9+'3.2Cost by Packages'!BR9+'3.2Cost by Packages'!BV9+'3.2Cost by Packages'!BZ9+'3.2Cost by Packages'!CD9+'3.2Cost by Packages'!CH9+'3.2Cost by Packages'!CL9+'3.2Cost by Packages'!CP9+'3.2Cost by Packages'!CT9+'3.2Cost by Packages'!CX9+'3.2Cost by Packages'!DB9+'3.2Cost by Packages'!DF9+'3.2Cost by Packages'!DJ9+'3.2Cost by Packages'!DN9+'3.2Cost by Packages'!DR9 -> 336 | P7: ='3.2Cost by Packages'!P9+'3.2Cost by Packages'!T9+'3.2Cost by Packages'!X9+'3.2Cost by Packages'!AB9+'3.2Cost by Packages'!AF9+'3.2Cost by Packages'!AJ9+'3.2Cost by Packages'!AN9+'3.2Cost by Packages'!AR9+'3.2Cost by Packages'!AV9+'3.2Cost by Packages'!AZ9+'3.2Cost by Packages'!BD9+'3.2Cost by Packages'!BH9+'3.2Cost by Packages'!BL9+'3.2Cost by Packages'!BP9+'3.2Cost by Packages'!BT9+'3.2Cost by Packages'!BX9+'3.2Cost by Packages'!CB9+'3.2Cost by Packages'!CF9+'3.2Cost by Packages'!CJ9+'3.2Cost by Packages'!CN9+'3.2Cost by Packages'!CR9+'3.2Cost by Packages'!CV9+'3.2Cost by Packages'!CZ9+'3.2Cost by Packages'!DD9+'3.2Cost by Packages'!DH9+'3.2Cost by Packages'!DL9+'3.2Cost by Packages'!DP9+'3.2Cost by Packages'!DT9 -> 17162.88
A8: 1.2 | C8: Sampling | K8: (nos.) | L8: - | N8: ='3.2Cost by Packages'!N10+'3.2Cost by Packages'!R10+'3.2Cost by Packages'!V10+'3.2Cost by Packages'!Z10+'3.2Cost by Packages'!AD10+'3.2Cost by Packages'!AH10+'3.2Cost by Packages'!AL10+'3.2Cost by Packages'!AP10+'3.2Cost by Packages'!AT10+'3.2Cost by Packages'!AX10+'3.2Cost by Packages'!BB10+'3.2Cost by Packages'!BF10+'3.2Cost by Packages'!BJ10+'3.2Cost by Packages'!BN10+'3.2Cost by Packages'!BR10+'3.2Cost by Packages'!BV10+'3.2Cost by Packages'!BZ10+'3.2Cost by Packages'!CD10+'3.2Cost by Packages'!CH10+'3.2Cost by Packages'!CL10+'3.2Cost by Packages'!CP10+'3.2Cost by Packages'!CT10+'3.2Cost by Packages'!CX10+'3.2Cost by Packages'!DB10+'3.2Cost by Packages'!DF10+'3.2Cost by Packages'!DJ10+'3.2Cost by Packages'!DN10+'3.2Cost by Packages'!DR10 -> 192 | P8: -
A9: 1.3 | C9: Undisturbed Sample Test | K9: (nos.) | L9: =ROUND(1018620/F89*(1-D90),2) -> 44.07 | N9: ='3.2Cost by Packages'!N11+'3.2Cost by Packages'!R11+'3.2Cost by Packages'!V11+'3.2Cost by Packages'!Z11+'3.2Cost by Packages'!AD11+'3.2Cost by Packages'!AH11+'3.2Cost by Packages'!AL11+'3.2Cost by Packages'!AP11+'3.2Cost by Packages'!AT11+'3.2Cost by Packages'!AX11+'3.2Cost by Packages'!BB11+'3.2Cost by Packages'!BF11+'3.2Cost by Packages'!BJ11+'3.2Cost by Packages'!BN11+'3.2Cost by Packages'!BR11+'3.2Cost by Packages'!BV11+'3.2Cost by Packages'!BZ11+'3.2Cost by Packages'!CD11+'3.2Cost by Packages'!CH11+'3.2Cost by Packages'!CL11+'3.2Cost by Packages'!CP11+'3.2Cost by Packages'!CT11+'3.2Cost by Packages'!CX11+'3.2Cost by Packages'!DB11+'3.2Cost by Packages'!DF11+'3.2Cost by Packages'!DJ11+'3.2Cost by Packages'!DN11+'3.2Cost by Packages'!DR11 -> 48 | P9: ='3.2Cost by Packages'!P11+'3.2Cost by Packages'!T11+'3.2Cost by Packages'!X11+'3.2Cost by Packages'!AB11+'3.2Cost by Packages'!AF11+'3.2Cost by Packages'!AJ11+'3.2Cost by Packages'!AN11+'3.2Cost by Packages'!AR11+'3.2Cost by Packages'!AV11+'3.2Cost by Packages'!AZ11+'3.2Cost by Packages'!BD11+'3.2Cost by Packages'!BH11+'3.2Cost by Packages'!BL11+'3.2Cost by Packages'!BP11+'3.2Cost by Packages'!BT11+'3.2Cost by Packages'!BX11+'3.2Cost by Packages'!CB11+'3.2Cost by Packages'!CF11+'3.2Cost by Packages'!CJ11+'3.2Cost by Packages'!CN11+'3.2Cost by Packages'!CR11+'3.2Cost by Packages'!CV11+'3.2Cost by Packages'!CZ11+'3.2Cost by Packages'!DD11+'3.2Cost by Packages'!DH11+'3.2Cost by Packages'!DL11+'3.2Cost by Packages'!DP11+'3.2Cost by Packages'!DT11 -> 2115.36
A10: 1.4 | C10: Disturbed Sample Test | K10: (nos.) | L10: =ROUND(644053/F89*(1-D90),2) -> 27.87 | N10: ='3.2Cost by Packages'!N12+'3.2Cost by Packages'!R12+'3.2Cost by Packages'!V12+'3.2Cost by Packages'!Z12+'3.2Cost by Packages'!AD12+'3.2Cost by Packages'!AH12+'3.2Cost by Packages'!AL12+'3.2Cost by Packages'!AP12+'3.2Cost by Packages'!AT12+'3.2Cost by Packages'!AX12+'3.2Cost by Packages'!BB12+'3.2Cost by Packages'!BF12+'3.2Cost by Packages'!BJ12+'3.2Cost by Packages'!BN12+'3.2Cost by Packages'!BR12+'3.2Cost by Packages'!BV12+'3.2Cost by Packages'!BZ12+'3.2Cost by Packages'!CD12+'3.2Cost by Packages'!CH12+'3.2Cost by Packages'!CL12+'3.2Cost by Packages'!CP12+'3.2Cost by Packages'!CT12+'3.2Cost by Packages'!CX12+'3.2Cost by Packages'!DB12+'3.2Cost by Packages'!DF12+'3.2Cost by Packages'!DJ12+'3.2Cost by Packages'!DN12+'3.2Cost by Packages'!DR12 -> 48 | P10: ='3.2Cost by Packages'!P12+'3.2Cost by Packages'!T12+'3.2Cost by Packages'!X12+'3.2Cost by Packages'!AB12+'3.2Cost by Packages'!AF12+'3.2Cost by Packages'!AJ12+'3.2Cost by Packages'!AN12+'3.2Cost by Packages'!AR12+'3.2Cost by Packages'!AV12+'3.2Cost by Packages'!AZ12+'3.2Cost by Packages'!BD12+'3.2Cost by Packages'!BH12+'3.2Cost by Packages'!BL12+'3.2Cost by Packages'!BP12+'3.2Cost by Packages'!BT12+'3.2Cost by Packages'!BX12+'3.2Cost by Packages'!CB12+'3.2Cost by Packages'!CF12+'3.2Cost by Packages'!CJ12+'3.2Cost by Packages'!CN12+'3.2Cost by Packages'!CR12+'3.2Cost by Packages'!CV12+'3.2Cost by Packages'!CZ12+'3.2Cost by Packages'!DD12+'3.2Cost by Packages'!DH12+'3.2Cost by Packages'!DL12+'3.2Cost by Packages'!DP12+'3.2Cost by Packages'!DT12 -> 1337.76
A11: 2 | C11: Tunnel (TN) | N11: ='3.2Cost by Packages'!N13+'3.2Cost by Packages'!R13+'3.2Cost by Packages'!V13+'3.2Cost by Packages'!Z13+'3.2Cost by Packages'!AD13+'3.2Cost by Packages'!AH13+'3.2Cost by Packages'!AL13+'3.2Cost by Packages'!AP13+'3.2Cost by Packages'!AT13+'3.2Cost by Packages'!AX13+'3.2Cost by Packages'!BB13+'3.2Cost by Packages'!BF13+'3.2Cost by Packages'!BJ13+'3.2Cost by Packages'!BN13+'3.2Cost by Packages'!BR13+'3.2Cost by Packages'!BV13+'3.2Cost by Packages'!BZ13+'3.2Cost by Packages'!CD13+'3.2Cost by Packages'!CH13+'3.2Cost by Packages'!CL13+'3.2Cost by Packages'!CP13+'3.2Cost by Packages'!CT13+'3.2Cost by Packages'!CX13+'3.2Cost by Packages'!DB13+'3.2Cost by Packages'!DF13+'3.2Cost by Packages'!DJ13+'3.2Cost by Packages'!DN13+'3.2Cost by Packages'!DR13 -> 0 | P11: ='3.2Cost by Packages'!P13+'3.2Cost by Packages'!T13+'3.2Cost by Packages'!X13+'3.2Cost by Packages'!AB13+'3.2Cost by Packages'!AF13+'3.2Cost by Packages'!AJ13+'3.2Cost by Packages'!AN13+'3.2Cost by Packages'!AR13+'3.2Cost by Packages'!AV13+'3.2Cost by Packages'!AZ13+'3.2Cost by Packages'!BD13+'3.2Cost by Packages'!BH13+'3.2Cost by Packages'!BL13+'3.2Cost by Packages'!BP13+'3.2Cost by Packages'!BT13+'3.2Cost by Packages'!BX13+'3.2Cost by Packages'!CB13+'3.2Cost by Packages'!CF13+'3.2Cost by Packages'!CJ13+'3.2Cost by Packages'!CN13+'3.2Cost by Packages'!CR13+'3.2Cost by Packages'!CV13+'3.2Cost by Packages'!CZ13+'3.2Cost by Packages'!DD13+'3.2Cost by Packages'!DH13+'3.2Cost by Packages'!DL13+'3.2Cost by Packages'!DP13+'3.2Cost by Packages'!DT13 -> 75539.45
A12: 2.1 | C12: Mechanical Boring (Vertical) | I12: I-III (50%), IV-VI (50%) | K12: (l.m.) | L12: =ROUND(1424019/F89*(1-D90),2) -> 61.62 | N12: ='3.2Cost by Packages'!N14+'3.2Cost by Packages'!R14+'3.2Cost by Packages'!V14+'3.2Cost by Packages'!Z14+'3.2Cost by Packages'!AD14+'3.2Cost by Packages'!AH14+'3.2Cost by Packages'!AL14+'3.2Cost by Packages'!AP14+'3.2Cost by Packages'!AT14+'3.2Cost by Packages'!AX14+'3.2Cost by Packages'!BB14+'3.2Cost by Packages'!BF14+'3.2Cost by Packages'!BJ14+'3.2Cost by Packages'!BN14+'3.2Cost by Packages'!BR14+'3.2Cost by Packages'!BV14+'3.2Cost by Packages'!BZ14+'3.2Cost by Packages'!CD14+'3.2Cost by Packages'!CH14+'3.2Cost by Packages'!CL14+'3.2Cost by Packages'!CP14+'3.2Cost by Packages'!CT14+'3.2Cost by Packages'!CX14+'3.2Cost by Packages'!DB14+'3.2Cost by Packages'!DF14+'3.2Cost by Packages'!DJ14+'3.2Cost by Packages'!DN14+'3.2Cost by Packages'!DR14 -> 210 | P12: ='3.2Cost by Packages'!P14+'3.2Cost by Packages'!T14+'3.2Cost by Packages'!X14+'3.2Cost by Packages'!AB14+'3.2Cost by Packages'!AF14+'3.2Cost by Packages'!AJ14+'3.2Cost by Packages'!AN14+'3.2Cost by Packages'!AR14+'3.2Cost by Packages'!AV14+'3.2Cost by Packages'!AZ14+'3.2Cost by Packages'!BD14+'3.2Cost by Packages'!BH14+'3.2Cost by Packages'!BL14+'3.2Cost by Packages'!BP14+'3.2Cost by Packages'!BT14+'3.2Cost by Packages'!BX14+'3.2Cost by Packages'!CB14+'3.2Cost by Packages'!CF14+'3.2Cost by Packages'!CJ14+'3.2Cost by Packages'!CN14+'3.2Cost by Packages'!CR14+'3.2Cost by Packages'!CV14+'3.2Cost by Packages'!CZ14+'3.2Cost by Packages'!DD14+'3.2Cost by Packages'!DH14+'3.2Cost by Packages'!DL14+'3.2Cost by Packages'!DP14+'3.2Cost by Packages'!DT14 -> 12940.2
A13: 2.2 | C13: Mechanical Boring (Horizontal) | I13: I-III (50%), IV-VI (50%) | K13: (l.m.) | L13: =ROUND(142.1*18990*1.175/F89,2) -> 152.44 | N13: ='3.2Cost by Packages'!N15+'3.2Cost by Packages'!R15+'3.2Cost by Packages'!V15+'3.2Cost by Packages'!Z15+'3.2Cost by Packages'!AD15+'3.2Cost by Packages'!AH15+'3.2Cost by Packages'!AL15+'3.2Cost by Packages'!AP15+'3.2Cost by Packages'!AT15+'3.2Cost by Packages'!AX15+'3.2Cost by Packages'!BB15+'3.2Cost by Packages'!BF15+'3.2Cost by Packages'!BJ15+'3.2Cost by Packages'!BN15+'3.2Cost by Packages'!BR15+'3.2Cost by Packages'!BV15+'3.2Cost by Packages'!BZ15+'3.2Cost by Packages'!CD15+'3.2Cost by Packages'!CH15+'3.2Cost by Packages'!CL15+'3.2Cost by Packages'!CP15+'3.2Cost by Packages'!CT15+'3.2Cost by Packages'!CX15+'3.2Cost by Packages'!DB15+'3.2Cost by Packages'!DF15+'3.2Cost by Packages'!DJ15+'3.2Cost by Packages'!DN15+'3.2Cost by Packages'!DR15 -> 200 | P13: ='3.2Cost by Packages'!P15+'3.2Cost by Packages'!T15+'3.2Cost by Packages'!X15+'3.2Cost by Packages'!AB15+'3.2Cost by Packages'!AF15+'3.2Cost by Packages'!AJ15+'3.2Cost by Packages'!AN15+'3.2Cost by Packages'!AR15+'3.2Cost by Packages'!AV15+'3.2Cost by Packages'!AZ15+'3.2Cost by Packages'!BD15+'3.2Cost by Packages'!BH15+'3.2Cost by Packages'!BL15+'3.2Cost by Packages'!BP15+'3.2Cost by Packages'!BT15+'3.2Cost by Packages'!BX15+'3.2Cost by Packages'!CB15+'3.2Cost by Packages'!CF15+'3.2Cost by Packages'!CJ15+'3.2Cost by Packages'!CN15+'3.2Cost by Packages'!CR15+'3.2Cost by Packages'!CV15+'3.2Cost by Packages'!CZ15+'3.2Cost by Packages'!DD15+'3.2Cost by Packages'!DH15+'3.2Cost by Packages'!DL15+'3.2Cost by Packages'!DP15+'3.2Cost by Packages'!DT15 -> 30488
A14: 2.3 | C14: Sampling | K14: (l.m.) | L14: - | N14: ='3.2Cost by Packages'!N16+'3.2Cost by Packages'!R16+'3.2Cost by Packages'!V16+'3.2Cost by Packages'!Z16+'3.2Cost by Packages'!AD16+'3.2Cost by Packages'!AH16+'3.2Cost by Packages'!AL16+'3.2Cost by Packages'!AP16+'3.2Cost by Packages'!AT16+'3.2Cost by Packages'!AX16+'3.2Cost by Packages'!BB16+'3.2Cost by Packages'!BF16+'3.2Cost by Packages'!BJ16+'3.2Cost by Packages'!BN16+'3.2Cost by Packages'!BR16+'3.2Cost by Packages'!BV16+'3.2Cost by Packages'!BZ16+'3.2Cost by Packages'!CD16+'3.2Cost by Packages'!CH16+'3.2Cost by Packages'!CL16+'3.2Cost by Packages'!CP16+'3.2Cost by Packages'!CT16+'3.2Cost by Packages'!CX16+'3.2Cost by Packages'!DB16+'3.2Cost by Packages'!DF16+'3.2Cost by Packages'!DJ16+'3.2Cost by Packages'!DN16+'3.2Cost by Packages'!DR16 -> 410 | P14: -
A15: 2.4 | C15: Standard Penetration Test (SPT) | K15: (points) | L15: =ROUND(368889/F89*(1-D90),2) -> 15.96 | N15: ='3.2Cost by Packages'!N17+'3.2Cost by Packages'!R17+'3.2Cost by Packages'!V17+'3.2Cost by Packages'!Z17+'3.2Cost by Packages'!AD17+'3.2Cost by Packages'!AH17+'3.2Cost by Packages'!AL17+'3.2Cost by Packages'!AP17+'3.2Cost by Packages'!AT17+'3.2Cost by Packages'!AX17+'3.2Cost by Packages'!BB17+'3.2Cost by Packages'!BF17+'3.2Cost by Packages'!BJ17+'3.2Cost by Packages'!BN17+'3.2Cost by Packages'!BR17+'3.2Cost by Packages'!BV17+'3.2Cost by Packages'!BZ17+'3.2Cost by Packages'!CD17+'3.2Cost by Packages'!CH17+'3.2Cost by Packages'!CL17+'3.2Cost by Packages'!CP17+'3.2Cost by Packages'!CT17+'3.2Cost by Packages'!CX17+'3.2Cost by Packages'!DB17+'3.2Cost by Packages'!DF17+'3.2Cost by Packages'!DJ17+'3.2Cost by Packages'!DN17+'3.2Cost by Packages'!DR17 -> 105 | P15: ='3.2Cost by Packages'!P17+'3.2Cost by Packages'!T17+'3.2Cost by Packages'!X17+'3.2Cost by Packages'!AB17+'3.2Cost by Packages'!AF17+'3.2Cost by Packages'!AJ17+'3.2Cost by Packages'!AN17+'3.2Cost by Packages'!AR17+'3.2Cost by Packages'!AV17+'3.2Cost by Packages'!AZ17+'3.2Cost by Packages'!BD17+'3.2Cost by Packages'!BH17+'3.2Cost by Packages'!BL17+'3.2Cost by Packages'!BP17+'3.2Cost by Packages'!BT17+'3.2Cost by Packages'!BX17+'3.2Cost by Packages'!CB17+'3.2Cost by Packages'!CF17+'3.2Cost by Packages'!CJ17+'3.2Cost by Packages'!CN17+'3.2Cost by Packages'!CR17+'3.2Cost by Packages'!CV17+'3.2Cost by Packages'!CZ17+'3.2Cost by Packages'!DD17+'3.2Cost by Packages'!DH17+'3.2Cost by Packages'!DL17+'3.2Cost by Packages'!DP17+'3.2Cost by Packages'!DT17 -> 1675.8
A16: 2.5 | C16: Disturbed Sample Test | K16: (nos.) | L16: =ROUND(644053/F89*(1-D90),2) -> 27.87 | N16: ='3.2Cost by Packages'!N18+'3.2Cost by Packages'!R18+'3.2Cost by Packages'!V18+'3.2Cost by Packages'!Z18+'3.2Cost by Packages'!AD18+'3.2Cost by Packages'!AH18+'3.2Cost by Packages'!AL18+'3.2Cost by Packages'!AP18+'3.2Cost by Packages'!AT18+'3.2Cost by Packages'!AX18+'3.2Cost by Packages'!BB18+'3.2Cost by Packages'!BF18+'3.2Cost by Packages'!BJ18+'3.2Cost by Packages'!BN18+'3.2Cost by Packages'!BR18+'3.2Cost by Packages'!BV18+'3.2Cost by Packages'!BZ18+'3.2Cost by Packages'!CD18+'3.2Cost by Packages'!CH18+'3.2Cost by Packages'!CL18+'3.2Cost by Packages'!CP18+'3.2Cost by Packages'!CT18+'3.2Cost by Packages'!CX18+'3.2Cost by Packages'!DB18+'3.2Cost by Packages'!DF18+'3.2Cost by Packages'!DJ18+'3.2Cost by Packages'!DN18+'3.2Cost by Packages'!DR18 -> 62 | P16: ='3.2Cost by Packages'!P18+'3.2Cost by Packages'!T18+'3.2Cost by Packages'!X18+'3.2Cost by Packages'!AB18+'3.2Cost by Packages'!AF18+'3.2Cost by Packages'!AJ18+'3.2Cost by Packages'!AN18+'3.2Cost by Packages'!AR18+'3.2Cost by Packages'!AV18+'3.2Cost by Packages'!AZ18+'3.2Cost by Packages'!BD18+'3.2Cost by Packages'!BH18+'3.2Cost by Packages'!BL18+'3.2Cost by Packages'!BP18+'3.2Cost by Packages'!BT18+'3.2Cost by Packages'!BX18+'3.2Cost by Packages'!CB18+'3.2Cost by Packages'!CF18+'3.2Cost by Packages'!CJ18+'3.2Cost by Packages'!CN18+'3.2Cost by Packages'!CR18+'3.2Cost by Packages'!CV18+'3.2Cost by Packages'!CZ18+'3.2Cost by Packages'!DD18+'3.2Cost by Packages'!DH18+'3.2Cost by Packages'!DL18+'3.2Cost by Packages'!DP18+'3.2Cost by Packages'!DT18 -> 1727.94
A17: 2.6 | C17: Unconfined Compression Test | K17: (nos.) | L17: =ROUND(2745768/F89*(1-D90),2) -> 118.81 | N17: ='3.2Cost by Packages'!N19+'3.2Cost by Packages'!R19+'3.2Cost by Packages'!V19+'3.2Cost by Packages'!Z19+'3.2Cost by Packages'!AD19+'3.2Cost by Packages'!AH19+'3.2Cost by Packages'!AL19+'3.2Cost by Packages'!AP19+'3.2Cost by Packages'!AT19+'3.2Cost by Packages'!AX19+'3.2Cost by Packages'!BB19+'3.2Cost by Packages'!BF19+'3.2Cost by Packages'!BJ19+'3.2Cost by Packages'!BN19+'3.2Cost by Packages'!BR19+'3.2Cost by Packages'!BV19+'3.2Cost by Packages'!BZ19+'3.2Cost by Packages'!CD19+'3.2Cost by Packages'!CH19+'3.2Cost by Packages'!CL19+'3.2Cost by Packages'!CP19+'3.2Cost by Packages'!CT19+'3.2Cost by Packages'!CX19+'3.2Cost by Packages'!DB19+'3.2Cost by Packages'!DF19+'3.2Cost by Packages'!DJ19+'3.2Cost by Packages'!DN19+'3.2Cost by Packages'!DR19 -> 31 | P17: ='3.2Cost by Packages'!P19+'3.2Cost by Packages'!T19+'3.2Cost by Packages'!X19+'3.2Cost by Packages'!AB19+'3.2Cost by Packages'!AF19+'3.2Cost by Packages'!AJ19+'3.2Cost by Packages'!AN19+'3.2Cost by Packages'!AR19+'3.2Cost by Packages'!AV19+'3.2Cost by Packages'!AZ19+'3.2Cost by Packages'!BD19+'3.2Cost by Packages'!BH19+'3.2Cost by Packages'!BL19+'3.2Cost by Packages'!BP19+'3.2Cost by Packages'!BT19+'3.2Cost by Packages'!BX19+'3.2Cost by Packages'!CB19+'3.2Cost by Packages'!CF19+'3.2Cost by Packages'!CJ19+'3.2Cost by Packages'!CN19+'3.2Cost by Packages'!CR19+'3.2Cost by Packages'!CV19+'3.2Cost by Packages'!CZ19+'3.2Cost by Packages'!DD19+'3.2Cost by Packages'!DH19+'3.2Cost by Packages'!DL19+'3.2Cost by Packages'!DP19+'3.2Cost by Packages'!DT19 -> 3683.11
A18: 2.7 | C18: Permeability Test | K18: (nos.) | L18: =ROUND(260000/F89*(1-D90),2) -> 11.25 | N18: ='3.2Cost by Packages'!N20+'3.2Cost by Packages'!R20+'3.2Cost by Packages'!V20+'3.2Cost by Packages'!Z20+'3.2Cost by Packages'!AD20+'3.2Cost by Packages'!AH20+'3.2Cost by Packages'!AL20+'3.2Cost by Packages'!AP20+'3.2Cost by Packages'!AT20+'3.2Cost by Packages'!AX20+'3.2Cost by Packages'!BB20+'3.2Cost by Packages'!BF20+'3.2Cost by Packages'!BJ20+'3.2Cost by Packages'!BN20+'3.2Cost by Packages'!BR20+'3.2Cost by Packages'!BV20+'3.2Cost by Packages'!BZ20+'3.2Cost by Packages'!CD20+'3.2Cost by Packages'!CH20+'3.2Cost by Packages'!CL20+'3.2Cost by Packages'!CP20+'3.2Cost by Packages'!CT20+'3.2Cost by Packages'!CX20+'3.2Cost by Packages'!DB20+'3.2Cost by Packages'!DF20+'3.2Cost by Packages'!DJ20+'3.2Cost by Packages'!DN20+'3.2Cost by Packages'!DR20 -> 8 | P18: ='3.2Cost by Packages'!P20+'3.2Cost by Packages'!T20+'3.2Cost by Packages'!X20+'3.2Cost by Packages'!AB20+'3.2Cost by Packages'!AF20+'3.2Cost by Packages'!AJ20+'3.2Cost by Packages'!AN20+'3.2Cost by Packages'!AR20+'3.2Cost by Packages'!AV20+'3.2Cost by Packages'!AZ20+'3.2Cost by Packages'!BD20+'3.2Cost by Packages'!BH20+'3.2Cost by Packages'!BL20+'3.2Cost by Packages'!BP20+'3.2Cost by Packages'!BT20+'3.2Cost by Packages'!BX20+'3.2Cost by Packages'!CB20+'3.2Cost by Packages'!CF20+'3.2Cost by Packages'!CJ20+'3.2Cost by Packages'!CN20+'3.2Cost by Packages'!CR20+'3.2Cost by Packages'!CV20+'3.2Cost by Packages'!CZ20+'3.2Cost by Packages'!DD20+'3.2Cost by Packages'!DH20+'3.2Cost by Packages'!DL20+'3.2Cost by Packages'!DP20+'3.2Cost by Packages'!DT20 -> 90
A19: 2.8 | C19: Profile Survey | K19: (l.m.) | L19: =ROUND(10129834/1000/F89*(1-D90),2) -> 0.44 | N19: ='3.2Cost by Packages'!N21+'3.2Cost by Packages'!R21+'3.2Cost by Packages'!V21+'3.2Cost by Packages'!Z21+'3.2Cost by Packages'!AD21+'3.2Cost by Packages'!AH21+'3.2Cost by Packages'!AL21+'3.2Cost by Packages'!AP21+'3.2Cost by Packages'!AT21+'3.2Cost by Packages'!AX21+'3.2Cost by Packages'!BB21+'3.2Cost by Packages'!BF21+'3.2Cost by Packages'!BJ21+'3.2Cost by Packages'!BN21+'3.2Cost by Packages'!BR21+'3.2Cost by Packages'!BV21+'3.2Cost by Packages'!BZ21+'3.2Cost by Packages'!CD21+'3.2Cost by Packages'!CH21+'3.2Cost by Packages'!CL21+'3.2Cost by Packages'!CP21+'3.2Cost by Packages'!CT21+'3.2Cost by Packages'!CX21+'3.2Cost by Packages'!DB21+'3.2Cost by Packages'!DF21+'3.2Cost by Packages'!DJ21+'3.2Cost by Packages'!DN21+'3.2Cost by Packages'!DR21 -> 1280 | P19: ='3.2Cost by Packages'!P21+'3.2Cost by Packages'!T21+'3.2Cost by Packages'!X21+'3.2Cost by Packages'!AB21+'3.2Cost by Packages'!AF21+'3.2Cost by Packages'!AJ21+'3.2Cost by Packages'!AN21+'3.2Cost by Packages'!AR21+'3.2Cost by Packages'!AV21+'3.2Cost by Packages'!AZ21+'3.2Cost by Packages'!BD21+'3.2Cost by Packages'!BH21+'3.2Cost by Packages'!BL21+'3.2Cost by Packages'!BP21+'3.2Cost by Packages'!BT21+'3.2Cost by Packages'!BX21+'3.2Cost by Packages'!CB21+'3.2Cost by Packages'!CF21+'3.2Cost by Packages'!CJ21+'3.2Cost by Packages'!CN21+'3.2Cost by Packages'!CR21+'3.2Cost by Packages'!CV21+'3.2Cost by Packages'!CZ21+'3.2Cost by Packages'!DD21+'3.2Cost by Packages'!DH21+'3.2Cost by Packages'!DL21+'3.2Cost by Packages'!DP21+'3.2Cost by Packages'!DT21 -> 563.2
A20: 2.9 | C20: Seismic Measurement | K20: (l.m.) | L20: =ROUND(336973*1.175/F89,2) -> 19.04 | N20: ='3.2Cost by Packages'!N22+'3.2Cost by Packages'!R22+'3.2Cost by Packages'!V22+'3.2Cost by Packages'!Z22+'3.2Cost by Packages'!AD22+'3.2Cost by Packages'!AH22+'3.2Cost by Packages'!AL22+'3.2Cost by Packages'!AP22+'3.2Cost by Packages'!AT22+'3.2Cost by Packages'!AX22+'3.2Cost by Packages'!BB22+'3.2Cost by Packages'!BF22+'3.2Cost by Packages'!BJ22+'3.2Cost by Packages'!BN22+'3.2Cost by Packages'!BR22+'3.2Cost by Packages'!BV22+'3.2Cost by Packages'!BZ22+'3.2Cost by Packages'!CD22+'3.2Cost by Packages'!CH22+'3.2Cost by Packages'!CL22+'3.2Cost by Packages'!CP22+'3.2Cost by Packages'!CT22+'3.2Cost by Packages'!CX22+'3.2Cost by Packages'!DB22+'3.2Cost by Packages'!DF22+'3.2Cost by Packages'!DJ22+'3.2Cost by Packages'!DN22+'3.2Cost by Packages'!DR22 -> 1280 | P20: ='3.2Cost by Packages'!P22+'3.2Cost by Packages'!T22+'3.2Cost by Packages'!X22+'3.2Cost by Packages'!AB22+'3.2Cost by Packages'!AF22+'3.2Cost by Packages'!AJ22+'3.2Cost by Packages'!AN22+'3.2Cost by Packages'!AR22+'3.2Cost by Packages'!AV22+'3.2Cost by Packages'!AZ22+'3.2Cost by Packages'!BD22+'3.2Cost by Packages'!BH22+'3.2Cost by Packages'!BL22+'3.2Cost by Packages'!BP22+'3.2Cost by Packages'!BT22+'3.2Cost by Packages'!BX22+'3.2Cost by Packages'!CB22+'3.2Cost by Packages'!CF22+'3.2Cost by Packages'!CJ22+'3.2Cost by Packages'!CN22+'3.2Cost by Packages'!CR22+'3.2Cost by Packages'!CV22+'3.2Cost by Packages'!CZ22+'3.2Cost by Packages'!DD22+'3.2Cost by Packages'!DH22+'3.2Cost by Packages'!DL22+'3.2Cost by Packages'!DP22+'3.2Cost by Packages'!DT22 -> 24371.2
A21: 3 | C21: Bridge (BR) | N21: ='3.2Cost by Packages'!N23+'3.2Cost by Packages'!R23+'3.2Cost by Packages'!V23+'3.2Cost by Packages'!Z23+'3.2Cost by Packages'!AD23+'3.2Cost by Packages'!AH23+'3.2Cost by Packages'!AL23+'3.2Cost by Packages'!AP23+'3.2Cost by Packages'!AT23+'3.2Cost by Packages'!AX23+'3.2Cost by Packages'!BB23+'3.2Cost by Packages'!BF23+'3.2Cost by Packages'!BJ23+'3.2Cost by Packages'!BN23+'3.2Cost by Packages'!BR23+'3.2Cost by Packages'!BV23+'3.2Cost by Packages'!BZ23+'3.2Cost by Packages'!CD23+'3.2Cost by Packages'!CH23+'3.2Cost by Packages'!CL23+'3.2Cost by Packages'!CP23+'3.2Cost by Packages'!CT23+'3.2Cost by Packages'!CX23+'3.2Cost by Packages'!DB23+'3.2Cost by Packages'!DF23+'3.2Cost by Packages'!DJ23+'3.2Cost by Packages'!DN23+'3.2Cost by Packages'!DR23 -> 0 | P21: ='3.2Cost by Packages'!P23+'3.2Cost by Packages'!T23+'3.2Cost by Packages'!X23+'3.2Cost by Packages'!AB23+'3.2Cost by Packages'!AF23+'3.2Cost by Packages'!AJ23+'3.2Cost by Packages'!AN23+'3.2Cost by Packages'!AR23+'3.2Cost by Packages'!AV23+'3.2Cost by Packages'!AZ23+'3.2Cost by Packages'!BD23+'3.2Cost by Packages'!BH23+'3.2Cost by Packages'!BL23+'3.2Cost by Packages'!BP23+'3.2Cost by Packages'!BT23+'3.2Cost by Packages'!BX23+'3.2Cost by Packages'!CB23+'3.2Cost by Packages'!CF23+'3.2Cost by Packages'!CJ23+'3.2Cost by Packages'!CN23+'3.2Cost by Packages'!CR23+'3.2Cost by Packages'!CV23+'3.2Cost by Packages'!CZ23+'3.2Cost by Packages'!DD23+'3.2Cost by Packages'!DH23+'3.2Cost by Packages'!DL23+'3.2Cost by Packages'!DP23+'3.2Cost by Packages'!DT23 -> 1214396.4
A22: 3.1 | C22: Mechanical Boring (On Shore) | I22: I-III (50%), IV-VI (50%) | K22: (l.m.) | L22: =ROUND(1424019/F89*(1-D90),2) -> 61.62 | N22: ='3.2Cost by Packages'!N24+'3.2Cost by Packages'!R24+'3.2Cost by Packages'!V24+'3.2Cost by Packages'!Z24+'3.2Cost by Packages'!AD24+'3.2Cost by Packages'!AH24+'3.2Cost by Packages'!AL24+'3.2Cost by Packages'!AP24+'3.2Cost by Packages'!AT24+'3.2Cost by Packages'!AX24+'3.2Cost by Packages'!BB24+'3.2Cost by Packages'!BF24+'3.2Cost by Packages'!BJ24+'3.2Cost by Packages'!BN24+'3.2Cost by Packages'!BR24+'3.2Cost by Packages'!BV24+'3.2Cost by Packages'!BZ24+'3.2Cost by Packages'!CD24+'3.2Cost by Packages'!CH24+'3.2Cost by Packages'!CL24+'3.2Cost by Packages'!CP24+'3.2Cost by Packages'!CT24+'3.2Cost by Packages'!CX24+'3.2Cost by Packages'!DB24+'3.2Cost by Packages'!DF24+'3.2Cost by Packages'!DJ24+'3.2Cost by Packages'!DN24+'3.2Cost by Packages'!DR24 -> 9369 | P22: ='3.2Cost by Packages'!P24+'3.2Cost by Packages'!T24+'3.2Cost by Packages'!X24+'3.2Cost by Packages'!AB24+'3.2Cost by Packages'!AF24+'3.2Cost by Packages'!AJ24+'3.2Cost by Packages'!AN24+'3.2Cost by Packages'!AR24+'3.2Cost by Packages'!AV24+'3.2Cost by Packages'!AZ24+'3.2Cost by Packages'!BD24+'3.2Cost by Packages'!BH24+'3.2Cost by Packages'!BL24+'3.2Cost by Packages'!BP24+'3.2Cost by Packages'!BT24+'3.2Cost by Packages'!BX24+'3.2Cost by Packages'!CB24+'3.2Cost by Packages'!CF24+'3.2Cost by Packages'!CJ24+'3.2Cost by Packages'!CN24+'3.2Cost by Packages'!CR24+'3.2Cost by Packages'!CV24+'3.2Cost by Packages'!CZ24+'3.2Cost by Packages'!DD24+'3.2Cost by Packages'!DH24+'3.2Cost by Packages'!DL24+'3.2Cost by Packages'!DP24+'3.2Cost by Packages'!DT24 -> 577317.78
A23: 3.2 | C23: Mechanical Boring (Off Shore) | I23: I-III (70%), IV-VI (30%) | K23: (l.m.) | L23: =ROUND(1671973/F89*(1-D90),2) -> 72.34 | N23: ='3.2Cost by Packages'!N25+'3.2Cost by Packages'!R25+'3.2Cost by Packages'!V25+'3.2Cost by Packages'!Z25+'3.2Cost by Packages'!AD25+'3.2Cost by Packages'!AH25+'3.2Cost by Packages'!AL25+'3.2Cost by Packages'!AP25+'3.2Cost by Packages'!AT25+'3.2Cost by Packages'!AX25+'3.2Cost by Packages'!BB25+'3.2Cost by Packages'!BF25+'3.2Cost by Packages'!BJ25+'3.2Cost by Packages'!BN25+'3.2Cost by Packages'!BR25+'3.2Cost by Packages'!BV25+'3.2Cost by Packages'!BZ25+'3.2Cost by Packages'!CD25+'3.2Cost by Packages'!CH25+'3.2Cost by Packages'!CL25+'3.2Cost by Packages'!CP25+'3.2Cost by Packages'!CT25+'3.2Cost by Packages'!CX25+'3.2Cost by Packages'!DB25+'3.2Cost by Packages'!DF25+'3.2Cost by Packages'!DJ25+'3.2Cost by Packages'!DN25+'3.2Cost by Packages'!DR25 -> 3410 | P23: ='3.2Cost by Packages'!P25+'3.2Cost by Packages'!T25+'3.2Cost by Packages'!X25+'3.2Cost by Packages'!AB25+'3.2Cost by Packages'!AF25+'3.2Cost by Packages'!AJ25+'3.2Cost by Packages'!AN25+'3.2Cost by Packages'!AR25+'3.2Cost by Packages'!AV25+'3.2Cost by Packages'!AZ25+'3.2Cost by Packages'!BD25+'3.2Cost by Packages'!BH25+'3.2Cost by Packages'!BL25+'3.2Cost by Packages'!BP25+'3.2Cost by Packages'!BT25+'3.2Cost by Packages'!BX25+'3.2Cost by Packages'!CB25+'3.2Cost by Packages'!CF25+'3.2Cost by Packages'!CJ25+'3.2Cost by Packages'!CN25+'3.2Cost by Packages'!CR25+'3.2Cost by Packages'!CV25+'3.2Cost by Packages'!CZ25+'3.2Cost by Packages'!DD25+'3.2Cost by Packages'!DH25+'3.2Cost by Packages'!DL25+'3.2Cost by Packages'!DP25+'3.2Cost by Packages'!DT25 -> 246679.4
A24: 3.3 | C24: Sampling | K24: (nos.) | L24: - | N24: ='3.2Cost by Packages'!N26+'3.2Cost by Packages'!R26+'3.2Cost by Packages'!V26+'3.2Cost by Packages'!Z26+'3.2Cost by Packages'!AD26+'3.2Cost by Packages'!AH26+'3.2Cost by Packages'!AL26+'3.2Cost by Packages'!AP26+'3.2Cost by Packages'!AT26+'3.2Cost by Packages'!AX26+'3.2Cost by Packages'!BB26+'3.2Cost by Packages'!BF26+'3.2Cost by Packages'!BJ26+'3.2Cost by Packages'!BN26+'3.2Cost by Packages'!BR26+'3.2Cost by Packages'!BV26+'3.2Cost by Packages'!BZ26+'3.2Cost by Packages'!CD26+'3.2Cost by Packages'!CH26+'3.2Cost by Packages'!CL26+'3.2Cost by Packages'!CP26+'3.2Cost by Packages'!CT26+'3.2Cost by Packages'!CX26+'3.2Cost by Packages'!DB26+'3.2Cost by Packages'!DF26+'3.2Cost by Packages'!DJ26+'3.2Cost by Packages'!DN26+'3.2Cost by Packages'!DR26 -> 6550 | P24: -
A25: 3.4 | C25: Standard Penetration Test (SPT) | K25: (points) | L25: =ROUND(368889/F89*(1-D90),2) -> 15.96 | N25: ='3.2Cost by Packages'!N27+'3.2Cost by Packages'!R27+'3.2Cost by Packages'!V27+'3.2Cost by Packages'!Z27+'3.2Cost by Packages'!AD27+'3.2Cost by Packages'!AH27+'3.2Cost by Packages'!AL27+'3.2Cost by Packages'!AP27+'3.2Cost by Packages'!AT27+'3.2Cost by Packages'!AX27+'3.2Cost by Packages'!BB27+'3.2Cost by Packages'!BF27+'3.2Cost by Packages'!BJ27+'3.2Cost by Packages'!BN27+'3.2Cost by Packages'!BR27+'3.2Cost by Packages'!BV27+'3.2Cost by Packages'!BZ27+'3.2Cost by Packages'!CD27+'3.2Cost by Packages'!CH27+'3.2Cost by Packages'!CL27+'3.2Cost by Packages'!CP27+'3.2Cost by Packages'!CT27+'3.2Cost by Packages'!CX27+'3.2Cost by Packages'!DB27+'3.2Cost by Packages'!DF27+'3.2Cost by Packages'!DJ27+'3.2Cost by Packages'!DN27+'3.2Cost by Packages'!DR27 -> 6550 | P25: ='3.2Cost by Packages'!P27+'3.2Cost by Packages'!T27+'3.2Cost by Packages'!X27+'3.2Cost by Packages'!AB27+'3.2Cost by Packages'!AF27+'3.2Cost by Packages'!AJ27+'3.2Cost by Packages'!AN27+'3.2Cost by Packages'!AR27+'3.2Cost by Packages'!AV27+'3.2Cost by Packages'!AZ27+'3.2Cost by Packages'!BD27+'3.2Cost by Packages'!BH27+'3.2Cost by Packages'!BL27+'3.2Cost by Packages'!BP27+'3.2Cost by Packages'!BT27+'3.2Cost by Packages'!BX27+'3.2Cost by Packages'!CB27+'3.2Cost by Packages'!CF27+'3.2Cost by Packages'!CJ27+'3.2Cost by Packages'!CN27+'3.2Cost by Packages'!CR27+'3.2Cost by Packages'!CV27+'3.2Cost by Packages'!CZ27+'3.2Cost by Packages'!DD27+'3.2Cost by Packages'!DH27+'3.2Cost by Packages'!DL27+'3.2Cost by Packages'!DP27+'3.2Cost by Packages'!DT27 -> 104538
A26: 3.5 | C26: Floating Equipment | K26: (nos.) | L26: =ROUND(1000*18990*1.175/F89,2) -> 1072.75 | N26: ='3.2Cost by Packages'!N28+'3.2Cost by Packages'!R28+'3.2Cost by Packages'!V28+'3.2Cost by Packages'!Z28+'3.2Cost by Packages'!AD28+'3.2Cost by Packages'!AH28+'3.2Cost by Packages'!AL28+'3.2Cost by Packages'!AP28+'3.2Cost by Packages'!AT28+'3.2Cost by Packages'!AX28+'3.2Cost by Packages'!BB28+'3.2Cost by Packages'!BF28+'3.2Cost by Packages'!BJ28+'3.2Cost by Packages'!BN28+'3.2Cost by Packages'!BR28+'3.2Cost by Packages'!BV28+'3.2Cost by Packages'!BZ28+'3.2Cost by Packages'!CD28+'3.2Cost by Packages'!CH28+'3.2Cost by Packages'!CL28+'3.2Cost by Packages'!CP28+'3.2Cost by Packages'!CT28+'3.2Cost by Packages'!CX28+'3.2Cost by Packages'!DB28+'3.2Cost by Packages'!DF28+'3.2Cost by Packages'!DJ28+'3.2Cost by Packages'!DN28+'3.2Cost by Packages'!DR28 -> 32 | P26: ='3.2Cost by Packages'!P28+'3.2Cost by Packages'!T28+'3.2Cost by Packages'!X28+'3.2Cost by Packages'!AB28+'3.2Cost by Packages'!AF28+'3.2Cost by Packages'!AJ28+'3.2Cost by Packages'!AN28+'3.2Cost by Packages'!AR28+'3.2Cost by Packages'!AV28+'3.2Cost by Packages'!AZ28+'3.2Cost by Packages'!BD28+'3.2Cost by Packages'!BH28+'3.2Cost by Packages'!BL28+'3.2Cost by Packages'!BP28+'3.2Cost by Packages'!BT28+'3.2Cost by Packages'!BX28+'3.2Cost by Packages'!CB28+'3.2Cost by Packages'!CF28+'3.2Cost by Packages'!CJ28+'3.2Cost by Packages'!CN28+'3.2Cost by Packages'!CR28+'3.2Cost by Packages'!CV28+'3.2Cost by Packages'!CZ28+'3.2Cost by Packages'!DD28+'3.2Cost by Packages'!DH28+'3.2Cost by Packages'!DL28+'3.2Cost by Packages'!DP28+'3.2Cost by Packages'!DT28 -> 34328
A27: 3.6 | C27: Undisturbed Sample Test | K27: (nos.) | L27: =ROUND(1018620/F89*(1-D90),2) -> 44.07 | N27: ='3.2Cost by Packages'!N29+'3.2Cost by Packages'!R29+'3.2Cost by Packages'!V29+'3.2Cost by Packages'!Z29+'3.2Cost by Packages'!AD29+'3.2Cost by Packages'!AH29+'3.2Cost by Packages'!AL29+'3.2Cost by Packages'!AP29+'3.2Cost by Packages'!AT29+'3.2Cost by Packages'!AX29+'3.2Cost by Packages'!BB29+'3.2Cost by Packages'!BF29+'3.2Cost by Packages'!BJ29+'3.2Cost by Packages'!BN29+'3.2Cost by Packages'!BR29+'3.2Cost by Packages'!BV29+'3.2Cost by Packages'!BZ29+'3.2Cost by Packages'!CD29+'3.2Cost by Packages'!CH29+'3.2Cost by Packages'!CL29+'3.2Cost by Packages'!CP29+'3.2Cost by Packages'!CT29+'3.2Cost by Packages'!CX29+'3.2Cost by Packages'!DB29+'3.2Cost by Packages'!DF29+'3.2Cost by Packages'!DJ29+'3.2Cost by Packages'!DN29+'3.2Cost by Packages'!DR29 -> 1737 | P27: ='3.2Cost by Packages'!P29+'3.2Cost by Packages'!T29+'3.2Cost by Packages'!X29+'3.2Cost by Packages'!AB29+'3.2Cost by Packages'!AF29+'3.2Cost by Packages'!AJ29+'3.2Cost by Packages'!AN29+'3.2Cost by Packages'!AR29+'3.2Cost by Packages'!AV29+'3.2Cost by Packages'!AZ29+'3.2Cost by Packages'!BD29+'3.2Cost by Packages'!BH29+'3.2Cost by Packages'!BL29+'3.2Cost by Packages'!BP29+'3.2Cost by Packages'!BT29+'3.2Cost by Packages'!BX29+'3.2Cost by Packages'!CB29+'3.2Cost by Packages'!CF29+'3.2Cost by Packages'!CJ29+'3.2Cost by Packages'!CN29+'3.2Cost by Packages'!CR29+'3.2Cost by Packages'!CV29+'3.2Cost by Packages'!CZ29+'3.2Cost by Packages'!DD29+'3.2Cost by Packages'!DH29+'3.2Cost by Packages'!DL29+'3.2Cost by Packages'!DP29+'3.2Cost by Packages'!DT29 -> 76549.59
A28: 3.7 | C28: Disturbed Sample Test | K28: (nos.) | L28: =ROUND(644053/F89*(1-D90),2) -> 27.87 | N28: ='3.2Cost by Packages'!N30+'3.2Cost by Packages'!R30+'3.2Cost by Packages'!V30+'3.2Cost by Packages'!Z30+'3.2Cost by Packages'!AD30+'3.2Cost by Packages'!AH30+'3.2Cost by Packages'!AL30+'3.2Cost by Packages'!AP30+'3.2Cost by Packages'!AT30+'3.2Cost by Packages'!AX30+'3.2Cost by Packages'!BB30+'3.2Cost by Packages'!BF30+'3.2Cost by Packages'!BJ30+'3.2Cost by Packages'!BN30+'3.2Cost by Packages'!BR30+'3.2Cost by Packages'!BV30+'3.2Cost by Packages'!BZ30+'3.2Cost by Packages'!CD30+'3.2Cost by Packages'!CH30+'3.2Cost by Packages'!CL30+'3.2Cost by Packages'!CP30+'3.2Cost by Packages'!CT30+'3.2Cost by Packages'!CX30+'3.2Cost by Packages'!DB30+'3.2Cost by Packages'!DF30+'3.2Cost by Packages'!DJ30+'3.2Cost by Packages'!DN30+'3.2Cost by Packages'!DR30 -> 1737 | P28: ='3.2Cost by Packages'!P30+'3.2Cost by Packages'!T30+'3.2Cost by Packages'!X30+'3.2Cost by Packages'!AB30+'3.2Cost by Packages'!AF30+'3.2Cost by Packages'!AJ30+'3.2Cost by Packages'!AN30+'3.2Cost by Packages'!AR30+'3.2Cost by Packages'!AV30+'3.2Cost by Packages'!AZ30+'3.2Cost by Packages'!BD30+'3.2Cost by Packages'!BH30+'3.2Cost by Packages'!BL30+'3.2Cost by Packages'!BP30+'3.2Cost by Packages'!BT30+'3.2Cost by Packages'!BX30+'3.2Cost by Packages'!CB30+'3.2Cost by Packages'!CF30+'3.2Cost by Packages'!CJ30+'3.2Cost by Packages'!CN30+'3.2Cost by Packages'!CR30+'3.2Cost by Packages'!CV30+'3.2Cost by Packages'!CZ30+'3.2Cost by Packages'!DD30+'3.2Cost by Packages'!DH30+'3.2Cost by Packages'!DL30+'3.2Cost by Packages'!DP30+'3.2Cost by Packages'!DT30 -> 48410.19
A29: 3.8 | C29: Unconfined Compression Test | K29: (nos.) | L29: =ROUND(2745768/F89*(1-D90),2) -> 118.81 | N29: ='3.2Cost by Packages'!N31+'3.2Cost by Packages'!R31+'3.2Cost by Packages'!V31+'3.2Cost by Packages'!Z31+'3.2Cost by Packages'!AD31+'3.2Cost by Packages'!AH31+'3.2Cost by Packages'!AL31+'3.2Cost by Packages'!AP31+'3.2Cost by Packages'!AT31+'3.2Cost by Packages'!AX31+'3.2Cost by Packages'!BB31+'3.2Cost by Packages'!BF31+'3.2Cost by Packages'!BJ31+'3.2Cost by Packages'!BN31+'3.2Cost by Packages'!BR31+'3.2Cost by Packages'!BV31+'3.2Cost by Packages'!BZ31+'3.2Cost by Packages'!CD31+'3.2Cost by Packages'!CH31+'3.2Cost by Packages'!CL31+'3.2Cost by Packages'!CP31+'3.2Cost by Packages'!CT31+'3.2Cost by Packages'!CX31+'3.2Cost by Packages'!DB31+'3.2Cost by Packages'!DF31+'3.2Cost by Packages'!DJ31+'3.2Cost by Packages'!DN31+'3.2Cost by Packages'!DR31 -> 1036 | P29: ='3.2Cost by Packages'!P31+'3.2Cost by Packages'!T31+'3.2Cost by Packages'!X31+'3.2Cost by Packages'!AB31+'3.2Cost by Packages'!AF31+'3.2Cost by Packages'!AJ31+'3.2Cost by Packages'!AN31+'3.2Cost by Packages'!AR31+'3.2Cost by Packages'!AV31+'3.2Cost by Packages'!AZ31+'3.2Cost by Packages'!BD31+'3.2Cost by Packages'!BH31+'3.2Cost by Packages'!BL31+'3.2Cost by Packages'!BP31+'3.2Cost by Packages'!BT31+'3.2Cost by Packages'!BX31+'3.2Cost by Packages'!CB31+'3.2Cost by Packages'!CF31+'3.2Cost by Packages'!CJ31+'3.2Cost by Packages'!CN31+'3.2Cost by Packages'!CR31+'3.2Cost by Packages'!CV31+'3.2Cost by Packages'!CZ31+'3.2Cost by Packages'!DD31+'3.2Cost by Packages'!DH31+'3.2Cost by Packages'!DL31+'3.2Cost by Packages'!DP31+'3.2Cost by Packages'!DT31 -> 123087.16
A30: 3.9 | C30: Consolidation Test (Cv) | K30: (nos.) | L30: =ROUND(3357049/F89*(1-D90),2) -> 145.26 | N30: ='3.2Cost by Packages'!N32+'3.2Cost by Packages'!R32+'3.2Cost by Packages'!V32+'3.2Cost by Packages'!Z32+'3.2Cost by Packages'!AD32+'3.2Cost by Packages'!AH32+'3.2Cost by Packages'!AL32+'3.2Cost by Packages'!AP32+'3.2Cost by Packages'!AT32+'3.2Cost by Packages'!AX32+'3.2Cost by Packages'!BB32+'3.2Cost by Packages'!BF32+'3.2Cost by Packages'!BJ32+'3.2Cost by Packages'!BN32+'3.2Cost by Packages'!BR32+'3.2Cost by Packages'!BV32+'3.2Cost by Packages'!BZ32+'3.2Cost by Packages'!CD32+'3.2Cost by Packages'!CH32+'3.2Cost by Packages'!CL32+'3.2Cost by Packages'!CP32+'3.2Cost by Packages'!CT32+'3.2Cost by Packages'!CX32+'3.2Cost by Packages'!DB32+'3.2Cost by Packages'!DF32+'3.2Cost by Packages'!DJ32+'3.2Cost by Packages'!DN32+'3.2Cost by Packages'!DR32 -> 24 | P30: ='3.2Cost by Packages'!P32+'3.2Cost by Packages'!T32+'3.2Cost by Packages'!X32+'3.2Cost by Packages'!AB32+'3.2Cost by Packages'!AF32+'3.2Cost by Packages'!AJ32+'3.2Cost by Packages'!AN32+'3.2Cost by Packages'!AR32+'3.2Cost by Packages'!AV32+'3.2Cost by Packages'!AZ32+'3.2Cost by Packages'!BD32+'3.2Cost by Packages'!BH32+'3.2Cost by Packages'!BL32+'3.2Cost by Packages'!BP32+'3.2Cost by Packages'!BT32+'3.2Cost by Packages'!BX32+'3.2Cost by Packages'!CB32+'3.2Cost by Packages'!CF32+'3.2Cost by Packages'!CJ32+'3.2Cost by Packages'!CN32+'3.2Cost by Packages'!CR32+'3.2Cost by Packages'!CV32+'3.2Cost by Packages'!CZ32+'3.2Cost by Packages'!DD32+'3.2Cost by Packages'!DH32+'3.2Cost by Packages'!DL32+'3.2Cost by Packages'!DP32+'3.2Cost by Packages'!DT32 -> 3486.24
A31: 4 | C31: Interchange (IC) | N31: ='3.2Cost by Packages'!N33+'3.2Cost by Packages'!R33+'3.2Cost by Packages'!V33+'3.2Cost by Packages'!Z33+'3.2Cost by Packages'!AD33+'3.2Cost by Packages'!AH33+'3.2Cost by Packages'!AL33+'3.2Cost by Packages'!AP33+'3.2Cost by Packages'!AT33+'3.2Cost by Packages'!AX33+'3.2Cost by Packages'!BB33+'3.2Cost by Packages'!BF33+'3.2Cost by Packages'!BJ33+'3.2Cost by Packages'!BN33+'3.2Cost by Packages'!BR33+'3.2Cost by Packages'!BV33+'3.2Cost by Packages'!BZ33+'3.2Cost by Packages'!CD33+'3.2Cost by Packages'!CH33+'3.2Cost by Packages'!CL33+'3.2Cost by Packages'!CP33+'3.2Cost by Packages'!CT33+'3.2Cost by Packages'!CX33+'3.2Cost by Packages'!DB33+'3.2Cost by Packages'!DF33+'3.2Cost by Packages'!DJ33+'3.2Cost by Packages'!DN33+'3.2Cost by Packages'!DR33 -> 0 | P31: ='3.2Cost by Packages'!P33+'3.2Cost by Packages'!T33+'3.2Cost by Packages'!X33+'3.2Cost by Packages'!AB33+'3.2Cost by Packages'!AF33+'3.2Cost by Packages'!AJ33+'3.2Cost by Packages'!AN33+'3.2Cost by Packages'!AR33+'3.2Cost by Packages'!AV33+'3.2Cost by Packages'!AZ33+'3.2Cost by Packages'!BD33+'3.2Cost by Packages'!BH33+'3.2Cost by Packages'!BL33+'3.2Cost by Packages'!BP33+'3.2Cost by Packages'!BT33+'3.2Cost by Packages'!BX33+'3.2Cost by Packages'!CB33+'3.2Cost by Packages'!CF33+'3.2Cost by Packages'!CJ33+'3.2Cost by Packages'!CN33+'3.2Cost by Packages'!CR33+'3.2Cost by Packages'!CV33+'3.2Cost by Packages'!CZ33+'3.2Cost by Packages'!DD33+'3.2Cost by Packages'!DH33+'3.2Cost by Packages'!DL33+'3.2Cost by Packages'!DP33+'3.2Cost by Packages'!DT33 -> 14528.64
A32: 4.1 | C32: Mechanical Boring | I32: I-III (100%) | K32: (l.m.) | L32: =ROUND(1180473/F89*(1-D90),2) -> 51.08 | N32: ='3.2Cost by Packages'!N34+'3.2Cost by Packages'!R34+'3.2Cost by Packages'!V34+'3.2Cost by Packages'!Z34+'3.2Cost by Packages'!AD34+'3.2Cost by Packages'!AH34+'3.2Cost by Packages'!AL34+'3.2Cost by Packages'!AP34+'3.2Cost by Packages'!AT34+'3.2Cost by Packages'!AX34+'3.2Cost by Packages'!BB34+'3.2Cost by Packages'!BF34+'3.2Cost by Packages'!BJ34+'3.2Cost by Packages'!BN34+'3.2Cost by Packages'!BR34+'3.2Cost by Packages'!BV34+'3.2Cost by Packages'!BZ34+'3.2Cost by Packages'!CD34+'3.2Cost by Packages'!CH34+'3.2Cost by Packages'!CL34+'3.2Cost by Packages'!CP34+'3.2Cost by Packages'!CT34+'3.2Cost by Packages'!CX34+'3.2Cost by Packages'!DB34+'3.2Cost by Packages'!DF34+'3.2Cost by Packages'!DJ34+'3.2Cost by Packages'!DN34+'3.2Cost by Packages'!DR34 -> 210 | P32: ='3.2Cost by Packages'!P34+'3.2Cost by Packages'!T34+'3.2Cost by Packages'!X34+'3.2Cost by Packages'!AB34+'3.2Cost by Packages'!AF34+'3.2Cost by Packages'!AJ34+'3.2Cost by Packages'!AN34+'3.2Cost by Packages'!AR34+'3.2Cost by Packages'!AV34+'3.2Cost by Packages'!AZ34+'3.2Cost by Packages'!BD34+'3.2Cost by Packages'!BH34+'3.2Cost by Packages'!BL34+'3.2Cost by Packages'!BP34+'3.2Cost by Packages'!BT34+'3.2Cost by Packages'!BX34+'3.2Cost by Packages'!CB34+'3.2Cost by Packages'!CF34+'3.2Cost by Packages'!CJ34+'3.2Cost by Packages'!CN34+'3.2Cost by Packages'!CR34+'3.2Cost by Packages'!CV34+'3.2Cost by Packages'!CZ34+'3.2Cost by Packages'!DD34+'3.2Cost by Packages'!DH34+'3.2Cost by Packages'!DL34+'3.2Cost by Packages'!DP34+'3.2Cost by Packages'!DT34 -> 10726.8
A33: 4.2 | C33: Sampling | K33: (nos.) | L33: - | N33: ='3.2Cost by Packages'!N35+'3.2Cost by Packages'!R35+'3.2Cost by Packages'!V35+'3.2Cost by Packages'!Z35+'3.2Cost by Packages'!AD35+'3.2Cost by Packages'!AH35+'3.2Cost by Packages'!AL35+'3.2Cost by Packages'!AP35+'3.2Cost by Packages'!AT35+'3.2Cost by Packages'!AX35+'3.2Cost by Packages'!BB35+'3.2Cost by Packages'!BF35+'3.2Cost by Packages'!BJ35+'3.2Cost by Packages'!BN35+'3.2Cost by Packages'!BR35+'3.2Cost by Packages'!BV35+'3.2Cost by Packages'!BZ35+'3.2Cost by Packages'!CD35+'3.2Cost by Packages'!CH35+'3.2Cost by Packages'!CL35+'3.2Cost by Packages'!CP35+'3.2Cost by Packages'!CT35+'3.2Cost by Packages'!CX35+'3.2Cost by Packages'!DB35+'3.2Cost by Packages'!DF35+'3.2Cost by Packages'!DJ35+'3.2Cost by Packages'!DN35+'3.2Cost by Packages'!DR35 -> 112 | P33: -
A34: 4.3 | C34: Standard Penetration Test (SPT) | K34: (points) | L34: =ROUND(368889/F89*(1-D90),2) -> 15.96 | N34: ='3.2Cost by Packages'!N36+'3.2Cost by Packages'!R36+'3.2Cost by Packages'!V36+'3.2Cost by Packages'!Z36+'3.2Cost by Packages'!AD36+'3.2Cost by Packages'!AH36+'3.2Cost by Packages'!AL36+'3.2Cost by Packages'!AP36+'3.2Cost by Packages'!AT36+'3.2Cost by Packages'!AX36+'3.2Cost by Packages'!BB36+'3.2Cost by Packages'!BF36+'3.2Cost by Packages'!BJ36+'3.2Cost by Packages'!BN36+'3.2Cost by Packages'!BR36+'3.2Cost by Packages'!BV36+'3.2Cost by Packages'!BZ36+'3.2Cost by Packages'!CD36+'3.2Cost by Packages'!CH36+'3.2Cost by Packages'!CL36+'3.2Cost by Packages'!CP36+'3.2Cost by Packages'!CT36+'3.2Cost by Packages'!CX36+'3.2Cost by Packages'!DB36+'3.2Cost by Packages'!DF36+'3.2Cost by Packages'!DJ36+'3.2Cost by Packages'!DN36+'3.2Cost by Packages'!DR36 -> 112 | P34: ='3.2Cost by Packages'!P36+'3.2Cost by Packages'!T36+'3.2Cost by Packages'!X36+'3.2Cost by Packages'!AB36+'3.2Cost by Packages'!AF36+'3.2Cost by Packages'!AJ36+'3.2Cost by Packages'!AN36+'3.2Cost by Packages'!AR36+'3.2Cost by Packages'!AV36+'3.2Cost by Packages'!AZ36+'3.2Cost by Packages'!BD36+'3.2Cost by Packages'!BH36+'3.2Cost by Packages'!BL36+'3.2Cost by Packages'!BP36+'3.2Cost by Packages'!BT36+'3.2Cost by Packages'!BX36+'3.2Cost by Packages'!CB36+'3.2Cost by Packages'!CF36+'3.2Cost by Packages'!CJ36+'3.2Cost by Packages'!CN36+'3.2Cost by Packages'!CR36+'3.2Cost by Packages'!CV36+'3.2Cost by Packages'!CZ36+'3.2Cost by Packages'!DD36+'3.2Cost by Packages'!DH36+'3.2Cost by Packages'!DL36+'3.2Cost by Packages'!DP36+'3.2Cost by Packages'!DT36 -> 1787.52
A35: 4.4 | C35: Undisturbed Sample Test | K35: (nos.) | L35: =ROUND(1018620/F89*(1-D90),2) -> 44.07 | N35: ='3.2Cost by Packages'!N37+'3.2Cost by Packages'!R37+'3.2Cost by Packages'!V37+'3.2Cost by Packages'!Z37+'3.2Cost by Packages'!AD37+'3.2Cost by Packages'!AH37+'3.2Cost by Packages'!AL37+'3.2Cost by Packages'!AP37+'3.2Cost by Packages'!AT37+'3.2Cost by Packages'!AX37+'3.2Cost by Packages'!BB37+'3.2Cost by Packages'!BF37+'3.2Cost by Packages'!BJ37+'3.2Cost by Packages'!BN37+'3.2Cost by Packages'!BR37+'3.2Cost by Packages'!BV37+'3.2Cost by Packages'!BZ37+'3.2Cost by Packages'!CD37+'3.2Cost by Packages'!CH37+'3.2Cost by Packages'!CL37+'3.2Cost by Packages'!CP37+'3.2Cost by Packages'!CT37+'3.2Cost by Packages'!CX37+'3.2Cost by Packages'!DB37+'3.2Cost by Packages'!DF37+'3.2Cost by Packages'!DJ37+'3.2Cost by Packages'!DN37+'3.2Cost by Packages'!DR37 -> 28 | P35: ='3.2Cost by Packages'!P37+'3.2Cost by Packages'!T37+'3.2Cost by Packages'!X37+'3.2Cost by Packages'!AB37+'3.2Cost by Packages'!AF37+'3.2Cost by Packages'!AJ37+'3.2Cost by Packages'!AN37+'3.2Cost by Packages'!AR37+'3.2Cost by Packages'!AV37+'3.2Cost by Packages'!AZ37+'3.2Cost by Packages'!BD37+'3.2Cost by Packages'!BH37+'3.2Cost by Packages'!BL37+'3.2Cost by Packages'!BP37+'3.2Cost by Packages'!BT37+'3.2Cost by Packages'!BX37+'3.2Cost by Packages'!CB37+'3.2Cost by Packages'!CF37+'3.2Cost by Packages'!CJ37+'3.2Cost by Packages'!CN37+'3.2Cost by Packages'!CR37+'3.2Cost by Packages'!CV37+'3.2Cost by Packages'!CZ37+'3.2Cost by Packages'!DD37+'3.2Cost by Packages'!DH37+'3.2Cost by Packages'!DL37+'3.2Cost by Packages'!DP37+'3.2Cost by Packages'!DT37 -> 1233.96
A36: 4.5 | C36: Disturbed Sample Test | K36: (nos.) | L36: =ROUND(644053/F89*(1-D90),2) -> 27.87 | N36: ='3.2Cost by Packages'!N38+'3.2Cost by Packages'!R38+'3.2Cost by Packages'!V38+'3.2Cost by Packages'!Z38+'3.2Cost by Packages'!AD38+'3.2Cost by Packages'!AH38+'3.2Cost by Packages'!AL38+'3.2Cost by Packages'!AP38+'3.2Cost by Packages'!AT38+'3.2Cost by Packages'!AX38+'3.2Cost by Packages'!BB38+'3.2Cost by Packages'!BF38+'3.2Cost by Packages'!BJ38+'3.2Cost by Packages'!BN38+'3.2Cost by Packages'!BR38+'3.2Cost by Packages'!BV38+'3.2Cost by Packages'!BZ38+'3.2Cost by Packages'!CD38+'3.2Cost by Packages'!CH38+'3.2Cost by Packages'!CL38+'3.2Cost by Packages'!CP38+'3.2Cost by Packages'!CT38+'3.2Cost by Packages'!CX38+'3.2Cost by Packages'!DB38+'3.2Cost by Packages'!DF38+'3.2Cost by Packages'!DJ38+'3.2Cost by Packages'!DN38+'3.2Cost by Packages'!DR38 -> 28 | P36: ='3.2Cost by Packages'!P38+'3.2Cost by Packages'!T38+'3.2Cost by Packages'!X38+'3.2Cost by Packages'!AB38+'3.2Cost by Packages'!AF38+'3.2Cost by Packages'!AJ38+'3.2Cost by Packages'!AN38+'3.2Cost by Packages'!AR38+'3.2Cost by Packages'!AV38+'3.2Cost by Packages'!AZ38+'3.2Cost by Packages'!BD38+'3.2Cost by Packages'!BH38+'3.2Cost by Packages'!BL38+'3.2Cost by Packages'!BP38+'3.2Cost by Packages'!BT38+'3.2Cost by Packages'!BX38+'3.2Cost by Packages'!CB38+'3.2Cost by Packages'!CF38+'3.2Cost by Packages'!CJ38+'3.2Cost by Packages'!CN38+'3.2Cost by Packages'!CR38+'3.2Cost by Packages'!CV38+'3.2Cost by Packages'!CZ38+'3.2Cost by Packages'!DD38+'3.2Cost by Packages'!DH38+'3.2Cost by Packages'!DL38+'3.2Cost by Packages'!DP38+'3.2Cost by Packages'!DT38 -> 780.36
