Workbook
Name becoc: #REF!
Name becoc: #REF!
Name becoc: #REF!
Name becoc: #REF!
Name becoc: #REF!
Name bemo: #REF!
Name bemo: #REF!
Name bemo: #REF!
Name bemo: #REF!
Name Caungang: '[1]Cau Vuot ngang'!$B$9:$AF$27
Name Caungang: '[1]Cau Vuot ngang'!$B$9:$AF$27
Name Caungang: '[2]Cau Vuot ngang'!$B$9:$AF$27
Name CHT: #REF!
Name CHT: #REF!
Name CHT: #REF!
Name CHT: #REF!
Name CHT: #REF!
Name DGDAM: #REF!
Name DGDAM: #REF!
Name DGDAM: #REF!
Name DGDAM: #REF!
Name DGDAM: #REF!
Name DT: #REF!
Name DT: #REF!
Name DT: #REF!
Name DT: #REF!
Name DT: #REF!
Name KL: #REF!
Name KL: #REF!
Name KL: #REF!
Name KL: #REF!
Name Rong: #REF!
Name Rong: #REF!
Name Rong: #REF!
Name Rong: #REF!
Name Rong: #REF!
Name SLmo: #REF!
Name SLmo: #REF!
Name SLmo: #REF!
Name SLmo: #REF!
Name SLmo: #REF!
Name TONGHOP: #REF!
Name TONGHOP: #REF!
Name TONGHOP: #REF!
Name TONGHOP: #REF!
Name TONGHOP: #REF!
Name trcan: #REF!
Name trcan: #REF!
Name trcan: #REF!
Name trcan: #REF!
Name Trunuoc: #REF!
Name Trunuoc: #REF!
Name Trunuoc: #REF!
Name Trunuoc: #REF!

Sheet Chronicle
B3: Case1
B6: Case4 | C6: 110803 | D6: 工区分の変更
D8: DDコンサルで66%、VECCが14%で合計80%
B9: Case3 | C9: 110713 | D9: TEDIヘルプシナリオ
C11: 110521 | D11: Explained to PMU85/MrCanh
B12: Case2 | D12: 金額ベースのデマケ
D13: DDコンサルで60%、VECCが14%で合計74%
C15: 110427a | D15: VEC協議後、BMTとINPELを入れ替えた。
C16: 110427 | D16: Explained to VEC/MrSanh
B17: Case1 | D17: 距離ベースのデマケ

Sheet Case4_Summary
E4: 1 | F4: 2 | G4: 3 | H4: 4 | I4: 5 | J4: 6 | K4: 7 | L4: 8 | M4: 9 | N4: 10 | O4: 11 | P4: 12
D5: Total | E5: TEDI | F5: TEDI-S | G5: 533 | H5: VECC | I5: TienKhai | J5: INPEL | K5: EGS | L5: BMT | M5: ThanhCong | N5: TanPhat | O5: ATH | P5: ICTC
B7: Topo (2011.09)
C8: Control Point | D8: =SUM(E8:P8) -> 88678.231 | E8: =Case4_TopoCost0903!T5 -> 88678.231
D9: =D8/$D$8 -> 1 | E9: =E8/$D$8 -> 1
C10: Road | D10: =SUM(E10:P10) -> 0 | E10: =Case4_TopoCost0903!T34-E8 -> 0 | F10: =Case4_TopoCost0903!U34 -> 0 | G10: =Case4_TopoCost0903!V34 -> 0 | H10: =Case4_TopoCost0903!W34 -> 0 | I10: 0 | J10: 0 | K10: =Case4_TopoCost0903!X34 -> 0 | L10: 0 | M10: 0 | N10: 0 | O10: 0 | P10: 0 | Q10: =D10+D8 -> 88678.231
D11: =D10/$D$10 -> #DIV/0! | E11: =E10/$D$10 -> #DIV/0! | F11: =F10/$D$10 -> #DIV/0! | G11: =G10/$D$10 -> #DIV/0! | H11: =H10/$D$10 -> #DIV/0! | I11: =I10/$D$10 -> #DIV/0! | J11: =J10/$D$10 -> #DIV/0! | K11: =K10/$D$10 -> #DIV/0! | L11: =L10/$D$10 -> #DIV/0!
B13: Geo (2011.09) | D13: =SUM(E13:P13) -> 0 | E13: =Case4_GeoCost0903!X32 -> 0 | F13: =Case4_GeoCost0903!Y32 -> 0 | G13: =Case4_GeoCost0903!Z32 -> 0 | H13: =Case4_GeoCost0903!AA32 -> 0 | I13: =Case4_GeoCost0903!AB32 -> 0 | J13: =Case4_GeoCost0903!AC32 -> 0 | K13: =Case4_GeoCost0903!AD32 -> 0 | L13: =Case4_GeoCost0903!AE32 -> 0 | ... P13: =Case4_GeoCost0903!AI32 -> 0
D14: =D13/$D$13 -> #DIV/0! | E14: =E13/$D$13 -> #DIV/0! | F14: =F13/$D$13 -> #DIV/0! | G14: =G13/$D$13 -> #DIV/0! | H14: =H13/$D$13 -> #DIV/0! | I14: =I13/$D$13 -> #DIV/0! | J14: =J13/$D$13 -> #DIV/0! | K14: =K13/$D$13 -> #DIV/0! | ... P14: =P13/$D$13 -> #DIV/0!
B16: Hydrological | E16: 211808
B18: Material Source | E18: 17565
B20: Traffic | E20: 6000
B22: Total | D22: =SUM(E22:P22) -> #DIV/0! | E22: =SUM(E8:E20) -> #DIV/0! | F22: =SUM(F8:F20) -> #DIV/0! | G22: =SUM(G8:G20) -> #DIV/0! | H22: =SUM(H8:H20) -> #DIV/0! | I22: =SUM(I8:I20) -> #DIV/0! | J22: =SUM(J8:J20) -> #DIV/0! | K22: =SUM(K8:K20) -> #DIV/0! | L22: =SUM(L8:L20) -> #DIV/0! | ... P22: =SUM(P8:P20) -> #DIV/0!
D23: =D22/$D$22 -> #DIV/0! | E23: =E22/$D$22 -> #DIV/0! | F23: =F22/$D$22 -> #DIV/0! | G23: =G22/$D$22 -> #DIV/0! | H23: =H22/$D$22 -> #DIV/0! | I23: =I22/$D$22 -> #DIV/0! | J23: =J22/$D$22 -> #DIV/0! | K23: =K22/$D$22 -> #DIV/0! | ... P23: =P22/$D$22 -> #DIV/0!
E24: =E23 -> #DIV/0! | F24: =E24+F23 -> #DIV/0! | G24: =F24+G23 -> #DIV/0! | H24: =G24+H23 -> #DIV/0!

Sheet Case4_GeoCost0903
A2: Jurisdiction | C2: Road | E2: Construction Contract Package (Civil Works) | K2: Survey Package | T2: Cost (USD) | V2: Topo | W2: Geo | X2: 1 | Y2: 2 | Z2: 3 | AA2: 4 | AB2: 5 | AC2: 6 | AD2: 7 | AE2: 8 | AF2: 9 | AG2: 10 | AH2: 11 | AI2: 12
C3: Classification | E3: No. | F3: Section | I3: Length | K3: No. | M3: Section | P3: Equation | R3: Length | T3: (Proposal) | V3: Firm | W3: Firm | X3: TEDI | Y3: TEDI-S | Z3: 533 | AA3: VECC | AB3: TienKhai | AC3: INPEL | AD3: EGS | AE3: BMT | AF3: ThanhCong | AG3: TanPhat | AH3: ATH | AI3: ICTC
B4: Danang | D4: Expressway | E4: PKG01 | F4: -800 | G4: - | H4: 8000 | I4: =(H4-F4)-P4-P5 -> 8800 | K4: 1 | L4: ML01-1 | M4: -800 | N4: - | O4: 4000 | P4: 0 | R4: =O4-M4-P4 -> 4800 | V4: VECC | W4: VECC | X4: =IF($W4="TEDI",$T4,0) -> 0 | Y4: =IF($W4="TEDI-S",$T4,0) -> 0 | Z4: =IF($W4=533,$T4,0) -> 0 | AA4: =IF($W4="VECC",$T4,0) -> 0 | AB4: =IF($W4="TienKhai",$T4,0) -> 0 | AC4: =IF($W4="INPEL",$T4,0) -> 0 | AD4: =IF($W4="EGS",$T4,0) -> 0 | AE4: =IF($W4="BMT",$T4,0) -> 0 | AF4: =IF($W4="ThanhCong",$T4,0) -> 0 | AG4: =IF($W4="TanPhat",$T4,0) -> 0 | AH4: =IF($W4="ATH",$T4,0) -> 0 | AI4: =IF($W4="ICTC",$T4,0) -> 0
K5: =K4+1 -> 2 | L5: ML01-2 | M5: 4000 | N5: - | O5: 8000 | P5: 0 | R5: =O5-M5-P5 -> 4000 | V5: VECC | W5: VECC | X5: =IF($W5="TEDI",$T5,0) -> 0 | Y5: =IF($W5="TEDI-S",$T5,0) -> 0 | Z5: =IF($W5=533,$T5,0) -> 0 | AA5: =IF($W5="VECC",$T5,0) -> 0 | AB5: =IF($W5="TienKhai",$T5,0) -> 0 | AC5: =IF($W5="INPEL",$T5,0) -> 0 | AD5: =IF($W5="EGS",$T5,0) -> 0 | AE5: =IF($W5="BMT",$T5,0) -> 0 | AF5: =IF($W5="ThanhCong",$T5,0) -> 0 | AG5: =IF($W5="TanPhat",$T5,0) -> 0 | AH5: =IF($W5="ATH",$T5,0) -> 0 | AI5: =IF($W5="ICTC",$T5,0) -> 0
B6: Quang Nam | E6: PKG02 | F6: 8000 | G6: - | H6: 17000 | I6: =(H6-F6)-P6-P7 -> 9000 | K6: =K5+1 -> 3 | L6: ML02-1 | M6: 8000 | N6: - | O6: 13000 | P6: 0 | R6: =O6-M6-P6 -> 5000 | V6: VECC | W6: ThanhCong | X6: =IF($W6="TEDI",$T6,0) -> 0 | Y6: =IF($W6="TEDI-S",$T6,0) -> 0 | Z6: =IF($W6=533,$T6,0) -> 0 | AA6: =IF($W6="VECC",$T6,0) -> 0 | AB6: =IF($W6="TienKhai",$T6,0) -> 0 | AC6: =IF($W6="INPEL",$T6,0) -> 0 | AD6: =IF($W6="EGS",$T6,0) -> 0 | AE6: =IF($W6="BMT",$T6,0) -> 0 | AF6: =IF($W6="ThanhCong",$T6,0) -> 0 | AG6: =IF($W6="TanPhat",$T6,0) -> 0 | AH6: =IF($W6="ATH",$T6,0) -> 0 | AI6: =IF($W6="ICTC",$T6,0) -> 0
K7: =K6+1 -> 4 | L7: ML02-2 | M7: 13000 | N7: - | O7: 17000 | P7: 0 | R7: =O7-M7-P7 -> 4000 | V7: VECC | W7: ThanhCong | X7: =IF($W7="TEDI",$T7,0) -> 0 | Y7: =IF($W7="TEDI-S",$T7,0) -> 0 | Z7: =IF($W7=533,$T7,0) -> 0 | AA7: =IF($W7="VECC",$T7,0) -> 0 | AB7: =IF($W7="TienKhai",$T7,0) -> 0 | AC7: =IF($W7="INPEL",$T7,0) -> 0 | AD7: =IF($W7="EGS",$T7,0) -> 0 | AE7: =IF($W7="BMT",$T7,0) -> 0 | AF7: =IF($W7="ThanhCong",$T7,0) -> 0 | AG7: =IF($W7="TanPhat",$T7,0) -> 0 | AH7: =IF($W7="ATH",$T7,0) -> 0 | AI7: =IF($W7="ICTC",$T7,0) -> 0
E8: PKG03 | F8: 17000 | G8: - | H8: 22000 | I8: =(H8-F8)-P8 -> 5059.78 | K8: =K7+1 -> 5 | L8: ML03-1 | M8: 17000 | N8: - | O8: 22000 | P8: -59.78 | R8: =O8-M8-P8 -> 5059.78 | V8: TEDI | W8: TEDI | X8: =IF($W8="TEDI",$T8,0) -> 0 | Y8: =IF($W8="TEDI-S",$T8,0) -> 0 | Z8: =IF($W8=533,$T8,0) -> 0 | AA8: =IF($W8="VECC",$T8,0) -> 0 | AB8: =IF($W8="TienKhai",$T8,0) -> 0 | AC8: =IF($W8="INPEL",$T8,0) -> 0 | AD8: =IF($W8="EGS",$T8,0) -> 0 | AE8: =IF($W8="BMT",$T8,0) -> 0 | AF8: =IF($W8="ThanhCong",$T8,0) -> 0 | AG8: =IF($W8="TanPhat",$T8,0) -> 0 | AH8: =IF($W8="ATH",$T8,0) -> 0 | AI8: =IF($W8="ICTC",$T8,0) -> 0
E9: PKG04 | F9: 22000 | G9: - | H9: 32000 | I9: =(H9-F9)-P9-P10 -> 10000 | K9: =K8+1 -> 6 | L9: ML04-1 | M9: 22000 | N9: - | O9: 26800 | P9: 0 | R9: =O9-M9-P9 -> 4800 | V9: EGS | W9: EGS | X9: =IF($W9="TEDI",$T9,0) -> 0 | Y9: =IF($W9="TEDI-S",$T9,0) -> 0 | Z9: =IF($W9=533,$T9,0) -> 0 | AA9: =IF($W9="VECC",$T9,0) -> 0 | AB9: =IF($W9="TienKhai",$T9,0) -> 0 | AC9: =IF($W9="INPEL",$T9,0) -> 0 | AD9: =IF($W9="EGS",$T9,0) -> 0 | AE9: =IF($W9="BMT",$T9,0) -> 0 | AF9: =IF($W9="ThanhCong",$T9,0) -> 0 | AG9: =IF($W9="TanPhat",$T9,0) -> 0 | AH9: =IF($W9="ATH",$T9,0) -> 0 | AI9: =IF($W9="ICTC",$T9,0) -> 0
K10: =K9+1 -> 7 | L10: ML04-2 | M10: 26800 | N10: - | O10: 32000 | P10: 0 | R10: =O10-M10-P10 -> 5200 | V10: EGS | W10: ICTC | X10: =IF($W10="TEDI",$T10,0) -> 0 | Y10: =IF($W10="TEDI-S",$T10,0) -> 0 | Z10: =IF($W10=533,$T10,0) -> 0 | AA10: =IF($W10="VECC",$T10,0) -> 0 | AB10: =IF($W10="TienKhai",$T10,0) -> 0 | AC10: =IF($W10="INPEL",$T10,0) -> 0 | AD10: =IF($W10="EGS",$T10,0) -> 0 | AE10: =IF($W10="BMT",$T10,0) -> 0 | AF10: =IF($W10="ThanhCong",$T10,0) -> 0 | AG10: =IF($W10="TanPhat",$T10,0) -> 0 | AH10: =IF($W10="ATH",$T10,0) -> 0 | AI10: =IF($W10="ICTC",$T10,0) -> 0
E11: PKG05 | F11: 32000 | G11: - | H11: 42000 | I11: =(H11-F11)-P11-P12 -> 10000 | K11: =K10+1 -> 8 | L11: ML05-1 | M11: 32000 | N11: - | O11: 35000 | P11: 0 | R11: =O11-M11-P11 -> 3000 | V11: TEDI | W11: TEDI-S | X11: =IF($W11="TEDI",$T11,0) -> 0 | Y11: =IF($W11="TEDI-S",$T11,0) -> 0 | Z11: =IF($W11=533,$T11,0) -> 0 | AA11: =IF($W11="VECC",$T11,0) -> 0 | AB11: =IF($W11="TienKhai",$T11,0) -> 0 | AC11: =IF($W11="INPEL",$T11,0) -> 0 | AD11: =IF($W11="EGS",$T11,0) -> 0 | AE11: =IF($W11="BMT",$T11,0) -> 0 | AF11: =IF($W11="ThanhCong",$T11,0) -> 0 | AG11: =IF($W11="TanPhat",$T11,0) -> 0 | AH11: =IF($W11="ATH",$T11,0) -> 0 | AI11: =IF($W11="ICTC",$T11,0) -> 0
K12: =K11+1 -> 9 | L12: ML05-2 | M12: 35000 | N12: - | O12: 42000 | P12: 0 | R12: =O12-M12-P12 -> 7000 | V12: TEDI-S | W12: TEDI-S | X12: =IF($W12="TEDI",$T12,0) -> 0 | Y12: =IF($W12="TEDI-S",$T12,0) -> 0 | Z12: =IF($W12=533,$T12,0) -> 0 | AA12: =IF($W12="VECC",$T12,0) -> 0 | AB12: =IF($W12="TienKhai",$T12,0) -> 0 | AC12: =IF($W12="INPEL",$T12,0) -> 0 | AD12: =IF($W12="EGS",$T12,0) -> 0 | AE12: =IF($W12="BMT",$T12,0) -> 0 | AF12: =IF($W12="ThanhCong",$T12,0) -> 0 | AG12: =IF($W12="TanPhat",$T12,0) -> 0 | AH12: =IF($W12="ATH",$T12,0) -> 0 | AI12: =IF($W12="ICTC",$T12,0) -> 0
E13: PKG06 | F13: 42000 | G13: - | H13: 52000 | I13: =(H13-F13)-P13-P14 -> 10000 | K13: =K12+1 -> 10 | L13: ML06-1 | M13: 42000 | N13: - | O13: 46600 | P13: 0 | R13: =O13-M13-P13 -> 4600 | V13: TEDI-S | W13: TanPhat | X13: =IF($W13="TEDI",$T13,0) -> 0 | Y13: =IF($W13="TEDI-S",$T13,0) -> 0 | Z13: =IF($W13=533,$T13,0) -> 0 | AA13: =IF($W13="VECC",$T13,0) -> 0 | AB13: =IF($W13="TienKhai",$T13,0) -> 0 | AC13: =IF($W13="INPEL",$T13,0) -> 0 | AD13: =IF($W13="EGS",$T13,0) -> 0 | AE13: =IF($W13="BMT",$T13,0) -> 0 | AF13: =IF($W13="ThanhCong",$T13,0) -> 0 | AG13: =IF($W13="TanPhat",$T13,0) -> 0 | AH13: =IF($W13="ATH",$T13,0) -> 0 | AI13: =IF($W13="ICTC",$T13,0) -> 0
K14: =K13+1 -> 11 | L14: ML06-2 | M14: 46600 | N14: - | O14: 52000 | P14: 0 | R14: =O14-M14-P14 -> 5400 | V14: TEDI-S | W14: TanPhat | X14: =IF($W14="TEDI",$T14,0) -> 0 | Y14: =IF($W14="TEDI-S",$T14,0) -> 0 | Z14: =IF($W14=533,$T14,0) -> 0 | AA14: =IF($W14="VECC",$T14,0) -> 0 | AB14: =IF($W14="TienKhai",$T14,0) -> 0 | AC14: =IF($W14="INPEL",$T14,0) -> 0 | AD14: =IF($W14="EGS",$T14,0) -> 0 | AE14: =IF($W14="BMT",$T14,0) -> 0 | AF14: =IF($W14="ThanhCong",$T14,0) -> 0 | AG14: =IF($W14="TanPhat",$T14,0) -> 0 | AH14: =IF($W14="ATH",$T14,0) -> 0 | AI14: =IF($W14="ICTC",$T14,0) -> 0
E15: PKG07 | F15: 52000 | G15: - | H15: 65000 | I15: =(H15-F15)-P15-P16-P17 -> 13000 | K15: =K14+1 -> 12 | L15: ML07-1 | M15: 52000 | N15: - | O15: 56000 | P15: 0 | R15: =O15-M15-P15 -> 4000 | V15: 533 | W15: 533 | X15: =IF($W15="TEDI",$T15,0) -> 0 | Y15: =IF($W15="TEDI-S",$T15,0) -> 0 | Z15: =IF($W15=533,$T15,0) -> 0 | AA15: =IF($W15="VECC",$T15,0) -> 0 | AB15: =IF($W15="TienKhai",$T15,0) -> 0 | AC15: =IF($W15="INPEL",$T15,0) -> 0 | AD15: =IF($W15="EGS",$T15,0) -> 0 | AE15: =IF($W15="BMT",$T15,0) -> 0 | AF15: =IF($W15="ThanhCong",$T15,0) -> 0 | AG15: =IF($W15="TanPhat",$T15,0) -> 0 | AH15: =IF($W15="ATH",$T15,0) -> 0 | AI15: =IF($W15="ICTC",$T15,0) -> 0
K16: =K15+1 -> 13 | L16: ML07-2 | M16: 56000 | N16: - | O16: 60000 | P16: 0 | R16: =O16-M16-P16 -> 4000 | V16: 533 | W16: 533 | X16: =IF($W16="TEDI",$T16,0) -> 0 | Y16: =IF($W16="TEDI-S",$T16,0) -> 0 | Z16: =IF($W16=533,$T16,0) -> 0 | AA16: =IF($W16="VECC",$T16,0) -> 0 | AB16: =IF($W16="TienKhai",$T16,0) -> 0 | AC16: =IF($W16="INPEL",$T16,0) -> 0 | AD16: =IF($W16="EGS",$T16,0) -> 0 | AE16: =IF($W16="BMT",$T16,0) -> 0 | AF16: =IF($W16="ThanhCong",$T16,0) -> 0 | AG16: =IF($W16="TanPhat",$T16,0) -> 0 | AH16: =IF($W16="ATH",$T16,0) -> 0 | AI16: =IF($W16="ICTC",$T16,0) -> 0
K17: =K16+1 -> 14 | L17: ML07-3 | M17: 60000 | N17: - | O17: 65000 | P17: 0 | R17: =O17-M17-P17 -> 5000 | V17: 533 | W17: 533 | X17: =IF($W17="TEDI",$T17,0) -> 0 | Y17: =IF($W17="TEDI-S",$T17,0) -> 0 | Z17: =IF($W17=533,$T17,0) -> 0 | AA17: =IF($W17="VECC",$T17,0) -> 0 | AB17: =IF($W17="TienKhai",$T17,0) -> 0 | AC17: =IF($W17="INPEL",$T17,0) -> 0 | AD17: =IF($W17="EGS",$T17,0) -> 0 | AE17: =IF($W17="BMT",$T17,0) -> 0 | AF17: =IF($W17="ThanhCong",$T17,0) -> 0 | AG17: =IF($W17="TanPhat",$T17,0) -> 0 | AH17: =IF($W17="ATH",$T17,0) -> 0 | AI17: =IF($W17="ICTC",$T17,0) -> 0
E18: PKGA1 | F18: 65000 | G18: - | H18: 81500 | I18: =(H18-F18)-P18-P19-P20 -> 16557.32 | K18: =K17+1 -> 15 | L18: MLA1-1 | M18: 65000 | N18: - | O18: 70000 | P18: 0 | R18: =O18-M18-P18 -> 5000 | V18: TEDI | W18: ATH | X18: =IF($W18="TEDI",$T18,0) -> 0 | Y18: =IF($W18="TEDI-S",$T18,0) -> 0 | Z18: =IF($W18=533,$T18,0) -> 0 | AA18: =IF($W18="VECC",$T18,0) -> 0 | AB18: =IF($W18="TienKhai",$T18,0) -> 0 | AC18: =IF($W18="INPEL",$T18,0) -> 0 | AD18: =IF($W18="EGS",$T18,0) -> 0 | AE18: =IF($W18="BMT",$T18,0) -> 0 | AF18: =IF($W18="ThanhCong",$T18,0) -> 0 | AG18: =IF($W18="TanPhat",$T18,0) -> 0 | AH18: =IF($W18="ATH",$T18,0) -> 0 | AI18: =IF($W18="ICTC",$T18,0) -> 0
K19: =K18+1 -> 16 | L19: MLA1-2 | M19: 70000 | N19: - | O19: 76000 | P19: -57.32 | R19: =O19-M19-P19 -> 6057.32 | V19: TEDI | W19: ATH | X19: =IF($W19="TEDI",$T19,0) -> 0 | Y19: =IF($W19="TEDI-S",$T19,0) -> 0 | Z19: =IF($W19=533,$T19,0) -> 0 | AA19: =IF($W19="VECC",$T19,0) -> 0 | AB19: =IF($W19="TienKhai",$T19,0) -> 0 | AC19: =IF($W19="INPEL",$T19,0) -> 0 | AD19: =IF($W19="EGS",$T19,0) -> 0 | AE19: =IF($W19="BMT",$T19,0) -> 0 | AF19: =IF($W19="ThanhCong",$T19,0) -> 0 | AG19: =IF($W19="TanPhat",$T19,0) -> 0 | AH19: =IF($W19="ATH",$T19,0) -> 0 | AI19: =IF($W19="ICTC",$T19,0) -> 0
K20: =K19+1 -> 17 | L20: MLA1-3 | M20: 76000 | N20: - | O20: 81500 | P20: 0 | R20: =O20-M20-P20 -> 5500 | V20: TEDI | W20: INPEL | X20: =IF($W20="TEDI",$T20,0) -> 0 | Y20: =IF($W20="TEDI-S",$T20,0) -> 0 | Z20: =IF($W20=533,$T20,0) -> 0 | AA20: =IF($W20="VECC",$T20,0) -> 0 | AB20: =IF($W20="TienKhai",$T20,0) -> 0 | AC20: =IF($W20="INPEL",$T20,0) -> 0 | AD20: =IF($W20="EGS",$T20,0) -> 0 | AE20: =IF($W20="BMT",$T20,0) -> 0 | AF20: =IF($W20="ThanhCong",$T20,0) -> 0 | AG20: =IF($W20="TanPhat",$T20,0) -> 0 | AH20: =IF($W20="ATH",$T20,0) -> 0 | AI20: =IF($W20="ICTC",$T20,0) -> 0
E21: PKGA2 | F21: 81500 | G21: - | H21: 100000 | I21: =(H21-F21)-P21-P22-P23 -> 18200 | K21: =K20+1 -> 18 | L21: MLA2-1 | M21: 81500 | N21: - | O21: 87000 | P21: 0 | R21: =O21-M21-P21 -> 5500 | V21: TEDI | W21: INPEL | X21: =IF($W21="TEDI",$T21,0) -> 0 | Y21: =IF($W21="TEDI-S",$T21,0) -> 0 | Z21: =IF($W21=533,$T21,0) -> 0 | AA21: =IF($W21="VECC",$T21,0) -> 0 | AB21: =IF($W21="TienKhai",$T21,0) -> 0 | AC21: =IF($W21="INPEL",$T21,0) -> 0 | AD21: =IF($W21="EGS",$T21,0) -> 0 | AE21: =IF($W21="BMT",$T21,0) -> 0 | AF21: =IF($W21="ThanhCong",$T21,0) -> 0 | AG21: =IF($W21="TanPhat",$T21,0) -> 0 | AH21: =IF($W21="ATH",$T21,0) -> 0 | AI21: =IF($W21="ICTC",$T21,0) -> 0
K22: =K21+1 -> 19 | L22: MLA2-2 | M22: 87000 | N22: - | O22: 93000 | P22: 0 | R22: =O22-M22-P22 -> 6000 | V22: TEDI | W22: ThanhCong | X22: =IF($W22="TEDI",$T22,0) -> 0 | Y22: =IF($W22="TEDI-S",$T22,0) -> 0 | Z22: =IF($W22=533,$T22,0) -> 0 | AA22: =IF($W22="VECC",$T22,0) -> 0 | AB22: =IF($W22="TienKhai",$T22,0) -> 0 | AC22: =IF($W22="INPEL",$T22,0) -> 0 | AD22: =IF($W22="EGS",$T22,0) -> 0 | AE22: =IF($W22="BMT",$T22,0) -> 0 | AF22: =IF($W22="ThanhCong",$T22,0) -> 0 | AG22: =IF($W22="TanPhat",$T22,0) -> 0 | AH22: =IF($W22="ATH",$T22,0) -> 0 | AI22: =IF($W22="ICTC",$T22,0) -> 0
K23: =K22+1 -> 20 | L23: MLA2-3 | M23: 93000 | N23: - | O23: 100000 | P23: 300 | R23: =O23-M23-P23 -> 6700 | V23: TEDI | W23: ThanhCong | X23: =IF($W23="TEDI",$T23,0) -> 0 | Y23: =IF($W23="TEDI-S",$T23,0) -> 0 | Z23: =IF($W23=533,$T23,0) -> 0 | AA23: =IF($W23="VECC",$T23,0) -> 0 | AB23: =IF($W23="TienKhai",$T23,0) -> 0 | AC23: =IF($W23="INPEL",$T23,0) -> 0 | AD23: =IF($W23="EGS",$T23,0) -> 0 | AE23: =IF($W23="BMT",$T23,0) -> 0 | AF23: =IF($W23="ThanhCong",$T23,0) -> 0 | AG23: =IF($W23="TanPhat",$T23,0) -> 0 | AH23: =IF($W23="ATH",$T23,0) -> 0 | AI23: =IF($W23="ICTC",$T23,0) -> 0
B24: Quang Ngai | E24: PKGA3 | F24: 100000 | G24: - | H24: 110000 | I24: =(H24-F24)-P24-P25 -> 10173.22 | K24: =K23+1 -> 21 | L24: MLA3-1 | M24: 100000 | N24: - | O24: 105000 | P24: -173.22 | R24: =O24-M24-P24 -> 5173.22 | V24: TEDI | W24: TEDI | X24: =IF($W24="TEDI",$T24,0) -> 0 | Y24: =IF($W24="TEDI-S",$T24,0) -> 0 | Z24: =IF($W24=533,$T24,0) -> 0 | AA24: =IF($W24="VECC",$T24,0) -> 0 | AB24: =IF($W24="TienKhai",$T24,0) -> 0 | AC24: =IF($W24="INPEL",$T24,0) -> 0 | AD24: =IF($W24="EGS",$T24,0) -> 0 | AE24: =IF($W24="BMT",$T24,0) -> 0 | AF24: =IF($W24="ThanhCong",$T24,0) -> 0 | AG24: =IF($W24="TanPhat",$T24,0) -> 0 | AH24: =IF($W24="ATH",$T24,0) -> 0 | AI24: =IF($W24="ICTC",$T24,0) -> 0
K25: =K24+1 -> 22 | L25: MLA3-2 | M25: 105000 | N25: - | O25: 110000 | P25: 0 | R25: =O25-M25-P25 -> 5000 | V25: TEDI | W25: TEDI | X25: =IF($W25="TEDI",$T25,0) -> 0 | Y25: =IF($W25="TEDI-S",$T25,0) -> 0 | Z25: =IF($W25=533,$T25,0) -> 0 | AA25: =IF($W25="VECC",$T25,0) -> 0 | AB25: =IF($W25="TienKhai",$T25,0) -> 0 | AC25: =IF($W25="INPEL",$T25,0) -> 0 | AD25: =IF($W25="EGS",$T25,0) -> 0 | AE25: =IF($W25="BMT",$T25,0) -> 0 | AF25: =IF($W25="ThanhCong",$T25,0) -> 0 | AG25: =IF($W25="TanPhat",$T25,0) -> 0 | AH25: =IF($W25="ATH",$T25,0) -> 0 | AI25: =IF($W25="ICTC",$T25,0) -> 0
E26: PKGA4 | F26: 110000 | G26: - | H26: 125000 | I26: =(H26-F26)-P26-P27-P28 -> 15000 | K26: =K25+1 -> 23 | L26: MLA4-1 | M26: 110000 | N26: - | O26: 115000 | P26: 0 | R26: =O26-M26-P26 -> 5000 | V26: TEDI | W26: TienKhai | X26: =IF($W26="TEDI",$T26,0) -> 0 | Y26: =IF($W26="TEDI-S",$T26,0) -> 0 | Z26: =IF($W26=533,$T26,0) -> 0 | AA26: =IF($W26="VECC",$T26,0) -> 0 | AB26: =IF($W26="TienKhai",$T26,0) -> 0 | AC26: =IF($W26="INPEL",$T26,0) -> 0 | AD26: =IF($W26="EGS",$T26,0) -> 0 | AE26: =IF($W26="BMT",$T26,0) -> 0 | AF26: =IF($W26="ThanhCong",$T26,0) -> 0 | AG26: =IF($W26="TanPhat",$T26,0) -> 0 | AH26: =IF($W26="ATH",$T26,0) -> 0 | AI26: =IF($W26="ICTC",$T26,0) -> 0
K27: =K26+1 -> 24 | L27: MLA4-2 | M27: 115000 | N27: - | O27: 120000 | P27: 0 | R27: =O27-M27-P27 -> 5000 | V27: TEDI | W27: BMT | X27: =IF($W27="TEDI",$T27,0) -> 0 | Y27: =IF($W27="TEDI-S",$T27,0) -> 0 | Z27: =IF($W27=533,$T27,0) -> 0 | AA27: =IF($W27="VECC",$T27,0) -> 0 | AB27: =IF($W27="TienKhai",$T27,0) -> 0 | AC27: =IF($W27="INPEL",$T27,0) -> 0 | AD27: =IF($W27="EGS",$T27,0) -> 0 | AE27: =IF($W27="BMT",$T27,0) -> 0 | AF27: =IF($W27="ThanhCong",$T27,0) -> 0 | AG27: =IF($W27="TanPhat",$T27,0) -> 0 | AH27: =IF($W27="ATH",$T27,0) -> 0 | AI27: =IF($W27="ICTC",$T27,0) -> 0
K28: =K27+1 -> 25 | L28: MLA4-3 | M28: 120000 | N28: - | O28: 125000 | P28: 0 | R28: =O28-M28-P28 -> 5000 | V28: TEDI | W28: TEDI | X28: =IF($W28="TEDI",$T28,0) -> 0 | Y28: =IF($W28="TEDI-S",$T28,0) -> 0 | Z28: =IF($W28=533,$T28,0) -> 0 | AA28: =IF($W28="VECC",$T28,0) -> 0 | AB28: =IF($W28="TienKhai",$T28,0) -> 0 | AC28: =IF($W28="INPEL",$T28,0) -> 0 | AD28: =IF($W28="EGS",$T28,0) -> 0 | AE28: =IF($W28="BMT",$T28,0) -> 0 | AF28: =IF($W28="ThanhCong",$T28,0) -> 0 | AG28: =IF($W28="TanPhat",$T28,0) -> 0 | AH28: =IF($W28="ATH",$T28,0) -> 0 | AI28: =IF($W28="ICTC",$T28,0) -> 0
E29: PKGA5 | F29: 125000 | G29: - | H29: 139522 | I29: =(H29-F29)-P29-P30-P31 -> 14522 | K29: =K28+1 -> 26 | L29: MLA5-1 | M29: 125000 | N29: - | O29: 131500 | P29: 0 | R29: =O29-M29-P29 -> 6500 | V29: TEDI | W29: TEDI | X29: =IF($W29="TEDI",$T29,0) -> 0 | Y29: =IF($W29="TEDI-S",$T29,0) -> 0 | Z29: =IF($W29=533,$T29,0) -> 0 | AA29: =IF($W29="VECC",$T29,0) -> 0 | AB29: =IF($W29="TienKhai",$T29,0) -> 0 | AC29: =IF($W29="INPEL",$T29,0) -> 0 | AD29: =IF($W29="EGS",$T29,0) -> 0 | AE29: =IF($W29="BMT",$T29,0) -> 0 | AF29: =IF($W29="ThanhCong",$T29,0) -> 0 | AG29: =IF($W29="TanPhat",$T29,0) -> 0 | AH29: =IF($W29="ATH",$T29,0) -> 0 | AI29: =IF($W29="ICTC",$T29,0) -> 0
D30: Linking Road | K30: =K29+1 -> 27 | L30: MLA5-2 | M30: 131500 | N30: - | O30: 136000 | P30: 0 | R30: =O30-M30-P30 -> 4500 | V30: TEDI | W30: BMT | X30: =IF($W30="TEDI",$T30,0) -> 0 | Y30: =IF($W30="TEDI-S",$T30,0) -> 0 | Z30: =IF($W30=533,$T30,0) -> 0 | AA30: =IF($W30="VECC",$T30,0) -> 0 | AB30: =IF($W30="TienKhai",$T30,0) -> 0 | AC30: =IF($W30="INPEL",$T30,0) -> 0 | AD30: =IF($W30="EGS",$T30,0) -> 0 | AE30: =IF($W30="BMT",$T30,0) -> 0 | AF30: =IF($W30="ThanhCong",$T30,0) -> 0 | AG30: =IF($W30="TanPhat",$T30,0) -> 0 | AH30: =IF($W30="ATH",$T30,0) -> 0 | AI30: =IF($W30="ICTC",$T30,0) -> 0
K31: =K30+1 -> 28 | L31: MLA5-3 | M31: 136000 | N31: - | O31: 139522 | P31: 0 | R31: =O31-M31-P31 -> 3522 | V31: TEDI | W31: BMT | X31: =IF($W31="TEDI",$T31,0) -> 0 | Y31: =IF($W31="TEDI-S",$T31,0) -> 0 | Z31: =IF($W31=533,$T31,0) -> 0 | AA31: =IF($W31="VECC",$T31,0) -> 0 | AB31: =IF($W31="TienKhai",$T31,0) -> 0 | AC31: =IF($W31="INPEL",$T31,0) -> 0 | AD31: =IF($W31="EGS",$T31,0) -> 0 | AE31: =IF($W31="BMT",$T31,0) -> 0 | AF31: =IF($W31="ThanhCong",$T31,0) -> 0 | AG31: =IF($W31="TanPhat",$T31,0) -> 0 | AH31: =IF($W31="ATH",$T31,0) -> 0 | AI31: =IF($W31="ICTC",$T31,0) -> 0
A32: Total | I32: =SUM(I4:I31) -> 140312.32 | R32: =SUM(R4:R31) -> 140312.32 | T32: =SUM(T4:T31) -> 0 | X32: =SUM(X4:X31) -> 0 | Y32: =SUM(Y4:Y31) -> 0 | Z32: =SUM(Z4:Z31) -> 0 | AA32: =SUM(AA4:AA31) -> 0 | AB32: =SUM(AB4:AB31) -> 0 | AC32: =SUM(AC4:AC31) -> 0 | AD32: =SUM(AD4:AD31) -> 0 | AE32: =SUM(AE4:AE31) -> 0 | ... AI32: =SUM(AI4:AI31) -> 0 | AJ32: =SUM(X32:AI32) -> 0
A33: Geotechnical Survey for PKG8 (O&M Buildings) is included in each Survey Package above | X33: =X32/$T32 -> #DIV/0! | Y33: =Y32/$T32 -> #DIV/0! | Z33: =Z32/$T32 -> #DIV/0! | AA33: =AA32/$T32 -> #DIV/0! | AB33: =AB32/$T32 -> #DIV/0! | AC33: =AC32/$T32 -> #DIV/0! | AD33: =AD32/$T32 -> #DIV/0! | AE33: =AE32/$T32 -> #DIV/0! | ... AI33: =AI32/$T32 -> #DIV/0! | AJ33: =SUM(X33:AI33) -> #DIV/0!

Sheet GeoBase(110906)
A1: Jurisdiction | C1: Road | E1: Construction Contract Package (Civil Works) | K1: Survey Package | T1: Estimated Cost (USD)
C2: Classification | E2: No. | F2: Section | I2: Length | K2: No. | M2: Section | P2: Equation | R2: Length | T2: a. Proposal | V2: b. Proposal | X2: c. Sep. 2011
V3: [c/Σ(c)]*Σ(a)
B4: Danang | D4: Expressway | E4: PKG01 | F4: -800 | G4: - | H4: 8000 | I4: =(H4-F4)-P4-P5 -> 8800 | K4: 1 | L4: ML01-1 | M4: -800 | N4: - | O4: 4000 | P4: 0 | R4: =O4-M4-P4 -> 4800 | T4: 121654.1 | V4: =X4/$X$32*$T$32 -> 131778.79 | X4: ='[3]3.2Cost by Packages'!$P$89 -> 159531.54
K5: =K4+1 -> 2 | L5: ML01-2 | M5: 4000 | N5: - | O5: 8000 | P5: 0 | R5: =O5-M5-P5 -> 4000 | T5: 86441.085 | V5: =X5/$X$32*$T$32 -> 112628.63 | X5: ='[3]3.2Cost by Packages'!$T$89 -> 136348.33
B6: Quang Nam | E6: PKG02 | F6: 8000 | G6: - | H6: 17000 | I6: =(H6-F6)-P6-P7 -> 9000 | K6: =K5+1 -> 3 | L6: ML02-1 | M6: 8000 | N6: - | O6: 13000 | R6: =O6-M6-P6 -> 5000 | T6: 88308.952 | V6: =X6/$X$32*$T$32 -> 92397.698 | X6: ='[3]3.2Cost by Packages'!$X$89 -> 111856.74
K7: =K6+1 -> 4 | L7: ML02-2 | M7: 13000 | N7: - | O7: 17000 | P7: 0 | R7: =O7-M7-P7 -> 4000 | T7: 65780.954 | V7: =X7/$X$32*$T$32 -> 61759.885 | X7: ='[3]3.2Cost by Packages'!$AB$89 -> 74766.578
E8: PKG03 | F8: 17000 | G8: - | H8: 22000 | I8: =(H8-F8)-P8 -> 5059.78 | K8: =K7+1 -> 5 | L8: ML03-1 | M8: 17000 | N8: - | O8: 22000 | P8: -59.78 | R8: =O8-M8-P8 -> 5059.78 | T8: 144918.35 | V8: =X8/$X$32*$T$32 -> 151778.64 | X8: ='[3]3.2Cost by Packages'!$AF$89 -> 183743.37
E9: PKG04 | F9: 22000 | G9: - | H9: 32000 | I9: =(H9-F9)-P9-P10 -> 10000 | K9: =K8+1 -> 6 | L9: ML04-1 | M9: 22000 | N9: - | O9: 26800 | P9: 0 | R9: =O9-M9-P9 -> 4800 | T9: 97614.326 | V9: =X9/$X$32*$T$32 -> 107417.98 | X9: ='[3]3.2Cost by Packages'!$AJ$89 -> 130040.31
K10: =K9+1 -> 7 | L10: ML04-2 | M10: 26800 | N10: - | O10: 32000 | P10: 0 | R10: =O10-M10-P10 -> 5200 | T10: 35893.257 | V10: =X10/$X$32*$T$32 -> 26113.881 | X10: ='[3]3.2Cost by Packages'!$AN$89 -> 31613.49
E11: PKG05 | F11: 32000 | G11: - | H11: 42000 | I11: =(H11-F11)-P11-P12 -> 10000 | K11: =K10+1 -> 8 | L11: ML05-1 | M11: 32000 | N11: - | O11: 35000 | P11: 0 | R11: =O11-M11-P11 -> 3000 | T11: 16822.162 | V11: =X11/$X$32*$T$32 -> 36333.515 | X11: ='[3]3.2Cost by Packages'!$AR$89 -> 43985.389
K12: =K11+1 -> 9 | L12: ML05-2 | M12: 35000 | N12: - | O12: 42000 | P12: 0 | R12: =O12-M12-P12 -> 7000 | T12: 46835.933 | V12: =X12/$X$32*$T$32 -> 45090.24 | X12: ='[3]3.2Cost by Packages'!$AV$89 -> 54586.288
E13: PKG06 | F13: 42000 | G13: - | H13: 52000 | I13: =(H13-F13)-P13-P14 -> 10000 | K13: =K12+1 -> 10 | L13: ML06-1 | M13: 42000 | N13: - | O13: 46600 | P13: 0 | R13: =O13-M13-P13 -> 4600 | T13: 33474.134 | V13: =X13/$X$32*$T$32 -> 29359.437 | X13: ='[3]3.2Cost by Packages'!$AZ$89 -> 35542.563
K14: =K13+1 -> 11 | L14: ML06-2 | M14: 46600 | N14: - | O14: 52000 | P14: 0 | R14: =O14-M14-P14 -> 5400 | T14: 25345.536 | V14: =X14/$X$32*$T$32 -> 16366.158 | X14: ='[3]3.2Cost by Packages'!$BD$89 -> 19812.887
E15: PKG07 | F15: 52000 | G15: - | H15: 65000 | I15: =(H15-F15)-P15-P16-P17 -> 13000 | K15: =K14+1 -> 12 | L15: ML07-1 | M15: 52000 | N15: - | O15: 56000 | P15: 0 | R15: =O15-M15-P15 -> 4000 | T15: 23068.138 | V15: =X15/$X$32*$T$32 -> 13616.096 | X15: ='[3]3.2Cost by Packages'!$BH$89 -> 16483.66
K16: =K15+1 -> 13 | L16: ML07-2 | M16: 56000 | N16: - | O16: 60000 | P16: 0 | R16: =O16-M16-P16 -> 4000 | T16: 25726.836 | V16: =X16/$X$32*$T$32 -> 19886.84 | X16: ='[3]3.2Cost by Packages'!$BL$89 -> 24075.028
K17: =K16+1 -> 14 | L17: ML07-3 | M17: 60000 | N17: - | O17: 65000 | P17: 0 | R17: =O17-M17-P17 -> 5000 | T17: 38066.543 | V17: =X17/$X$32*$T$32 -> 27710.821 | X17: ='[3]3.2Cost by Packages'!$BP$89 -> 33546.748
E18: PKGA1 | F18: 65000 | G18: - | H18: 81500 | I18: =(H18-F18)-P18-P19-P20 -> 16557.32 | K18: =K17+1 -> 15 | L18: MLA1-1 | M18: 65000 | N18: - | O18: 70000 | P18: 0 | R18: =O18-M18-P18 -> 5000 | T18: 45213.425 | V18: =X18/$X$32*$T$32 -> 39417.089 | X18: ='[3]3.2Cost by Packages'!$BT$89 -> 47718.366
K19: =K18+1 -> 16 | L19: MLA1-2 | M19: 70000 | N19: - | O19: 76000 | P19: -57.32 | R19: =O19-M19-P19 -> 6057.32 | T19: 29405.097 | V19: =X19/$X$32*$T$32 -> 18484.516 | X19: ='[3]3.2Cost by Packages'!$BX$89 -> 22377.373
K20: =K19+1 -> 17 | L20: MLA1-3 | M20: 76000 | N20: - | O20: 81500 | P20: 0 | R20: =O20-M20-P20 -> 5500 | T20: 23593.854 | V20: =X20/$X$32*$T$32 -> 26613.237 | X20: ='[3]3.2Cost by Packages'!$CB$89 -> 32218.01
E21: PKGA2 | F21: 81500 | G21: - | H21: 100000 | I21: =(H21-F21)-P21-P22-P23 -> 18200 | K21: =K20+1 -> 18 | L21: MLA2-1 | M21: 81500 | N21: - | O21: 87000 | P21: 0 | R21: =O21-M21-P21 -> 5500 | T21: 36297.539 | V21: =X21/$X$32*$T$32 -> 37045.158 | X21: ='[3]3.2Cost by Packages'!$CF$89 -> 44846.905
K22: =K21+1 -> 19 | L22: MLA2-2 | M22: 87000 | N22: - | O22: 93000 | P22: 0 | R22: =O22-M22-P22 -> 6000 | T22: 38734.021 | V22: =X22/$X$32*$T$32 -> 54555.77 | X22: ='[3]3.2Cost by Packages'!$CJ$89 -> 66045.268
K23: =K22+1 -> 20 | L23: MLA2-3 | M23: 93000 | N23: - | O23: 100000 | P23: 300 | R23: =O23-M23-P23 -> 6700 | T23: 30465.724 | V23: =X23/$X$32*$T$32 -> 18275.782 | X23: ='[3]3.2Cost by Packages'!$CN$89 -> 22124.68
B24: Quang Ngai | E24: PKGA3 | F24: 100000 | G24: - | H24: 110000 | I24: =(H24-F24)-P24-P25 -> 10173.22 | K24: =K23+1 -> 21 | L24: MLA3-1 | M24: 100000 | N24: - | O24: 105000 | P24: -173.22 | R24: =O24-M24-P24 -> 5173.22 | T24: 59079.002 | V24: =X24/$X$32*$T$32 -> 59550.324 | X24: ='[3]3.2Cost by Packages'!$CR$89 -> 72091.681
K25: =K24+1 -> 22 | L25: MLA3-2 | M25: 105000 | N25: - | O25: 110000 | P25: 0 | R25: =O25-M25-P25 -> 5000 | T25: 84850.698 | V25: =X25/$X$32*$T$32 -> 55228.874 | X25: ='[3]3.2Cost by Packages'!$CV$89 -> 66860.129
E26: PKGA4 | F26: 110000 | G26: - | H26: 125000 | I26: =(H26-F26)-P26-P27-P28 -> 15000 | K26: =K25+1 -> 23 | L26: MLA4-1 | M26: 110000 | N26: - | O26: 115000 | P26: 0 | R26: =O26-M26-P26 -> 5000 | T26: 30490.896 | V26: =X26/$X$32*$T$32 -> 82276.671 | X26: ='[3]3.2Cost by Packages'!$CZ$89 -> 99604.219
K27: =K26+1 -> 24 | L27: MLA4-2 | M27: 115000 | N27: - | O27: 120000 | P27: 0 | R27: =O27-M27-P27 -> 5000 | T27: 41001.105 | V27: =X27/$X$32*$T$32 -> 38637.651 | X27: ='[3]3.2Cost by Packages'!$DD$89 -> 46774.778
K28: =K27+1 -> 25 | L28: MLA4-3 | M28: 120000 | N28: - | O28: 125000 | P28: 0 | R28: =O28-M28-P28 -> 5000 | T28: 54422.776 | V28: =X28/$X$32*$T$32 -> 51801.758 | X28: ='[3]3.2Cost by Packages'!$DH$89 -> 62711.259
E29: PKGA5 | F29: 125000 | G29: - | H29: 139522 | I29: =(H29-F29)-P29-P30-P31 -> 14522 | K29: =K28+1 -> 26 | L29: MLA5-1 | M29: 125000 | N29: - | O29: 131500 | P29: 0 | R29: =O29-M29-P29 -> 6500 | T29: 120152.15 | V29: =X29/$X$32*$T$32 -> 112160.23 | X29: ='[3]3.2Cost by Packages'!$DL$89 -> 135781.28
D30: Linking Road | K30: =K29+1 -> 27 | L30: MLA5-2 | M30: 131500 | N30: - | O30: 136000 | P30: 0 | R30: =O30-M30-P30 -> 4500 | T30: 18915.963 | V30: =X30/$X$32*$T$32 -> 9037.054 | X30: ='[3]3.2Cost by Packages'!$DP$89 -> 10940.266
K31: =K30+1 -> 28 | L31: MLA5-3 | M31: 136000 | N31: - | O31: 139522 | P31: 0 | R31: =O31-M31-P31 -> 3522 | T31: 17155.447 | V31: =X31/$X$32*$T$32 -> 4405.2712 | X31: ='[3]3.2Cost by Packages'!$DT$89 -> 5333.0256
A32: Total | I32: =SUM(I4:I31) -> 140312.32 | R32: =SUM(R4:R31) -> 140312.32 | T32: =SUM(T4:T31) -> 1479728 | V32: =SUM(V4:V31) -> 1479728 | X32: =SUM(X4:X31) -> 1791360.2
A33: Geotechnical Survey for PKG8 (O&M Buildings) is included in each Survey Package above

Sheet Case4_TopoCost0903
A1: Topographic Survey
A2: Jurisdiction | C2: Road | E2: Construction Contract Package (Civil Works) | K2: Survey Package | R2: Cost (USD)
C3: Classification | E3: No. | F3: Section | I3: Length | K3: No. | M3: Section | R3: (Proposal) | S3: Firm | T3: 1 | U3: 2 | V3: 3 | W3: 4 | X3: 5
P4: Equation | T4: TEDI | U4: TEDI-S | V4: 533 | W4: VECC | X4: EGS
L5: CP | R5: 88678.231 | S5: TEDI | T5: =IF($S5="TEDI",$R5,0) -> 88678.231 | U5: =IF($S5="TEDI-S",$R5,0) -> 0 | V5: =IF($S5=533,$R5,0) -> 0 | W5: =IF($S5="VECC",$R5,0) -> 0 | X5: =IF($S5="EGS",$R5,0) -> 0 | Y5: =SUM(T5:X5) -> 88678.231 | Z5: =Y5-R5 -> 0
B6: Danang | D6: Expressway | E6: PKG01 | F6: -800 | G6: - | H6: 8000 | I6: =H6-F6 -> 8800 | K6: 1 | L6: ML01-1 | M6: -800 | N6: - | O6: 4000 | P6: 0 | Q6: =O6-M6-P6 -> 4800 | S6: VECC | T6: =IF($S6="TEDI",$R6,0) -> 0 | U6: =IF($S6="TEDI-S",$R6,0) -> 0 | V6: =IF($S6=533,$R6,0) -> 0 | W6: =IF($S6="VECC",$R6,0) -> 0 | X6: =IF($S6="EGS",$R6,0) -> 0 | Y6: =SUM(T6:X6) -> 0 | Z6: =Y6-R6 -> 0
K7: =K6+1 -> 2 | L7: ML01-2 | M7: =O6 -> 4000 | N7: - | O7: 8000 | P7: 0 | Q7: =O7-M7-P7 -> 4000 | S7: VECC | T7: =IF($S7="TEDI",$R7,0) -> 0 | U7: =IF($S7="TEDI-S",$R7,0) -> 0 | V7: =IF($S7=533,$R7,0) -> 0 | W7: =IF($S7="VECC",$R7,0) -> 0 | X7: =IF($S7="EGS",$R7,0) -> 0 | Y7: =SUM(T7:X7) -> 0 | Z7: =Y7-R7 -> 0
B8: Quang Nam | E8: PKG02 | F8: =H6 -> 8000 | G8: - | H8: 17000 | I8: =H8-F8 -> 9000 | K8: =K7+1 -> 3 | L8: ML02-1 | M8: =O7 -> 8000 | N8: - | O8: 13000 | P8: 0 | Q8: =O8-M8-P8 -> 5000 | S8: VECC | T8: =IF($S8="TEDI",$R8,0) -> 0 | U8: =IF($S8="TEDI-S",$R8,0) -> 0 | V8: =IF($S8=533,$R8,0) -> 0 | W8: =IF($S8="VECC",$R8,0) -> 0 | X8: =IF($S8="EGS",$R8,0) -> 0 | Y8: =SUM(T8:X8) -> 0 | Z8: =Y8-R8 -> 0
K9: =K8+1 -> 4 | L9: ML02-2 | M9: =O8 -> 13000 | N9: - | O9: 17000 | P9: 0 | Q9: =O9-M9-P9 -> 4000 | S9: VECC | T9: =IF($S9="TEDI",$R9,0) -> 0 | U9: =IF($S9="TEDI-S",$R9,0) -> 0 | V9: =IF($S9=533,$R9,0) -> 0 | W9: =IF($S9="VECC",$R9,0) -> 0 | X9: =IF($S9="EGS",$R9,0) -> 0 | Y9: =SUM(T9:X9) -> 0 | Z9: =Y9-R9 -> 0
E10: PKG03 | F10: 17000 | G10: - | H10: 22000 | I10: =H10-F10-P10 -> 5059.78 | K10: =K9+1 -> 5 | L10: ML03-1 | M10: =O9 -> 17000 | N10: - | O10: 22000 | P10: -59.78 | Q10: =O10-M10-P10 -> 5059.78 | S10: TEDI | T10: =IF($S10="TEDI",$R10,0) -> 0 | U10: =IF($S10="TEDI-S",$R10,0) -> 0 | V10: =IF($S10=533,$R10,0) -> 0 | W10: =IF($S10="VECC",$R10,0) -> 0 | X10: =IF($S10="EGS",$R10,0) -> 0 | Y10: =SUM(T10:X10) -> 0 | Z10: =Y10-R10 -> 0
E11: PKG04 | F11: =H10 -> 22000 | G11: - | H11: 32000 | I11: =H11-F11 -> 10000 | K11: =K10+1 -> 6 | L11: ML04-1 | M11: =O10 -> 22000 | N11: - | O11: 26800 | P11: 0 | Q11: =O11-M11-P11 -> 4800 | S11: EGS | T11: =IF($S11="TEDI",$R11,0) -> 0 | U11: =IF($S11="TEDI-S",$R11,0) -> 0 | V11: =IF($S11=533,$R11,0) -> 0 | W11: =IF($S11="VECC",$R11,0) -> 0 | X11: =IF($S11="EGS",$R11,0) -> 0 | Y11: =SUM(T11:X11) -> 0 | Z11: =Y11-R11 -> 0
K12: =K11+1 -> 7 | L12: ML04-2 | M12: =O11 -> 26800 | N12: - | O12: 32000 | P12: 0 | Q12: =O12-M12-P12 -> 5200 | S12: EGS | T12: =IF($S12="TEDI",$R12,0) -> 0 | U12: =IF($S12="TEDI-S",$R12,0) -> 0 | V12: =IF($S12=533,$R12,0) -> 0 | W12: =IF($S12="VECC",$R12,0) -> 0 | X12: =IF($S12="EGS",$R12,0) -> 0 | Y12: =SUM(T12:X12) -> 0 | Z12: =Y12-R12 -> 0
E13: PKG05 | F13: =H11 -> 32000 | G13: - | H13: 42000 | I13: =H13-F13 -> 10000 | K13: =K12+1 -> 8 | L13: ML05-1 | M13: =O12 -> 32000 | N13: - | O13: 35000 | P13: 0 | Q13: =O13-M13-P13 -> 3000 | S13: TEDI | T13: =IF($S13="TEDI",$R13,0) -> 0 | U13: =IF($S13="TEDI-S",$R13,0) -> 0 | V13: =IF($S13=533,$R13,0) -> 0 | W13: =IF($S13="VECC",$R13,0) -> 0 | X13: =IF($S13="EGS",$R13,0) -> 0 | Y13: =SUM(T13:X13) -> 0 | Z13: =Y13-R13 -> 0
K14: =K13+1 -> 9 | L14: ML05-2 | M14: =O13 -> 35000 | N14: - | O14: 42000 | P14: 0 | Q14: =O14-M14-P14 -> 7000 | S14: TEDI-S | T14: =IF($S14="TEDI",$R14,0) -> 0 | U14: =IF($S14="TEDI-S",$R14,0) -> 0 | V14: =IF($S14=533,$R14,0) -> 0 | W14: =IF($S14="VECC",$R14,0) -> 0 | X14: =IF($S14="EGS",$R14,0) -> 0 | Y14: =SUM(T14:X14) -> 0 | Z14: =Y14-R14 -> 0
E15: PKG06 | F15: 42000 | G15: - | H15: 52000 | I15: =H15-F15 -> 10000 | K15: =K14+1 -> 10 | L15: ML06-1 | M15: =O14 -> 42000 | N15: - | O15: 46600 | P15: 0 | Q15: =O15-M15-P15 -> 4600 | S15: TEDI-S | T15: =IF($S15="TEDI",$R15,0) -> 0 | U15: =IF($S15="TEDI-S",$R15,0) -> 0 | V15: =IF($S15=533,$R15,0) -> 0 | W15: =IF($S15="VECC",$R15,0) -> 0 | X15: =IF($S15="EGS",$R15,0) -> 0 | Y15: =SUM(T15:X15) -> 0 | Z15: =Y15-R15 -> 0
K16: =K15+1 -> 11 | L16: ML06-2 | M16: =O15 -> 46600 | N16: - | O16: 52000 | P16: 0 | Q16: =O16-M16-P16 -> 5400 | S16: TEDI-S | T16: =IF($S16="TEDI",$R16,0) -> 0 | U16: =IF($S16="TEDI-S",$R16,0) -> 0 | V16: =IF($S16=533,$R16,0) -> 0 | W16: =IF($S16="VECC",$R16,0) -> 0 | X16: =IF($S16="EGS",$R16,0) -> 0 | Y16: =SUM(T16:X16) -> 0 | Z16: =Y16-R16 -> 0
E17: PKG07 | F17: =H15 -> 52000 | G17: - | H17: 65000 | I17: =H17-F17 -> 13000 | K17: =K16+1 -> 12 | L17: ML07-1 | M17: =O16 -> 52000 | N17: - | O17: 56000 | P17: 0 | Q17: =O17-M17-P17 -> 4000 | S17: 533 | T17: =IF($S17="TEDI",$R17,0) -> 0 | U17: =IF($S17="TEDI-S",$R17,0) -> 0 | V17: =IF($S17=533,$R17,0) -> 0 | W17: =IF($S17="VECC",$R17,0) -> 0 | X17: =IF($S17="EGS",$R17,0) -> 0 | Y17: =SUM(T17:X17) -> 0 | Z17: =Y17-R17 -> 0
K18: =K17+1 -> 13 | L18: ML07-2 | M18: =O17 -> 56000 | N18: - | O18: 60000 | P18: 0 | Q18: =O18-M18-P18 -> 4000 | S18: 533 | T18: =IF($S18="TEDI",$R18,0) -> 0 | U18: =IF($S18="TEDI-S",$R18,0) -> 0 | V18: =IF($S18=533,$R18,0) -> 0 | W18: =IF($S18="VECC",$R18,0) -> 0 | X18: =IF($S18="EGS",$R18,0) -> 0 | Y18: =SUM(T18:X18) -> 0 | Z18: =Y18-R18 -> 0
K19: =K18+1 -> 14 | L19: ML07-3 | M19: =O18 -> 60000 | N19: - | O19: 65000 | P19: 0 | Q19: =O19-M19-P19 -> 5000 | S19: 533 | T19: =IF($S19="TEDI",$R19,0) -> 0 | U19: =IF($S19="TEDI-S",$R19,0) -> 0 | V19: =IF($S19=533,$R19,0) -> 0 | W19: =IF($S19="VECC",$R19,0) -> 0 | X19: =IF($S19="EGS",$R19,0) -> 0 | Y19: =SUM(T19:X19) -> 0 | Z19: =Y19-R19 -> 0
E20: PKGA1 | F20: =H17 -> 65000 | G20: - | H20: 81500 | I20: =H20-F20-P21 -> 16557.32 | K20: =K19+1 -> 15 | L20: MLA1-1 | M20: =O19 -> 65000 | N20: - | O20: 71000 | P20: 0 | Q20: =O20-M20-P20 -> 6000 | S20: TEDI | T20: =IF($S20="TEDI",$R20,0) -> 0 | U20: =IF($S20="TEDI-S",$R20,0) -> 0 | V20: =IF($S20=533,$R20,0) -> 0 | W20: =IF($S20="VECC",$R20,0) -> 0 | X20: =IF($S20="EGS",$R20,0) -> 0 | Y20: =SUM(T20:X20) -> 0 | Z20: =Y20-R20 -> 0
K21: =K20+1 -> 16 | L21: MLA1-2 | M21: =O20 -> 71000 | N21: - | O21: 76000 | P21: -57.32 | Q21: =O21-M21-P21 -> 5057.32 | S21: TEDI | T21: =IF($S21="TEDI",$R21,0) -> 0 | U21: =IF($S21="TEDI-S",$R21,0) -> 0 | V21: =IF($S21=533,$R21,0) -> 0 | W21: =IF($S21="VECC",$R21,0) -> 0 | X21: =IF($S21="EGS",$R21,0) -> 0 | Y21: =SUM(T21:X21) -> 0 | Z21: =Y21-R21 -> 0
K22: =K21+1 -> 17 | L22: MLA1-3 | M22: =O21 -> 76000 | N22: - | O22: 81500 | P22: 0 | Q22: =O22-M22-P22 -> 5500 | S22: TEDI | T22: =IF($S22="TEDI",$R22,0) -> 0 | U22: =IF($S22="TEDI-S",$R22,0) -> 0 | V22: =IF($S22=533,$R22,0) -> 0 | W22: =IF($S22="VECC",$R22,0) -> 0 | X22: =IF($S22="EGS",$R22,0) -> 0 | Y22: =SUM(T22:X22) -> 0 | Z22: =Y22-R22 -> 0
E23: PKGA2 | F23: =H20 -> 81500 | G23: - | H23: 100000 | I23: =H23-F23-P25 -> 18200 | K23: =K22+1 -> 18 | L23: MLA2-1 | M23: =O22 -> 81500 | N23: - | O23: 87000 | P23: 0 | Q23: =O23-M23-P23 -> 5500 | S23: TEDI | T23: =IF($S23="TEDI",$R23,0) -> 0 | U23: =IF($S23="TEDI-S",$R23,0) -> 0 | V23: =IF($S23=533,$R23,0) -> 0 | W23: =IF($S23="VECC",$R23,0) -> 0 | X23: =IF($S23="EGS",$R23,0) -> 0 | Y23: =SUM(T23:X23) -> 0 | Z23: =Y23-R23 -> 0
K24: =K23+1 -> 19 | L24: MLA2-2 | M24: =O23 -> 87000 | N24: - | O24: 93000 | P24: 0 | Q24: =O24-M24-P24 -> 6000 | S24: TEDI | T24: =IF($S24="TEDI",$R24,0) -> 0 | U24: =IF($S24="TEDI-S",$R24,0) -> 0 | V24: =IF($S24=533,$R24,0) -> 0 | W24: =IF($S24="VECC",$R24,0) -> 0 | X24: =IF($S24="EGS",$R24,0) -> 0 | Y24: =SUM(T24:X24) -> 0 | Z24: =Y24-R24 -> 0
K25: =K24+1 -> 20 | L25: MLA2-3 | M25: =O24 -> 93000 | N25: - | O25: 100000 | P25: 300 | Q25: =O25-M25-P25 -> 6700 | S25: TEDI | T25: =IF($S25="TEDI",$R25,0) -> 0 | U25: =IF($S25="TEDI-S",$R25,0) -> 0 | V25: =IF($S25=533,$R25,0) -> 0 | W25: =IF($S25="VECC",$R25,0) -> 0 | X25: =IF($S25="EGS",$R25,0) -> 0 | Y25: =SUM(T25:X25) -> 0 | Z25: =Y25-R25 -> 0
B26: Quang Ngai | E26: PKGA3 | F26: =H23 -> 100000 | G26: - | H26: 110000 | I26: =H26-F26-P26 -> 10173.22 | K26: =K25+1 -> 21 | L26: MLA3-1 | M26: =O25 -> 100000 | N26: - | O26: 105000 | P26: -173.22 | Q26: =O26-M26-P26 -> 5173.22 | S26: TEDI | T26: =IF($S26="TEDI",$R26,0) -> 0 | U26: =IF($S26="TEDI-S",$R26,0) -> 0 | V26: =IF($S26=533,$R26,0) -> 0 | W26: =IF($S26="VECC",$R26,0) -> 0 | X26: =IF($S26="EGS",$R26,0) -> 0 | Y26: =SUM(T26:X26) -> 0 | Z26: =Y26-R26 -> 0
K27: =K26+1 -> 22 | L27: MLA3-2 | M27: =O26 -> 105000 | N27: - | O27: 110000 | P27: 0 | Q27: =O27-M27-P27 -> 5000 | S27: TEDI | T27: =IF($S27="TEDI",$R27,0) -> 0 | U27: =IF($S27="TEDI-S",$R27,0) -> 0 | V27: =IF($S27=533,$R27,0) -> 0 | W27: =IF($S27="VECC",$R27,0) -> 0 | X27: =IF($S27="EGS",$R27,0) -> 0 | Y27: =SUM(T27:X27) -> 0 | Z27: =Y27-R27 -> 0
E28: PKGA4 | F28: =H26 -> 110000 | G28: - | H28: 125000 | I28: =H28-F28 -> 15000 | K28: =K27+1 -> 23 | L28: MLA4-1 | M28: =O27 -> 110000 | N28: - | O28: 115000 | P28: 0 | Q28: =O28-M28-P28 -> 5000 | S28: TEDI | T28: =IF($S28="TEDI",$R28,0) -> 0 | U28: =IF($S28="TEDI-S",$R28,0) -> 0 | V28: =IF($S28=533,$R28,0) -> 0 | W28: =IF($S28="VECC",$R28,0) -> 0 | X28: =IF($S28="EGS",$R28,0) -> 0 | Y28: =SUM(T28:X28) -> 0 | Z28: =Y28-R28 -> 0
K29: =K28+1 -> 24 | L29: MLA4-2 | M29: =O28 -> 115000 | N29: - | O29: 120000 | P29: 0 | Q29: =O29-M29-P29 -> 5000 | S29: TEDI | T29: =IF($S29="TEDI",$R29,0) -> 0 | U29: =IF($S29="TEDI-S",$R29,0) -> 0 | V29: =IF($S29=533,$R29,0) -> 0 | W29: =IF($S29="VECC",$R29,0) -> 0 | X29: =IF($S29="EGS",$R29,0) -> 0 | Y29: =SUM(T29:X29) -> 0 | Z29: =Y29-R29 -> 0
K30: =K29+1 -> 25 | L30: MLA4-3 | M30: =O29 -> 120000 | N30: - | O30: 125000 | P30: 0 | Q30: =O30-M30-P30 -> 5000 | S30: TEDI | T30: =IF($S30="TEDI",$R30,0) -> 0 | U30: =IF($S30="TEDI-S",$R30,0) -> 0 | V30: =IF($S30=533,$R30,0) -> 0 | W30: =IF($S30="VECC",$R30,0) -> 0 | X30: =IF($S30="EGS",$R30,0) -> 0 | Y30: =SUM(T30:X30) -> 0 | Z30: =Y30-R30 -> 0
E31: PKGA5 | F31: =H28 -> 125000 | G31: - | H31: 131500 | I31: =H31-F31 -> 6500 | K31: =K30+1 -> 26 | L31: MLA5-1 | M31: =O30 -> 125000 | N31: - | O31: 131500 | P31: 0 | Q31: =O31-M31-P31 -> 6500 | S31: TEDI | T31: =IF($S31="TEDI",$R31,0) -> 0 | U31: =IF($S31="TEDI-S",$R31,0) -> 0 | V31: =IF($S31=533,$R31,0) -> 0 | W31: =IF($S31="VECC",$R31,0) -> 0 | X31: =IF($S31="EGS",$R31,0) -> 0 | Y31: =SUM(T31:X31) -> 0 | Z31: =Y31-R31 -> 0
D32: Linking Road | F32: 131500 | G32: - | H32: 136500 | I32: =H32-F32 -> 5000 | K32: =K31+1 -> 27 | L32: MLA5-2 | M32: =O31 -> 131500 | N32: - | O32: 136500 | P32: 0 | Q32: =O32-M32-P32 -> 5000 | S32: TEDI | T32: =IF($S32="TEDI",$R32,0) -> 0 | U32: =IF($S32="TEDI-S",$R32,0) -> 0 | V32: =IF($S32=533,$R32,0) -> 0 | W32: =IF($S32="VECC",$R32,0) -> 0 | X32: =IF($S32="EGS",$R32,0) -> 0 | Y32: =SUM(T32:X32) -> 0 | Z32: =Y32-R32 -> 0
F33: 136500 | G33: - | H33: 139522 | I33: =H33-F33 -> 3022 | K33: =K32+1 -> 28 | L33: MLA5-3 | M33: =O32 -> 136500 | O33: 139522 | P33: 0 | Q33: =O33-M33-P33 -> 3022 | S33: TEDI | T33: =IF($S33="TEDI",$R33,0) -> 0 | U33: =IF($S33="TEDI-S",$R33,0) -> 0 | V33: =IF($S33=533,$R33,0) -> 0 | W33: =IF($S33="VECC",$R33,0) -> 0 | X33: =IF($S33="EGS",$R33,0) -> 0 | Y33: =SUM(T33:X33) -> 0 | Z33: =Y33-R33 -> 0
A34: Total | I34: =SUM(I6:I33) -> 140312.32 | Q34: =SUM(Q6:Q33) -> 140312.32 | R34: =SUM(R5:R33) -> 88678.231 | T34: =SUM(T5:T33) -> 88678.231 | U34: =SUM(U5:U33) -> 0 | V34: =SUM(V5:V33) -> 0 | W34: =SUM(W5:W33) -> 0 | X34: =SUM(X5:X33) -> 0 | Y34: =SUM(T34:X34) -> 88678.231
T35: =T34/$R$34 -> 1 | U35: =U34/$R$34 -> 0 | V35: =V34/$R$34 -> 0 | W35: =W34/$R$34 -> 0 | X35: =X34/$R$34 -> 0 | Y35: =SUM(T35:X35) -> 1
D36: Updated Section in 2010
E37: Km0+000 - Km16+000
E38: Km60+000 - Km73+000
E39: Km109+000 - Km131+500
E40: Km131+500 - Km139+631

Sheet Case4_TopoDistance0804
A1: Topographic Survey
A2: Jurisdiction | C2: Road | E2: Construction Contract Package (Civil Works) | K2: Survey Package
C3: Classification | E3: No. | F3: Section | I3: Length | K3: No. | M3: Section
P4: Equation | R4: Firm | S4: 1 | T4: 2 | U4: 3 | V4: 4 | W4: 5
L5: CP | S5: TEDI | T5: TEDI-S | U5: 533 | V5: VECC | W5: EGS
B6: Danang | D6: Expressway | E6: PKG01 | F6: -800 | G6: - | H6: 8000 | I6: =H6-F6 -> 8800 | K6: 1 | L6: ML01-1 | M6: -800 | N6: - | O6: 4000 | P6: 0 | Q6: =O6-M6-P6 -> 4800 | R6: VECC | S6: =IF($R6="TEDI",$Q6,0) -> 0 | T6: =IF($R6="TEDI-S",$Q6,0) -> 0 | U6: =IF($R6=533,$Q6,0) -> 0 | V6: =IF($R6="VECC",$Q6,0) -> 4800 | W6: =IF($R6="EGS",$Q6,0) -> 0
K7: =K6+1 -> 2 | L7: ML01-2 | M7: =O6 -> 4000 | N7: - | O7: 8000 | P7: 0 | Q7: =O7-M7-P7 -> 4000 | R7: VECC | S7: =IF($R7="TEDI",$Q7,0) -> 0 | T7: =IF($R7="TEDI-S",$Q7,0) -> 0 | U7: =IF($R7=533,$Q7,0) -> 0 | V7: =IF($R7="VECC",$Q7,0) -> 4000 | W7: =IF($R7="EGS",$Q7,0) -> 0
B8: Quang Nam | E8: PKG02 | F8: =H6 -> 8000 | G8: - | H8: 17000 | I8: =H8-F8 -> 9000 | K8: =K7+1 -> 3 | L8: ML02-1 | M8: =O7 -> 8000 | N8: - | O8: 13000 | P8: 0 | Q8: =O8-M8-P8 -> 5000 | R8: VECC | S8: =IF($R8="TEDI",$Q8,0) -> 0 | T8: =IF($R8="TEDI-S",$Q8,0) -> 0 | U8: =IF($R8=533,$Q8,0) -> 0 | V8: =IF($R8="VECC",$Q8,0) -> 5000 | W8: =IF($R8="EGS",$Q8,0) -> 0
K9: =K8+1 -> 4 | L9: ML02-2 | M9: =O8 -> 13000 | N9: - | O9: 17000 | P9: 0 | Q9: =O9-M9-P9 -> 4000 | R9: VECC | S9: =IF($R9="TEDI",$Q9,0) -> 0 | T9: =IF($R9="TEDI-S",$Q9,0) -> 0 | U9: =IF($R9=533,$Q9,0) -> 0 | V9: =IF($R9="VECC",$Q9,0) -> 4000 | W9: =IF($R9="EGS",$Q9,0) -> 0
E10: PKG03 | F10: 17000 | G10: - | H10: 22000 | I10: =H10-F10-P10 -> 5059.78 | K10: =K9+1 -> 5 | L10: ML03-1 | M10: =O9 -> 17000 | N10: - | O10: 22000 | P10: -59.78 | Q10: =O10-M10-P10 -> 5059.78 | R10: TEDI | S10: =IF($R10="TEDI",$Q10,0) -> 5059.78 | T10: =IF($R10="TEDI-S",$Q10,0) -> 0 | U10: =IF($R10=533,$Q10,0) -> 0 | V10: =IF($R10="VECC",$Q10,0) -> 0 | W10: =IF($R10="EGS",$Q10,0) -> 0
E11: PKG04 | F11: =H10 -> 22000 | G11: - | H11: 32000 | I11: =H11-F11 -> 10000 | K11: =K10+1 -> 6 | L11: ML04-1 | M11: =O10 -> 22000 | N11: - | O11: 26800 | P11: 0 | Q11: =O11-M11-P11 -> 4800 | R11: EGS | S11: =IF($R11="TEDI",$Q11,0) -> 0 | T11: =IF($R11="TEDI-S",$Q11,0) -> 0 | U11: =IF($R11=533,$Q11,0) -> 0 | V11: =IF($R11="VECC",$Q11,0) -> 0 | W11: =IF($R11="EGS",$Q11,0) -> 4800
K12: =K11+1 -> 7 | L12: ML04-2 | M12: =O11 -> 26800 | N12: - | O12: 32000 | P12: 0 | Q12: =O12-M12-P12 -> 5200 | R12: EGS | S12: =IF($R12="TEDI",$Q12,0) -> 0 | T12: =IF($R12="TEDI-S",$Q12,0) -> 0 | U12: =IF($R12=533,$Q12,0) -> 0 | V12: =IF($R12="VECC",$Q12,0) -> 0 | W12: =IF($R12="EGS",$Q12,0) -> 5200
E13: PKG05 | F13: =H11 -> 32000 | G13: - | H13: 42000 | I13: =H13-F13 -> 10000 | K13: =K12+1 -> 8 | L13: ML05-1 | M13: =O12 -> 32000 | N13: - | O13: 35000 | P13: 0 | Q13: =O13-M13-P13 -> 3000 | R13: TEDI | S13: =IF($R13="TEDI",$Q13,0) -> 3000 | U13: =IF($R13=533,$Q13,0) -> 0 | V13: =IF($R13="VECC",$Q13,0) -> 0 | W13: =IF($R13="EGS",$Q13,0) -> 0
K14: =K13+1 -> 9 | L14: ML05-2 | M14: =O13 -> 35000 | N14: - | O14: 42000 | P14: 0 | Q14: =O14-M14-P14 -> 7000 | R14: TEDI-S | S14: =IF($R14="TEDI",$Q14,0) -> 0 | T14: =IF($R14="TEDI-S",$Q14,0) -> 7000 | U14: =IF($R14=533,$Q14,0) -> 0 | V14: =IF($R14="VECC",$Q14,0) -> 0 | W14: =IF($R14="EGS",$Q14,0) -> 0
E15: PKG06 | F15: 42000 | G15: - | H15: 52000 | I15: =H15-F15 -> 10000 | K15: =K14+1 -> 10 | L15: ML06-1 | M15: =O14 -> 42000 | N15: - | O15: 46600 | P15: 0 | Q15: =O15-M15-P15 -> 4600 | R15: TEDI-S | S15: =IF($R15="TEDI",$Q15,0) -> 0 | T15: =IF($R15="TEDI-S",$Q15,0) -> 4600 | U15: =IF($R15=533,$Q15,0) -> 0 | V15: =IF($R15="VECC",$Q15,0) -> 0 | W15: =IF($R15="EGS",$Q15,0) -> 0
K16: =K15+1 -> 11 | L16: ML06-2 | M16: =O15 -> 46600 | N16: - | O16: 52000 | P16: 0 | Q16: =O16-M16-P16 -> 5400 | R16: TEDI-S | S16: =IF($R16="TEDI",$Q16,0) -> 0 | T16: =IF($R16="TEDI-S",$Q16,0) -> 5400 | U16: =IF($R16=533,$Q16,0) -> 0 | V16: =IF($R16="VECC",$Q16,0) -> 0 | W16: =IF($R16="EGS",$Q16,0) -> 0
E17: PKG07 | F17: =H15 -> 52000 | G17: - | H17: 65000 | I17: =H17-F17 -> 13000 | K17: =K16+1 -> 12 | L17: ML07-1 | M17: =O16 -> 52000 | N17: - | O17: 56000 | P17: 0 | Q17: =O17-M17-P17 -> 4000 | R17: 533 | S17: =IF($R17="TEDI",$Q17,0) -> 0 | T17: =IF($R17="TEDI-S",$Q17,0) -> 0 | U17: =IF($R17=533,$Q17,0) -> 4000 | V17: =IF($R17="VECC",$Q17,0) -> 0 | W17: =IF($R17="EGS",$Q17,0) -> 0
K18: =K17+1 -> 13 | L18: ML07-2 | M18: =O17 -> 56000 | N18: - | O18: 60000 | P18: 0 | Q18: =O18-M18-P18 -> 4000 | R18: 533 | S18: =IF($R18="TEDI",$Q18,0) -> 0 | T18: =IF($R18="TEDI-S",$Q18,0) -> 0 | U18: =IF($R18=533,$Q18,0) -> 4000 | V18: =IF($R18="VECC",$Q18,0) -> 0 | W18: =IF($R18="EGS",$Q18,0) -> 0
K19: =K18+1 -> 14 | L19: ML07-3 | M19: =O18 -> 60000 | N19: - | O19: 65000 | P19: 0 | Q19: =O19-M19-P19 -> 5000 | R19: 533 | S19: =IF($R19="TEDI",$Q19,0) -> 0 | T19: =IF($R19="TEDI-S",$Q19,0) -> 0 | U19: =IF($R19=533,$Q19,0) -> 5000 | V19: =IF($R19="VECC",$Q19,0) -> 0 | W19: =IF($R19="EGS",$Q19,0) -> 0
E20: PKGA1 | F20: =H17 -> 65000 | G20: - | H20: 81500 | I20: =H20-F20-P21 -> 16557.32 | K20: =K19+1 -> 15 | L20: MLA1-1 | M20: =O19 -> 65000 | N20: - | O20: 71000 | P20: 0 | Q20: =O20-M20-P20 -> 6000 | R20: TEDI | S20: =IF($R20="TEDI",$Q20,0) -> 6000 | T20: =IF($R20="TEDI-S",$Q20,0) -> 0 | U20: =IF($R20=533,$Q20,0) -> 0 | V20: =IF($R20="VECC",$Q20,0) -> 0 | W20: =IF($R20="EGS",$Q20,0) -> 0
K21: =K20+1 -> 16 | L21: MLA1-2 | M21: =O20 -> 71000 | N21: - | O21: 76000 | P21: -57.32 | Q21: =O21-M21-P21 -> 5057.32 | R21: TEDI | S21: =IF($R21="TEDI",$Q21,0) -> 5057.32 | T21: =IF($R21="TEDI-S",$Q21,0) -> 0 | U21: =IF($R21=533,$Q21,0) -> 0 | V21: =IF($R21="VECC",$Q21,0) -> 0 | W21: =IF($R21="EGS",$Q21,0) -> 0
K22: =K21+1 -> 17 | L22: MLA1-3 | M22: =O21 -> 76000 | N22: - | O22: 81500 | P22: 0 | Q22: =O22-M22-P22 -> 5500 | R22: TEDI | S22: =IF($R22="TEDI",$Q22,0) -> 5500 | T22: =IF($R22="TEDI-S",$Q22,0) -> 0 | U22: =IF($R22=533,$Q22,0) -> 0 | V22: =IF($R22="VECC",$Q22,0) -> 0 | W22: =IF($R22="EGS",$Q22,0) -> 0
E23: PKGA2 | F23: =H20 -> 81500 | G23: - | H23: 100000 | I23: =H23-F23-P25 -> 18200 | K23: =K22+1 -> 18 | L23: MLA2-1 | M23: =O22 -> 81500 | N23: - | O23: 87000 | P23: 0 | Q23: =O23-M23-P23 -> 5500 | R23: TEDI | S23: =IF($R23="TEDI",$Q23,0) -> 5500 | T23: =IF($R23="TEDI-S",$Q23,0) -> 0 | U23: =IF($R23=533,$Q23,0) -> 0 | V23: =IF($R23="VECC",$Q23,0) -> 0 | W23: =IF($R23="EGS",$Q23,0) -> 0
K24: =K23+1 -> 19 | L24: MLA2-2 | M24: =O23 -> 87000 | N24: - | O24: 93000 | P24: 0 | Q24: =O24-M24-P24 -> 6000 | R24: TEDI | S24: =IF($R24="TEDI",$Q24,0) -> 6000 | T24: =IF($R24="TEDI-S",$Q24,0) -> 0 | U24: =IF($R24=533,$Q24,0) -> 0 | V24: =IF($R24="VECC",$Q24,0) -> 0 | W24: =IF($R24="EGS",$Q24,0) -> 0
K25: =K24+1 -> 20 | L25: MLA2-3 | M25: =O24 -> 93000 | N25: - | O25: 100000 | P25: 300 | Q25: =O25-M25-P25 -> 6700 | R25: TEDI | S25: =IF($R25="TEDI",$Q25,0) -> 6700 | T25: =IF($R25="TEDI-S",$Q25,0) -> 0 | U25: =IF($R25=533,$Q25,0) -> 0 | V25: =IF($R25="VECC",$Q25,0) -> 0 | W25: =IF($R25="EGS",$Q25,0) -> 0
B26: Quang Ngai | E26: PKGA3 | F26: =H23 -> 100000 | G26: - | H26: 110000 | I26: =H26-F26-P26 -> 10173.22 | K26: =K25+1 -> 21 | L26: MLA3-1 | M26: =O25 -> 100000 | N26: - | O26: 105000 | P26: -173.22 | Q26: =O26-M26-P26 -> 5173.22 | R26: TEDI | S26: =IF($R26="TEDI",$Q26,0) -> 5173.22 | T26: =IF($R26="TEDI-S",$Q26,0) -> 0 | U26: =IF($R26=533,$Q26,0) -> 0 | V26: =IF($R26="VECC",$Q26,0) -> 0 | W26: =IF($R26="EGS",$Q26,0) -> 0
K27: =K26+1 -> 22 | L27: MLA3-2 | M27: =O26 -> 105000 | N27: - | O27: 110000 | P27: 0 | Q27: =O27-M27-P27 -> 5000 | R27: TEDI | S27: =IF($R27="TEDI",$Q27,0) -> 5000 | T27: =IF($R27="TEDI-S",$Q27,0) -> 0 | U27: =IF($R27=533,$Q27,0) -> 0 | V27: =IF($R27="VECC",$Q27,0) -> 0 | W27: =IF($R27="EGS",$Q27,0) -> 0
E28: PKGA4 | F28: =H26 -> 110000 | G28: - | H28: 125000 | I28: =H28-F28 -> 15000 | K28: =K27+1 -> 23 | L28: MLA4-1 | M28: =O27 -> 110000 | N28: - | O28: 115000 | P28: 0 | Q28: =O28-M28-P28 -> 5000 | R28: TEDI | S28: =IF($R28="TEDI",$Q28,0) -> 5000 | T28: =IF($R28="TEDI-S",$Q28,0) -> 0 | U28: =IF($R28=533,$Q28,0) -> 0 | V28: =IF($R28="VECC",$Q28,0) -> 0 | W28: =IF($R28="EGS",$Q28,0) -> 0
K29: =K28+1 -> 24 | L29: MLA4-2 | M29: =O28 -> 115000 | N29: - | O29: 120000 | P29: 0 | Q29: =O29-M29-P29 -> 5000 | R29: TEDI | S29: =IF($R29="TEDI",$Q29,0) -> 5000 | T29: =IF($R29="TEDI-S",$Q29,0) -> 0 | U29: =IF($R29=533,$Q29,0) -> 0 | V29: =IF($R29="VECC",$Q29,0) -> 0 | W29: =IF($R29="EGS",$Q29,0) -> 0
K30: =K29+1 -> 25 | L30: MLA4-3 | M30: =O29 -> 120000 | N30: - | O30: 125000 | P30: 0 | Q30: =O30-M30-P30 -> 5000 | R30: TEDI | S30: =IF($R30="TEDI",$Q30,0) -> 5000 | T30: =IF($R30="TEDI-S",$Q30,0) -> 0 | U30: =IF($R30=533,$Q30,0) -> 0 | V30: =IF($R30="VECC",$Q30,0) -> 0 | W30: =IF($R30="EGS",$Q30,0) -> 0
E31: PKGA5 | F31: =H28 -> 125000 | G31: - | H31: 131500 | I31: =H31-F31 -> 6500 | K31: =K30+1 -> 26 | L31: MLA5-1 | M31: =O30 -> 125000 | N31: - | O31: 131500 | P31: 0 | Q31: =O31-M31-P31 -> 6500 | R31: TEDI | S31: =IF($R31="TEDI",$Q31,0) -> 6500 | T31: =IF($R31="TEDI-S",$Q31,0) -> 0 | U31: =IF($R31=533,$Q31,0) -> 0 | V31: =IF($R31="VECC",$Q31,0) -> 0 | W31: =IF($R31="EGS",$Q31,0) -> 0
D32: Linking Road | F32: 131500 | G32: - | H32: 136500 | I32: =H32-F32 -> 5000 | K32: =K31+1 -> 27 | L32: MLA5-2 | M32: =O31 -> 131500 | N32: - | O32: 136500 | P32: 0 | Q32: =O32-M32-P32 -> 5000 | R32: TEDI | S32: =IF($R32="TEDI",$Q32,0) -> 5000 | T32: =IF($R32="TEDI-S",$Q32,0) -> 0 | U32: =IF($R32=533,$Q32,0) -> 0 | V32: =IF($R32="VECC",$Q32,0) -> 0 | W32: =IF($R32="EGS",$Q32,0) -> 0
F33: 136500 | G33: - | H33: 139522 | I33: =H33-F33 -> 3022 | K33: =K32+1 -> 28 | L33: MLA5-3 | M33: =O32 -> 136500 | O33: 139522 | P33: 0 | Q33: =O33-M33-P33 -> 3022 | R33: TEDI | S33: =IF($R33="TEDI",$Q33,0) -> 3022 | T33: =IF($R33="TEDI-S",$Q33,0) -> 0 | U33: =IF($R33=533,$Q33,0) -> 0 | V33: =IF($R33="VECC",$Q33,0) -> 0 | W33: =IF($R33="EGS",$Q33,0) -> 0
A34: Total | I34: =SUM(I6:I33) -> 140312.32 | Q34: =SUM(Q6:Q33) -> 140312.32 | S34: =SUM(S6:S33) -> 82512.32 | T34: =SUM(T6:T33) -> 17000 | U34: =SUM(U6:U33) -> 13000 | V34: =SUM(V6:V33) -> 17800 | W34: =SUM(W6:W33) -> 10000
S35: =S34/$Q$34 -> 0.58806183 | T35: =T34/$Q$34 -> 0.12115828 | U35: =U34/$Q$34 -> 0.092650453 | V35: =V34/$Q$34 -> 0.12685985 | W35: =W34/$Q$34 -> 0.071269579
D36: Updated Section in 2010
E37: Km0+000 - Km16+000
E38: Km60+000 - Km73+000
E39: Km109+000 - Km131+500
E40: Km131+500 - Km139+631

Sheet TopoBase(110804)
A1: Topographic Survey
A2: Jurisdiction | C2: Road | E2: Construction Contract Package (Civil Works) | K2: Survey Package | R2: Estimated Cost (USD)
C3: Classification | E3: No. | F3: Section | I3: Length | K3: No. | M3: Section | R3: Proposal | S3: 2011.08
P4: Equation
L5: CP | R5: =85267.53*1.04 -> 88678.231 | S5: 165515.91
B6: Danang | D6: Expressway | E6: PKG01 | F6: -800 | G6: - | H6: 8000 | I6: =H6-F6 -> 8800 | K6: 1 | L6: ML01-1 | M6: -800 | N6: - | O6: 4000 | P6: 0 | Q6: =O6-M6-P6 -> 4800 | S6: 69693.52
K7: =K6+1 -> 2 | L7: ML01-2 | M7: =O6 -> 4000 | N7: - | O7: 8000 | P7: 0 | Q7: =O7-M7-P7 -> 4000 | S7: 33207.262
B8: Quang Nam | E8: PKG02 | F8: =H6 -> 8000 | G8: - | H8: 17000 | I8: =H8-F8 -> 9000 | K8: =K7+1 -> 3 | L8: ML02-1 | M8: =O7 -> 8000 | N8: - | O8: 13000 | P8: 0 | Q8: =O8-M8-P8 -> 5000 | S8: 44041.011
K9: =K8+1 -> 4 | L9: ML02-2 | M9: =O8 -> 13000 | N9: - | O9: 17000 | P9: 0 | Q9: =O9-M9-P9 -> 4000 | S9: 34559.483
E10: PKG03 | F10: 17000 | G10: - | H10: 22000 | I10: =H10-F10-P10 -> 5059.78 | K10: =K9+1 -> 5 | L10: ML03-1 | M10: =O9 -> 17000 | N10: - | O10: 22000 | P10: -59.78 | Q10: =O10-M10-P10 -> 5059.78 | S10: 63173.811
E11: PKG04 | F11: =H10 -> 22000 | G11: - | H11: 32000 | I11: =H11-F11 -> 10000 | K11: =K10+1 -> 6 | L11: ML04-1 | M11: =O10 -> 22000 | N11: - | O11: 26800 | P11: 0 | Q11: =O11-M11-P11 -> 4800 | S11: 32505.679
K12: =K11+1 -> 7 | L12: ML04-2 | M12: =O11 -> 26800 | N12: - | O12: 32000 | P12: 0 | Q12: =O12-M12-P12 -> 5200 | S12: 37889.895
E13: PKG05 | F13: =H11 -> 32000 | G13: - | H13: 42000 | I13: =H13-F13 -> 10000 | K13: =K12+1 -> 8 | L13: ML05-1 | M13: =O12 -> 32000 | N13: - | O13: 35000 | P13: 0 | Q13: =O13-M13-P13 -> 3000 | S13: 17708.99
K14: =K13+1 -> 9 | L14: ML05-2 | M14: =O13 -> 35000 | N14: - | O14: 42000 | P14: 0 | Q14: =O14-M14-P14 -> 7000 | S14: 67398.405
E15: PKG06 | F15: 42000 | G15: - | H15: 52000 | I15: =H15-F15 -> 10000 | K15: =K14+1 -> 10 | L15: ML06-1 | M15: =O14 -> 42000 | N15: - | O15: 46600 | P15: 0 | Q15: =O15-M15-P15 -> 4600 | S15: 33230.316
K16: =K15+1 -> 11 | L16: ML06-2 | M16: =O15 -> 46600 | N16: - | O16: 52000 | P16: 0 | Q16: =O16-M16-P16 -> 5400 | S16: 39745.21
E17: PKG07 | F17: =H15 -> 52000 | G17: - | H17: 65000 | I17: =H17-F17 -> 13000 | K17: =K16+1 -> 12 | L17: ML07-1 | M17: =O16 -> 52000 | N17: - | O17: 56000 | P17: 0 | Q17: =O17-M17-P17 -> 4000 | S17: 31489.163
K18: =K17+1 -> 13 | L18: ML07-2 | M18: =O17 -> 56000 | N18: - | O18: 60000 | P18: 0 | Q18: =O18-M18-P18 -> 4000 | S18: 29633.677
K19: =K18+1 -> 14 | L19: ML07-3 | M19: =O18 -> 60000 | N19: - | O19: 65000 | P19: 0 | Q19: =O19-M19-P19 -> 5000 | S19: 53249.385
E20: PKGA1 | F20: =H17 -> 65000 | G20: - | H20: 81500 | I20: =H20-F20-P21 -> 16557.32 | K20: =K19+1 -> 15 | L20: MLA1-1 | M20: =O19 -> 65000 | N20: - | O20: 71000 | P20: 0 | Q20: =O20-M20-P20 -> 6000 | S20: 45610.985
K21: =K20+1 -> 16 | L21: MLA1-2 | M21: =O20 -> 71000 | N21: - | O21: 76000 | P21: -57.32 | Q21: =O21-M21-P21 -> 5057.32 | S21: 41611.886
K22: =K21+1 -> 17 | L22: MLA1-3 | M22: =O21 -> 76000 | N22: - | O22: 81500 | P22: 0 | Q22: =O22-M22-P22 -> 5500 | S22: 37219.948
E23: PKGA2 | F23: =H20 -> 81500 | G23: - | H23: 100000 | I23: =H23-F23-P25 -> 18200 | K23: =K22+1 -> 18 | L23: MLA2-1 | M23: =O22 -> 81500 | N23: - | O23: 87000 | P23: 0 | Q23: =O23-M23-P23 -> 5500 | S23: 50428.632
K24: =K23+1 -> 19 | L24: MLA2-2 | M24: =O23 -> 87000 | N24: - | O24: 93000 | P24: 0 | Q24: =O24-M24-P24 -> 6000 | S24: 41498.412
K25: =K24+1 -> 20 | L25: MLA2-3 | M25: =O24 -> 93000 | N25: - | O25: 100000 | P25: 300 | Q25: =O25-M25-P25 -> 6700 | S25: 44442.184
B26: Quang Ngai | E26: PKGA3 | F26: =H23 -> 100000 | G26: - | H26: 110000 | I26: =H26-F26-P26 -> 10173.22 | K26: =K25+1 -> 21 | L26: MLA3-1 | M26: =O25 -> 100000 | N26: - | O26: 105000 | P26: -173.22 | Q26: =O26-M26-P26 -> 5173.22 | S26: 45756.438
K27: =K26+1 -> 22 | L27: MLA3-2 | M27: =O26 -> 105000 | N27: - | O27: 110000 | P27: 0 | Q27: =O27-M27-P27 -> 5000 | S27: 35829.45
E28: PKGA4 | F28: =H26 -> 110000 | G28: - | H28: 125000 | I28: =H28-F28 -> 15000 | K28: =K27+1 -> 23 | L28: MLA4-1 | M28: =O27 -> 110000 | N28: - | O28: 115000 | P28: 0 | Q28: =O28-M28-P28 -> 5000 | S28: 48686.785
K29: =K28+1 -> 24 | L29: MLA4-2 | M29: =O28 -> 115000 | N29: - | O29: 120000 | P29: 0 | Q29: =O29-M29-P29 -> 5000 | S29: 40531.74
K30: =K29+1 -> 25 | L30: MLA4-3 | M30: =O29 -> 120000 | N30: - | O30: 125000 | P30: 0 | Q30: =O30-M30-P30 -> 5000 | S30: 48646.818
E31: PKGA5 | F31: =H28 -> 125000 | G31: - | H31: 131500 | I31: =H31-F31 -> 6500 | K31: =K30+1 -> 26 | L31: MLA5-1 | M31: =O30 -> 125000 | N31: - | O31: 131500 | P31: 0 | Q31: =O31-M31-P31 -> 6500 | S31: 54995.489
D32: Linking Road | F32: 131500 | G32: - | H32: 136500 | I32: =H32-F32 -> 5000 | K32: =K31+1 -> 27 | L32: MLA5-2 | M32: =O31 -> 131500 | N32: - | O32: 136500 | P32: 0 | Q32: =O32-M32-P32 -> 5000 | S32: 15399.677
F33: 136500 | G33: - | H33: 139522 | I33: =H33-F33 -> 3022 | K33: =K32+1 -> 28 | L33: MLA5-3 | M33: =O32 -> 136500 | O33: 139522 | P33: 0 | Q33: =O33-M33-P33 -> 3022 | S33: 13446.024
A34: Total | I34: =SUM(I5:I33) -> 140312.32 | Q34: =SUM(Q5:Q33) -> 140312.32 | S34: =SUM(S5:S33) -> 1317146.2
