Workbook
Name becoc: #REF!
Name becoc: #REF!
Name bemo: #REF!
Name bemo: #REF!
Name Caungang: '[1]Cau Vuot ngang'!$B$9:$AF$27
Name CHT: #REF!
Name CHT: #REF!
Name DGDAM: #REF!
Name DGDAM: #REF!
Name DT: #REF!
Name DT: #REF!
Name KL: #REF!
Name KL: #REF!
Name Rong: #REF!
Name Rong: #REF!
Name SLmo: #REF!
Name SLmo: #REF!
Name TONGHOP: #REF!
Name TONGHOP: #REF!
Name trcan: #REF!
Name trcan: #REF!
Name Trunuoc: #REF!
Name Trunuoc: #REF!

Sheet Cover
A1: Topographic Survey Plan
N4: 1 | Q4: Project Facility Plan | BF4: Page 2
N7: 2 | Q7: Survey Packages and Demarcation among Sub-contractors | BF7: Page 4
N10: 3 | Q10: Survey Cost
Q13: 3.1 | T13: Survey Cost by Sub-contractors | BF13: Page 5
Q16: 3.2 | T16: Survey Cost by Survey Packages | BF16: Page 6
N19: 4 | Q19: Survey Plan
Q22: 4.1 | T22: Survey Plan | BF22: Page 7
Q25: 4.2 | T25: Detailed Survey Plan
T28: 4.2.1 | X28: Detailed Survey Plan (Main Line, Road Section) | BF28: Page 21
T31: 4.2.2 | X31: Detailed Survey Plan (Tunnel) | BF31: Page 24
T34: 4.2.3 | X34: Detailed Survey Plan (Bridge) | BF34: Page 25
T37: 4.2.4 | X37: Detailed Survey Plan (Culvert Box) | BF37: Page 29
T40: 4.2.5 | X40: Detailed Survey Plan (Culvert Pipe) | BF40: Page 33
T43: 4.2.6 | X43: Detailed Survey Plan (Interchange) | BF43: Page 37
T46: 4.2.7 | X46: Detailed Survey Plan (Building) | BF46: Page 38
T49: 4.2.8 | X49: Detailed Survey Plan (Intersection) | BF49: Page 39
T52: 4.2.9 | X52: Detailed Survey Plan (Canal (Re-alignment)) | BF52: Page 40

Sheet Abbreviation
A1: Abbreviation and Survey Item
A4: Main Line | AM4: Cross Drainage, Cross Structure and Road Facilities
A6: Abbreviation / Component | R6: Survey Item | AM6: Abbreviation / Component | BG6: Survey Item
A7: ML/ | D7: Main Line, Road Section | R7: Planimetric (1/1,000) | AM7: CB/ | AP7: Culvert Box | BG7: Profile (WT: 1/200, RD: 1/500)
R8: Profile (1/1,000; 1/100) | AM8: - WT/ | AQ8: Waterway | BG8: Cross-section (1/200)
R9: Cross-section (1/200) | AM9: - RD/ | AQ9: Roadway
A10: TN/ | D10: Tunnel | R10: Planimetric (1/500) | AM10: CP/ | AP10: Culvert Pipe | BG10: Profile (1/200)
A11: BR/ | D11: Bridge | R11: Secondary Control Point | AM11: CN/ | AP11: Canal | BG11: Profile (1/500)
A12: - LRB/ | F12: Large River Bridge | R12: Planimetric (1/500) | BG12: Cross-section (1/200)
A13: - ORB/ | F13: Other River Bridge | R13: Profile (1/500) | AM13: FO/ | AP13: Flyover | BG13: Secondary Control Point
A14: - SB/ | F14: Stream Bridge | R14: Cross-section (Approach Road, 1/200) | BG14: Planimetric (1/500)
A15: - CB/ | F15: Canal Bridge | R15: River Profile (1/1,000; 1/100) | BG15: Profile (1/500)
A16: - VD/ | F16: Viaduct | R16: River Cross-section (1/200) | BG16: Cross-section (Approach Road, 1/200)
A17: - OP/ | F17: Overpass | AM17: IC/ | AP17: Interchange | BG17: Secondary Control Point
AM18: - IRB/ | AQ18: Interchange Rampway Bridge | BG18: Secondary Leveling Network
BG19: Planimetric (1/500)
BG20: Profile (Rampway, 1/1,000; 1/100)
BG21: Cross-section (Rampway, 1/200)
AM22: BL/ | AP22: Building | BG22: Planimetric (1/500)
AM23: IS/ | AP23: Intersection | BG23: Planimetric (1/500)
BG24: Profile (1/1,000; 1/100)
BG25: Cross-section (1/200)

Sheet 1.Facility Plan

Sheet 2.PKG
B1: A. Control Point and Leveling Network Survey
A2: Jurisdiction | C2: Road | E2: Construction Contract Package (Civil Works) | K2: Survey Package | T2: Demarcation among Sub-contractors
C3: Classification | E3: No. | F3: Section | I3: Length | K3: No. | M3: Section | P3: Equation | R3: Length | T3: Thang Loi | V3: TEDIS | X3: TDIC | Z3: ENR | AB3: EGS | AD3: Tien Khai | AF3: INPEL | AH3: BMT
B4: Quang Nam/ | D4: Expressway | K4: 1 | L4: CP | M4: 16000 | N4: - | O4: 60000 | T4: 1
B5: Quang Ngai | M5: 73000 | N5: - | O5: 109000
M6: 109000 | N6: - | O6: 131500
D7: Linking Road | M7: 131500 | N7: - | O7: 139500
A8: Total | T8: =SUM(T4:T7) -> 1
B10: B. Expressway, C. Linking Road
A11: Jurisdiction | C11: Road | E11: Construction Contract Package (Civil Works) | K11: Survey Package | T11: Demarcation among Sub-contractors
C12: Classification | E12: No. | F12: Section | I12: Length | K12: No. | M12: Section | P12: Equation | R12: Length | T12: TEDI | V12: TEDIS | X12: TECCO533 | Z12: VECC | AB12: EGS | AD12: Tien Khai | AF12: INPEL | AH12: BMT
B13: Danang | D13: Expressway | E13: PKG01 | F13: 0 | G13: - | H13: 8000 | I13: =(H13-F13)-P13-P14 -> 8000 | K13: 1 | L13: ='4.1Plan'!D6 -> ML01-1 | M13: ='4.1Plan'!AB6 -> -800 | N13: - | O13: ='4.1Plan'!AD6 -> 4000 | R13: ='4.1Plan'!AH6 -> 4800 | Z13: =R13 -> 4800
K14: 2 | L14: ='4.1Plan'!D33 -> ML01-2 | M14: ='4.1Plan'!AB33 -> 4000 | N14: - | O14: ='4.1Plan'!AD33 -> 8000 | R14: ='4.1Plan'!AH33 -> 4000 | Z14: =R14 -> 4000
B15: Quang Nam | E15: PKG02 | F15: 8000 | G15: - | H15: 17000 | I15: =(H15-F15)-P15-P16 -> 9000 | K15: 3 | L15: ='4.1Plan'!D53 -> ML02-1 | M15: ='4.1Plan'!AB53 -> 8000 | N15: - | O15: ='4.1Plan'!AD53 -> 13000 | R15: ='4.1Plan'!AH53 -> 5000 | Z15: =R15 -> 5000
K16: 4 | L16: ='4.1Plan'!D89 -> ML02-2 | M16: ='4.1Plan'!AB89 -> 13000 | N16: - | O16: ='4.1Plan'!AD89 -> 17000 | R16: ='4.1Plan'!AH89 -> 4000 | Z16: =R16 -> 4000
E17: PKG03 | F17: 17000 | G17: - | H17: 22000 | I17: =(H17-F17)-P17 -> 5059.78 | K17: 5 | L17: ='4.1Plan'!D120 -> ML03-1 | M17: ='4.1Plan'!AB120 -> 17000 | N17: - | O17: ='4.1Plan'!AD120 -> 22000 | P17: ='4.1Plan'!AF120 -> -59.78 | R17: ='4.1Plan'!AH120 -> 5059.78 | T17: =R17 -> 5059.78
E18: PKG04 | F18: 22000 | G18: - | H18: 32000 | I18: =(H18-F18)-P18-P19 -> 10000 | K18: 6 | L18: ='4.1Plan'!D149 -> ML04-1 | M18: ='4.1Plan'!AB149 -> 22000 | N18: - | O18: ='4.1Plan'!AD149 -> 26800 | R18: ='4.1Plan'!AH149 -> 4800 | AB18: =R18 -> 4800
K19: 7 | L19: ='4.1Plan'!D173 -> ML04-2 | M19: ='4.1Plan'!AB173 -> 26800 | N19: - | O19: ='4.1Plan'!AD173 -> 32000 | R19: ='4.1Plan'!AH173 -> 5200 | AB19: =R19 -> 5200
E20: PKG05 | F20: 32000 | G20: - | H20: 42000 | I20: =(H20-F20)-P20-P21 -> 10000 | K20: 8 | L20: ='4.1Plan'!D203 -> ML05-1 | M20: ='4.1Plan'!AB203 -> 32000 | N20: - | O20: ='4.1Plan'!AD203 -> 35000 | R20: ='4.1Plan'!AH203 -> 3000 | T20: =R20 -> 3000
K21: 9 | L21: ='4.1Plan'!D216 -> ML05-2 | M21: ='4.1Plan'!AB216 -> 35000 | N21: - | O21: ='4.1Plan'!AD216 -> 42000 | R21: ='4.1Plan'!AH216 -> 7000 | V21: =R21 -> 7000
E22: PKG06 | F22: 42000 | G22: - | H22: 52000 | I22: =(H22-F22)-P22-P23 -> 10000 | K22: 10 | L22: ='4.1Plan'!D252 -> ML06-1 | M22: ='4.1Plan'!AB252 -> 42000 | N22: - | O22: ='4.1Plan'!AD252 -> 46600 | R22: ='4.1Plan'!AH252 -> 4600 | V22: =R22 -> 4600
K23: 11 | L23: ='4.1Plan'!D279 -> ML06-2 | M23: ='4.1Plan'!AB279 -> 46600 | N23: - | O23: ='4.1Plan'!AD279 -> 52000 | R23: ='4.1Plan'!AH279 -> 5400 | V23: =R23 -> 5400
E24: PKG07 | F24: 52000 | G24: - | H24: 65000 | I24: =(H24-F24)-P24-P25-P26 -> 13000 | K24: 12 | L24: ='4.1Plan'!D309 -> ML07-1 | M24: ='4.1Plan'!AB309 -> 52000 | N24: - | O24: ='4.1Plan'!AD309 -> 56000 | R24: ='4.1Plan'!AH309 -> 4000 | X24: =R24 -> 4000
K25: 13 | L25: ='4.1Plan'!D331 -> ML07-2 | M25: ='4.1Plan'!AB331 -> 56000 | N25: - | O25: ='4.1Plan'!AD331 -> 60000 | R25: ='4.1Plan'!AH331 -> 4000 | X25: =R25 -> 4000
K26: 14 | L26: ='4.1Plan'!D355 -> ML07-3 | M26: ='4.1Plan'!AB355 -> 60000 | N26: - | O26: ='4.1Plan'!AD355 -> 65000 | R26: ='4.1Plan'!AH355 -> 5000 | X26: =R26 -> 5000
E27: PKGA1 | F27: 65000 | G27: - | H27: 81500 | I27: =(H27-F27)-P27-P28-P29 -> 16557.32 | K27: 15 | L27: ='4.1Plan'!D377 -> MLA1-1 | M27: ='4.1Plan'!AB377 -> 65000 | N27: - | O27: ='4.1Plan'!AD377 -> 70000 | R27: ='4.1Plan'!AH377 -> 5000 | T27: =R27 -> 5000
K28: 16 | L28: ='4.1Plan'!D399 -> MLA1-2 | M28: ='4.1Plan'!AB399 -> 70000 | N28: - | O28: ='4.1Plan'!AD399 -> 76000 | P28: ='4.1Plan'!AF399 -> -57.32 | R28: ='4.1Plan'!AH399 -> 6057.32 | T28: =R28 -> 6057.32
K29: 17 | L29: ='4.1Plan'!D431 -> MLA1-3 | M29: ='4.1Plan'!AB431 -> 76000 | N29: - | O29: ='4.1Plan'!AD431 -> 81500 | R29: ='4.1Plan'!AH431 -> 5500 | T29: =R29 -> 5500
E30: PKGA2 | F30: 81500 | G30: - | H30: 100000 | I30: =(H30-F30)-P30-P31-P32 -> 18200.34 | K30: 18 | L30: ='4.1Plan'!D445 -> MLA2-1 | M30: ='4.1Plan'!AB445 -> 81500 | N30: - | O30: ='4.1Plan'!AD445 -> 87000 | R30: ='4.1Plan'!AH445 -> 5500 | T30: =R30 -> 5500
K31: 19 | L31: ='4.1Plan'!D468 -> MLA2-2 | M31: ='4.1Plan'!AB468 -> 87000 | N31: - | O31: ='4.1Plan'!AD468 -> 93000 | R31: ='4.1Plan'!AH468 -> 6000 | T31: =R31 -> 6000
K32: 20 | L32: ='4.1Plan'!D490 -> MLA2-3 | M32: ='4.1Plan'!AB490 -> 93000 | N32: - | O32: ='4.1Plan'!AD490 -> 100000 | P32: ='4.1Plan'!AF490 -> 299.66 | R32: ='4.1Plan'!AH490 -> 6700.34 | T32: =R32 -> 6700.34
E33: PKGA3 | F33: 100000 | G33: - | H33: 110000 | I33: =(H33-F33)-P33-P34 -> 10173.22 | K33: 21 | L33: ='4.1Plan'!D515 -> MLA3-1 | M33: ='4.1Plan'!AB515 -> 100000 | N33: - | O33: ='4.1Plan'!AD515 -> 105000 | P33: ='4.1Plan'!AF515 -> -173.22 | R33: ='4.1Plan'!AH515 -> 5173.22 | T33: =R33 -> 5173.22
K34: 22 | L34: ='4.1Plan'!D539 -> MLA3-2 | M34: ='4.1Plan'!AB539 -> 105000 | N34: - | O34: ='4.1Plan'!AD539 -> 110000 | R34: ='4.1Plan'!AH539 -> 5000 | T34: =R34 -> 5000
B35: Quang Ngai | E35: PKGA4 | F35: 110000 | G35: - | H35: 125000 | I35: =(H35-F35)-P35-P36-P37 -> 15000 | K35: 23 | L35: ='4.1Plan'!D555 -> MLA4-1 | M35: ='4.1Plan'!AB555 -> 110000 | N35: - | O35: ='4.1Plan'!AD555 -> 115000 | R35: ='4.1Plan'!AH555 -> 5000 | T35: =R35 -> 5000
K36: 24 | L36: ='4.1Plan'!D576 -> MLA4-2 | M36: ='4.1Plan'!AB576 -> 115000 | N36: - | O36: ='4.1Plan'!AD576 -> 120000 | R36: ='4.1Plan'!AH576 -> 5000 | T36: =R36 -> 5000
K37: 25 | L37: ='4.1Plan'!D595 -> MLA4-3 | M37: ='4.1Plan'!AB595 -> 120000 | N37: - | O37: ='4.1Plan'!AD595 -> 125000 | R37: ='4.1Plan'!AH595 -> 5000 | T37: =R37 -> 5000
E38: PKGA5 | F38: 125000 | G38: - | H38: 139522 | I38: =(H38-F38)-P38-P39-P40 -> 14522 | K38: 26 | L38: ='4.1Plan'!D619 -> MLA5-1 | M38: ='4.1Plan'!AB619 -> 125000 | N38: - | O38: ='4.1Plan'!AD619 -> 131500 | R38: ='4.1Plan'!AH619 -> 6500 | T38: =R38 -> 6500
D39: Linking Road | K39: 27 | L39: ='4.1Plan'!V645 -> MLA5-2 | M39: ='4.1Plan'!AB645 -> 131500 | N39: - | O39: ='4.1Plan'!AD645 -> 136000 | R39: ='4.1Plan'!AH645 -> 4500 | T39: =R39 -> 4500
K40: 28 | L40: ='4.1Plan'!V674 -> MLA5-3 | M40: ='4.1Plan'!AB674 -> 136000 | N40: - | O40: ='4.1Plan'!AD674 -> 139572 | R40: ='4.1Plan'!AH674 -> 3572 | T40: =R40 -> 3572
A41: Total | I41: =SUM(I13:I40) -> 139512.66 | R41: =SUM(R13:R40) -> 140362.66 | T41: =SUM(T13:T40) -> 82562.66 | V41: =SUM(V13:V40) -> 17000 | X41: =SUM(X13:X40) -> 13000 | Z41: =SUM(Z13:Z40) -> 17800 | AB41: =SUM(AB13:AB40) -> 10000 | AD41: =SUM(AD13:AD40) -> 0 | AF41: =SUM(AF13:AF40) -> 0 | AH41: =SUM(AH13:AH40) -> 0
...

Sheet 3.1Cost by Sub-contractors
A1: No. | B1: Item | H1: Specifications | J1: Unit | K1: Total | Q1: By Sub-contractors
Q2: Thang Loi | U2: TEDIS | Y2: TDIC | AC2: ENR | AG2: EGS | AK2: Tien Khai | AO2: INPEL | AS2: BMT
K3: Unit Price | M3: Qty | O3: Amount | Q3: Qty | S3: Amount | U3: Qty | W3: Amount | Y3: Qty | AA3: Amount | AC3: Qty | AE3: Amount | AG3: Qty | AI3: Amount | AK3: Qty | AM3: Amount | AO3: Qty | AQ3: Amount | AS3: Qty | AU3: Amount
K4: (USD) | O4: (USD) | S4: (USD) | W4: (USD) | AA4: (USD) | AE4: (USD) | AI4: (USD) | AM4: (USD) | AQ4: (USD) | AU4: (USD)
A5: A | C5: Control Point and Leveling Network | O5: =S5 -> 0 | S5: ='3.2Cost by Packages'!O7 -> 0
A6: 1 | C6: Primary Control Point (GPS) | O6: =S6 -> 0 | S6: ='3.2Cost by Packages'!O8 -> 0
A7: 1.1 | C7: Primary Control Point (GPS) | H7: Class IV, VN2000 | J7: (nos.) | M7: =Q7 -> 49 | O7: =S7 -> 0 | Q7: ='3.2Cost by Packages'!M9 -> 49 | S7: ='3.2Cost by Packages'!O9 -> 0
A8: 1.2 | C8: Primary Leveling Network (GPS Network) | J8: (km) | M8: =Q8 -> 210 | O8: =S8 -> 0 | Q8: ='3.2Cost by Packages'!M10 -> 210 | S8: ='3.2Cost by Packages'!O10 -> 0
A9: 2 | C9: Secondary Control Point | O9: =S9 -> 0 | S9: ='3.2Cost by Packages'!O11 -> 0
A10: 2.1 | C10: Secondary Control Point | H10: Class II | J10: (nos.) | M10: =Q10 -> 500 | O10: =S10 -> 0 | Q10: ='3.2Cost by Packages'!M12 -> 500 | S10: ='3.2Cost by Packages'!O12 -> 0
A11: 2.2 | C11: Secondary Leveling Network | J11: (km) | M11: =Q11 -> 170 | O11: =S11 -> 0 | Q11: ='3.2Cost by Packages'!M13 -> 170 | S11: ='3.2Cost by Packages'!O13 -> 0
A12: B | C12: Expressway | M12: =Q12+U12+Y12+AC12+AG12+AK12+AO12+AS12 -> 0 | O12: =S12+W12+AA12+AE12+AI12+AM12+AQ12+AU12 -> 0 | P12: =T12+X12+AB12+AF12+AJ12+AN12+AR12+AV12 -> 0 | Q12: ='3.2Cost by Packages'!AG14+'3.2Cost by Packages'!AS14+'3.2Cost by Packages'!BU14+'3.2Cost by Packages'!BY14+'3.2Cost by Packages'!CC14+'3.2Cost by Packages'!CG14+'3.2Cost by Packages'!CK14+'3.2Cost by Packages'!CO14+'3.2Cost by Packages'!CS14+'3.2Cost by Packages'!CW14+'3.2Cost by Packages'!DA14+'3.2Cost by Packages'!DE14+'3.2Cost by Packages'!DI14+'3.2Cost by Packages'!DM14+'3.2Cost by Packages'!DQ14+'3.2Cost by Packages'!DU14 -> 0 | S12: ='3.2Cost by Packages'!AI14+'3.2Cost by Packages'!AU14+'3.2Cost by Packages'!BW14+'3.2Cost by Packages'!CA14+'3.2Cost by Packages'!CE14+'3.2Cost by Packages'!CI14+'3.2Cost by Packages'!CM14+'3.2Cost by Packages'!CQ14+'3.2Cost by Packages'!CU14+'3.2Cost by Packages'!CY14+'3.2Cost by Packages'!DC14+'3.2Cost by Packages'!DG14+'3.2Cost by Packages'!DK14+'3.2Cost by Packages'!DO14+'3.2Cost by Packages'!DS14+'3.2Cost by Packages'!DW14 -> 0 | U12: ='3.2Cost by Packages'!AW14+'3.2Cost by Packages'!BA14+'3.2Cost by Packages'!BE14 -> 0 | W12: ='3.2Cost by Packages'!AY14+'3.2Cost by Packages'!BC14+'3.2Cost by Packages'!BG14 -> 0 | Y12: ='3.2Cost by Packages'!BI14+'3.2Cost by Packages'!BM14+'3.2Cost by Packages'!BQ14 -> 0 | AA12: ='3.2Cost by Packages'!BK14+'3.2Cost by Packages'!BO14+'3.2Cost by Packages'!BS14 -> 0 | AC12: ='3.2Cost by Packages'!Q14+'3.2Cost by Packages'!U14+'3.2Cost by Packages'!Y14+'3.2Cost by Packages'!AC14 -> 0 | AE12: ='3.2Cost by Packages'!S14+'3.2Cost by Packages'!W14+'3.2Cost by Packages'!AA14+'3.2Cost by Packages'!AE14 -> 0 | AG12: ='3.2Cost by Packages'!AK14+'3.2Cost by Packages'!AO14 -> 0 | AI12: ='3.2Cost by Packages'!AM14+'3.2Cost by Packages'!AQ14 -> 0
A13: 3 | C13: Main Line (ML, Road Section) | M13: =Q13+U13+Y13+AC13+AG13+AK13+AO13+AS13 -> 0 | O13: =S13+W13+AA13+AE13+AI13+AM13+AQ13+AU13 -> 0 | Q13: ='3.2Cost by Packages'!AG15+'3.2Cost by Packages'!AS15+'3.2Cost by Packages'!BU15+'3.2Cost by Packages'!BY15+'3.2Cost by Packages'!CC15+'3.2Cost by Packages'!CG15+'3.2Cost by Packages'!CK15+'3.2Cost by Packages'!CO15+'3.2Cost by Packages'!CS15+'3.2Cost by Packages'!CW15+'3.2Cost by Packages'!DA15+'3.2Cost by Packages'!DE15+'3.2Cost by Packages'!DI15+'3.2Cost by Packages'!DM15+'3.2Cost by Packages'!DQ15+'3.2Cost by Packages'!DU15 -> 0 | S13: ='3.2Cost by Packages'!AI15+'3.2Cost by Packages'!AU15+'3.2Cost by Packages'!BW15+'3.2Cost by Packages'!CA15+'3.2Cost by Packages'!CE15+'3.2Cost by Packages'!CI15+'3.2Cost by Packages'!CM15+'3.2Cost by Packages'!CQ15+'3.2Cost by Packages'!CU15+'3.2Cost by Packages'!CY15+'3.2Cost by Packages'!DC15+'3.2Cost by Packages'!DG15+'3.2Cost by Packages'!DK15+'3.2Cost by Packages'!DO15+'3.2Cost by Packages'!DS15+'3.2Cost by Packages'!DW15 -> 0 | U13: ='3.2Cost by Packages'!AW15+'3.2Cost by Packages'!BA15+'3.2Cost by Packages'!BE15 -> 0 | W13: ='3.2Cost by Packages'!AY15+'3.2Cost by Packages'!BC15+'3.2Cost by Packages'!BG15 -> 0 | Y13: ='3.2Cost by Packages'!BI15+'3.2Cost by Packages'!BM15+'3.2Cost by Packages'!BQ15 -> 0 | AA13: ='3.2Cost by Packages'!BK15+'3.2Cost by Packages'!BO15+'3.2Cost by Packages'!BS15 -> 0 | AC13: ='3.2Cost by Packages'!Q15+'3.2Cost by Packages'!U15+'3.2Cost by Packages'!Y15+'3.2Cost by Packages'!AC15 -> 0 | AE13: ='3.2Cost by Packages'!S15+'3.2Cost by Packages'!W15+'3.2Cost by Packages'!AA15+'3.2Cost by Packages'!AE15 -> 0 | AG13: ='3.2Cost by Packages'!AK15+'3.2Cost by Packages'!AO15 -> 0 | AI13: ='3.2Cost by Packages'!AM15+'3.2Cost by Packages'!AQ15 -> 0
A14: 3.1 | C14: Planimetric | H14: 1/1,000 | J14: (ha) | M14: =Q14+U14+Y14+AC14+AG14+AK14+AO14+AS14 -> 1522.2908 | O14: =S14+W14+AA14+AE14+AI14+AM14+AQ14+AU14 -> 0 | Q14: ='3.2Cost by Packages'!AG16+'3.2Cost by Packages'!AS16+'3.2Cost by Packages'!BU16+'3.2Cost by Packages'!BY16+'3.2Cost by Packages'!CC16+'3.2Cost by Packages'!CG16+'3.2Cost by Packages'!CK16+'3.2Cost by Packages'!CO16+'3.2Cost by Packages'!CS16+'3.2Cost by Packages'!CW16+'3.2Cost by Packages'!DA16+'3.2Cost by Packages'!DE16+'3.2Cost by Packages'!DI16+'3.2Cost by Packages'!DM16+'3.2Cost by Packages'!DQ16+'3.2Cost by Packages'!DU16 -> 871.36917 | S14: ='3.2Cost by Packages'!AI16+'3.2Cost by Packages'!AU16+'3.2Cost by Packages'!BW16+'3.2Cost by Packages'!CA16+'3.2Cost by Packages'!CE16+'3.2Cost by Packages'!CI16+'3.2Cost by Packages'!CM16+'3.2Cost by Packages'!CQ16+'3.2Cost by Packages'!CU16+'3.2Cost by Packages'!CY16+'3.2Cost by Packages'!DC16+'3.2Cost by Packages'!DG16+'3.2Cost by Packages'!DK16+'3.2Cost by Packages'!DO16+'3.2Cost by Packages'!DS16+'3.2Cost by Packages'!DW16 -> 0 | U14: ='3.2Cost by Packages'!AW16+'3.2Cost by Packages'!BA16+'3.2Cost by Packages'!BE16 -> 196.049 | V14: ='3.2Cost by Packages'!AX16+'3.2Cost by Packages'!BB16+'3.2Cost by Packages'!BF16 -> 0 | W14: ='3.2Cost by Packages'!AY16+'3.2Cost by Packages'!BC16+'3.2Cost by Packages'!BG16 -> 0 | Y14: ='3.2Cost by Packages'!BI16+'3.2Cost by Packages'!BM16+'3.2Cost by Packages'!BQ16 -> 161.413 | AA14: ='3.2Cost by Packages'!BK16+'3.2Cost by Packages'!BO16+'3.2Cost by Packages'!BS16 -> 0 | AC14: ='3.2Cost by Packages'!Q16+'3.2Cost by Packages'!U16+'3.2Cost by Packages'!Y16+'3.2Cost by Packages'!AC16 -> 176.9537 | AE14: ='3.2Cost by Packages'!S16+'3.2Cost by Packages'!W16+'3.2Cost by Packages'!AA16+'3.2Cost by Packages'!AE16 -> 0 | AG14: ='3.2Cost by Packages'!AK16+'3.2Cost by Packages'!AO16 -> 116.5059 | AI14: ='3.2Cost by Packages'!AM16+'3.2Cost by Packages'!AQ16 -> 0
A15: 3.2 | C15: Profile | H15: 1/1,000; 1/100 | J15: (km) | M15: =Q15+U15+Y15+AC15+AG15+AK15+AO15+AS15 -> 108.73506 | O15: =S15+W15+AA15+AE15+AI15+AM15+AQ15+AU15 -> 0 | Q15: ='3.2Cost by Packages'!AG17+'3.2Cost by Packages'!AS17+'3.2Cost by Packages'!BU17+'3.2Cost by Packages'!BY17+'3.2Cost by Packages'!CC17+'3.2Cost by Packages'!CG17+'3.2Cost by Packages'!CK17+'3.2Cost by Packages'!CO17+'3.2Cost by Packages'!CS17+'3.2Cost by Packages'!CW17+'3.2Cost by Packages'!DA17+'3.2Cost by Packages'!DE17+'3.2Cost by Packages'!DI17+'3.2Cost by Packages'!DM17+'3.2Cost by Packages'!DQ17+'3.2Cost by Packages'!DU17 -> 62.240655 | S15: ='3.2Cost by Packages'!AI17+'3.2Cost by Packages'!AU17+'3.2Cost by Packages'!BW17+'3.2Cost by Packages'!CA17+'3.2Cost by Packages'!CE17+'3.2Cost by Packages'!CI17+'3.2Cost by Packages'!CM17+'3.2Cost by Packages'!CQ17+'3.2Cost by Packages'!CU17+'3.2Cost by Packages'!CY17+'3.2Cost by Packages'!DC17+'3.2Cost by Packages'!DG17+'3.2Cost by Packages'!DK17+'3.2Cost by Packages'!DO17+'3.2Cost by Packages'!DS17+'3.2Cost by Packages'!DW17 -> 0 | U15: ='3.2Cost by Packages'!AW17+'3.2Cost by Packages'!BA17+'3.2Cost by Packages'!BE17 -> 14.0035 | W15: ='3.2Cost by Packages'!AY17+'3.2Cost by Packages'!BC17+'3.2Cost by Packages'!BG17 -> 0 | Y15: ='3.2Cost by Packages'!BI17+'3.2Cost by Packages'!BM17+'3.2Cost by Packages'!BQ17 -> 11.5295 | AA15: ='3.2Cost by Packages'!BK17+'3.2Cost by Packages'!BO17+'3.2Cost by Packages'!BS17 -> 0 | AC15: ='3.2Cost by Packages'!Q17+'3.2Cost by Packages'!U17+'3.2Cost by Packages'!Y17+'3.2Cost by Packages'!AC17 -> 12.63955 | AE15: ='3.2Cost by Packages'!S17+'3.2Cost by Packages'!W17+'3.2Cost by Packages'!AA17+'3.2Cost by Packages'!AE17 -> 0 | AG15: ='3.2Cost by Packages'!AK17+'3.2Cost by Packages'!AO17 -> 8.32185 | AI15: ='3.2Cost by Packages'!AM17+'3.2Cost by Packages'!AQ17 -> 0
A16: 3.3 | C16: Cross-section | H16: 1/200 | J16: (km) | M16: =Q16+U16+Y16+AC16+AG16+AK16+AO16+AS16 -> 790.272 | O16: =S16+W16+AA16+AE16+AI16+AM16+AQ16+AU16 -> 0 | Q16: ='3.2Cost by Packages'!AG18+'3.2Cost by Packages'!AS18+'3.2Cost by Packages'!BU18+'3.2Cost by Packages'!BY18+'3.2Cost by Packages'!CC18+'3.2Cost by Packages'!CG18+'3.2Cost by Packages'!CK18+'3.2Cost by Packages'!CO18+'3.2Cost by Packages'!CS18+'3.2Cost by Packages'!CW18+'3.2Cost by Packages'!DA18+'3.2Cost by Packages'!DE18+'3.2Cost by Packages'!DI18+'3.2Cost by Packages'!DM18+'3.2Cost by Packages'!DQ18+'3.2Cost by Packages'!DU18 -> 453.936 | S16: ='3.2Cost by Packages'!AI18+'3.2Cost by Packages'!AU18+'3.2Cost by Packages'!BW18+'3.2Cost by Packages'!CA18+'3.2Cost by Packages'!CE18+'3.2Cost by Packages'!CI18+'3.2Cost by Packages'!CM18+'3.2Cost by Packages'!CQ18+'3.2Cost by Packages'!CU18+'3.2Cost by Packages'!CY18+'3.2Cost by Packages'!DC18+'3.2Cost by Packages'!DG18+'3.2Cost by Packages'!DK18+'3.2Cost by Packages'!DO18+'3.2Cost by Packages'!DS18+'3.2Cost by Packages'!DW18 -> 0 | U16: ='3.2Cost by Packages'!AW18+'3.2Cost by Packages'!BA18+'3.2Cost by Packages'!BE18 -> 100.989 | W16: ='3.2Cost by Packages'!AY18+'3.2Cost by Packages'!BC18+'3.2Cost by Packages'!BG18 -> 0 | Y16: ='3.2Cost by Packages'!BI18+'3.2Cost by Packages'!BM18+'3.2Cost by Packages'!BQ18 -> 83.79 | AA16: ='3.2Cost by Packages'!BK18+'3.2Cost by Packages'!BO18+'3.2Cost by Packages'!BS18 -> 0 | AC16: ='3.2Cost by Packages'!Q18+'3.2Cost by Packages'!U18+'3.2Cost by Packages'!Y18+'3.2Cost by Packages'!AC18 -> 91.434 | AE16: ='3.2Cost by Packages'!S18+'3.2Cost by Packages'!W18+'3.2Cost by Packages'!AA18+'3.2Cost by Packages'!AE18 -> 0 | AG16: ='3.2Cost by Packages'!AK18+'3.2Cost by Packages'!AO18 -> 60.123 | AI16: ='3.2Cost by Packages'!AM18+'3.2Cost by Packages'!AQ18 -> 0
A17: 4 | C17: Tunnel (TN) | M17: =Q17+U17+Y17+AC17+AG17+AK17+AO17+AS17 -> 0 | O17: =S17+W17+AA17+AE17+AI17+AM17+AQ17+AU17 -> 0 | Q17: ='3.2Cost by Packages'!AG19+'3.2Cost by Packages'!AS19+'3.2Cost by Packages'!BU19+'3.2Cost by Packages'!BY19+'3.2Cost by Packages'!CC19+'3.2Cost by Packages'!CG19+'3.2Cost by Packages'!CK19+'3.2Cost by Packages'!CO19+'3.2Cost by Packages'!CS19+'3.2Cost by Packages'!CW19+'3.2Cost by Packages'!DA19+'3.2Cost by Packages'!DE19+'3.2Cost by Packages'!DI19+'3.2Cost by Packages'!DM19+'3.2Cost by Packages'!DQ19+'3.2Cost by Packages'!DU19 -> 0 | S17: ='3.2Cost by Packages'!AI19+'3.2Cost by Packages'!AU19+'3.2Cost by Packages'!BW19+'3.2Cost by Packages'!CA19+'3.2Cost by Packages'!CE19+'3.2Cost by Packages'!CI19+'3.2Cost by Packages'!CM19+'3.2Cost by Packages'!CQ19+'3.2Cost by Packages'!CU19+'3.2Cost by Packages'!CY19+'3.2Cost by Packages'!DC19+'3.2Cost by Packages'!DG19+'3.2Cost by Packages'!DK19+'3.2Cost by Packages'!DO19+'3.2Cost by Packages'!DS19+'3.2Cost by Packages'!DW19 -> 0 | U17: ='3.2Cost by Packages'!AW19+'3.2Cost by Packages'!BA19+'3.2Cost by Packages'!BE19 -> 0 | W17: ='3.2Cost by Packages'!AY19+'3.2Cost by Packages'!BC19+'3.2Cost by Packages'!BG19 -> 0 | Y17: ='3.2Cost by Packages'!BI19+'3.2Cost by Packages'!BM19+'3.2Cost by Packages'!BQ19 -> 0 | AA17: ='3.2Cost by Packages'!BK19+'3.2Cost by Packages'!BO19+'3.2Cost by Packages'!BS19 -> 0 | AC17: ='3.2Cost by Packages'!Q19+'3.2Cost by Packages'!U19+'3.2Cost by Packages'!Y19+'3.2Cost by Packages'!AC19 -> 0 | AE17: ='3.2Cost by Packages'!S19+'3.2Cost by Packages'!W19+'3.2Cost by Packages'!AA19+'3.2Cost by Packages'!AE19 -> 0 | AG17: ='3.2Cost by Packages'!AK19+'3.2Cost by Packages'!AO19 -> 0 | AI17: ='3.2Cost by Packages'!AM19+'3.2Cost by Packages'!AQ19 -> 0
A18: 4.1 | C18: Planimetric | H18: 1/500 | J18: (ha) | M18: =Q18+U18+Y18+AC18+AG18+AK18+AO18+AS18 -> 1.02 | O18: =S18+W18+AA18+AE18+AI18+AM18+AQ18+AU18 -> 0 | Q18: ='3.2Cost by Packages'!AG20+'3.2Cost by Packages'!AS20+'3.2Cost by Packages'!BU20+'3.2Cost by Packages'!BY20+'3.2Cost by Packages'!CC20+'3.2Cost by Packages'!CG20+'3.2Cost by Packages'!CK20+'3.2Cost by Packages'!CO20+'3.2Cost by Packages'!CS20+'3.2Cost by Packages'!CW20+'3.2Cost by Packages'!DA20+'3.2Cost by Packages'!DE20+'3.2Cost by Packages'!DI20+'3.2Cost by Packages'!DM20+'3.2Cost by Packages'!DQ20+'3.2Cost by Packages'!DU20 -> 0 | S18: ='3.2Cost by Packages'!AI20+'3.2Cost by Packages'!AU20+'3.2Cost by Packages'!BW20+'3.2Cost by Packages'!CA20+'3.2Cost by Packages'!CE20+'3.2Cost by Packages'!CI20+'3.2Cost by Packages'!CM20+'3.2Cost by Packages'!CQ20+'3.2Cost by Packages'!CU20+'3.2Cost by Packages'!CY20+'3.2Cost by Packages'!DC20+'3.2Cost by Packages'!DG20+'3.2Cost by Packages'!DK20+'3.2Cost by Packages'!DO20+'3.2Cost by Packages'!DS20+'3.2Cost by Packages'!DW20 -> 0 | U18: ='3.2Cost by Packages'!AW20+'3.2Cost by Packages'!BA20+'3.2Cost by Packages'!BE20 -> 0 | W18: ='3.2Cost by Packages'!AY20+'3.2Cost by Packages'!BC20+'3.2Cost by Packages'!BG20 -> 0 | Y18: ='3.2Cost by Packages'!BI20+'3.2Cost by Packages'!BM20+'3.2Cost by Packages'!BQ20 -> 0 | AA18: ='3.2Cost by Packages'!BK20+'3.2Cost by Packages'!BO20+'3.2Cost by Packages'!BS20 -> 0 | AC18: ='3.2Cost by Packages'!Q20+'3.2Cost by Packages'!U20+'3.2Cost by Packages'!Y20+'3.2Cost by Packages'!AC20 -> 0 | AE18: ='3.2Cost by Packages'!S20+'3.2Cost by Packages'!W20+'3.2Cost by Packages'!AA20+'3.2Cost by Packages'!AE20 -> 0 | AG18: ='3.2Cost by Packages'!AK20+'3.2Cost by Packages'!AO20 -> 1.02 | AI18: ='3.2Cost by Packages'!AM20+'3.2Cost by Packages'!AQ20 -> 0
A19: 5 | C19: Bridge (BR) | M19: =Q19+U19+Y19+AC19+AG19+AK19+AO19+AS19 -> 0 | O19: =S19+W19+AA19+AE19+AI19+AM19+AQ19+AU19 -> 0 | Q19: ='3.2Cost by Packages'!AG21+'3.2Cost by Packages'!AS21+'3.2Cost by Packages'!BU21+'3.2Cost by Packages'!BY21+'3.2Cost by Packages'!CC21+'3.2Cost by Packages'!CG21+'3.2Cost by Packages'!CK21+'3.2Cost by Packages'!CO21+'3.2Cost by Packages'!CS21+'3.2Cost by Packages'!CW21+'3.2Cost by Packages'!DA21+'3.2Cost by Packages'!DE21+'3.2Cost by Packages'!DI21+'3.2Cost by Packages'!DM21+'3.2Cost by Packages'!DQ21+'3.2Cost by Packages'!DU21 -> 0 | S19: ='3.2Cost by Packages'!AI21+'3.2Cost by Packages'!AU21+'3.2Cost by Packages'!BW21+'3.2Cost by Packages'!CA21+'3.2Cost by Packages'!CE21+'3.2Cost by Packages'!CI21+'3.2Cost by Packages'!CM21+'3.2Cost by Packages'!CQ21+'3.2Cost by Packages'!CU21+'3.2Cost by Packages'!CY21+'3.2Cost by Packages'!DC21+'3.2Cost by Packages'!DG21+'3.2Cost by Packages'!DK21+'3.2Cost by Packages'!DO21+'3.2Cost by Packages'!DS21+'3.2Cost by Packages'!DW21 -> 0 | U19: ='3.2Cost by Packages'!AW21+'3.2Cost by Packages'!BA21+'3.2Cost by Packages'!BE21 -> 0 | W19: ='3.2Cost by Packages'!AY21+'3.2Cost by Packages'!BC21+'3.2Cost by Packages'!BG21 -> 0 | Y19: ='3.2Cost by Packages'!BI21+'3.2Cost by Packages'!BM21+'3.2Cost by Packages'!BQ21 -> 0 | AA19: ='3.2Cost by Packages'!BK21+'3.2Cost by Packages'!BO21+'3.2Cost by Packages'!BS21 -> 0 | AC19: ='3.2Cost by Packages'!Q21+'3.2Cost by Packages'!U21+'3.2Cost by Packages'!Y21+'3.2Cost by Packages'!AC21 -> 0 | AE19: ='3.2Cost by Packages'!S21+'3.2Cost by Packages'!W21+'3.2Cost by Packages'!AA21+'3.2Cost by Packages'!AE21 -> 0 | AG19: ='3.2Cost by Packages'!AK21+'3.2Cost by Packages'!AO21 -> 0 | AI19: ='3.2Cost by Packages'!AM21+'3.2Cost by Packages'!AQ21 -> 0
A20: 5.1 | C20: Secondary Control Point | H20: Class II | J20: (nos.) | M20: =Q20+U20+Y20+AC20+AG20+AK20+AO20+AS20 -> 314 | O20: =S20+W20+AA20+AE20+AI20+AM20+AQ20+AU20 -> 0 | Q20: ='3.2Cost by Packages'!AG22+'3.2Cost by Packages'!AS22+'3.2Cost by Packages'!BU22+'3.2Cost by Packages'!BY22+'3.2Cost by Packages'!CC22+'3.2Cost by Packages'!CG22+'3.2Cost by Packages'!CK22+'3.2Cost by Packages'!CO22+'3.2Cost by Packages'!CS22+'3.2Cost by Packages'!CW22+'3.2Cost by Packages'!DA22+'3.2Cost by Packages'!DE22+'3.2Cost by Packages'!DI22+'3.2Cost by Packages'!DM22+'3.2Cost by Packages'!DQ22+'3.2Cost by Packages'!DU22 -> 158 | S20: ='3.2Cost by Packages'!AI22+'3.2Cost by Packages'!AU22+'3.2Cost by Packages'!BW22+'3.2Cost by Packages'!CA22+'3.2Cost by Packages'!CE22+'3.2Cost by Packages'!CI22+'3.2Cost by Packages'!CM22+'3.2Cost by Packages'!CQ22+'3.2Cost by Packages'!CU22+'3.2Cost by Packages'!CY22+'3.2Cost by Packages'!DC22+'3.2Cost by Packages'!DG22+'3.2Cost by Packages'!DK22+'3.2Cost by Packages'!DO22+'3.2Cost by Packages'!DS22+'3.2Cost by Packages'!DW22 -> 0 | U20: ='3.2Cost by Packages'!AW22+'3.2Cost by Packages'!BA22+'3.2Cost by Packages'!BE22 -> 48 | W20: ='3.2Cost by Packages'!AY22+'3.2Cost by Packages'!BC22+'3.2Cost by Packages'!BG22 -> 0 | Y20: ='3.2Cost by Packages'!BI22+'3.2Cost by Packages'!BM22+'3.2Cost by Packages'!BQ22 -> 24 | AA20: ='3.2Cost by Packages'!BK22+'3.2Cost by Packages'!BO22+'3.2Cost by Packages'!BS22 -> 0 | AC20: ='3.2Cost by Packages'!Q22+'3.2Cost by Packages'!U22+'3.2Cost by Packages'!Y22+'3.2Cost by Packages'!AC22 -> 64 | AE20: ='3.2Cost by Packages'!S22+'3.2Cost by Packages'!W22+'3.2Cost by Packages'!AA22+'3.2Cost by Packages'!AE22 -> 0 | AG20: ='3.2Cost by Packages'!AK22+'3.2Cost by Packages'!AO22 -> 20 | AI20: ='3.2Cost by Packages'!AM22+'3.2Cost by Packages'!AQ22 -> 0
A21: 5.2 | C21: Planimetric (On Shore) | H21: 1/500 | J21: (ha) | M21: =Q21+U21+Y21+AC21+AG21+AK21+AO21+AS21 -> 318.57935 | O21: =S21+W21+AA21+AE21+AI21+AM21+AQ21+AU21 -> 0 | Q21: ='3.2Cost by Packages'!AG23+'3.2Cost by Packages'!AS23+'3.2Cost by Packages'!BU23+'3.2Cost by Packages'!BY23+'3.2Cost by Packages'!CC23+'3.2Cost by Packages'!CG23+'3.2Cost by Packages'!CK23+'3.2Cost by Packages'!CO23+'3.2Cost by Packages'!CS23+'3.2Cost by Packages'!CW23+'3.2Cost by Packages'!DA23+'3.2Cost by Packages'!DE23+'3.2Cost by Packages'!DI23+'3.2Cost by Packages'!DM23+'3.2Cost by Packages'!DQ23+'3.2Cost by Packages'!DU23 -> 198.95115 | S21: ='3.2Cost by Packages'!AI23+'3.2Cost by Packages'!AU23+'3.2Cost by Packages'!BW23+'3.2Cost by Packages'!CA23+'3.2Cost by Packages'!CE23+'3.2Cost by Packages'!CI23+'3.2Cost by Packages'!CM23+'3.2Cost by Packages'!CQ23+'3.2Cost by Packages'!CU23+'3.2Cost by Packages'!CY23+'3.2Cost by Packages'!DC23+'3.2Cost by Packages'!DG23+'3.2Cost by Packages'!DK23+'3.2Cost by Packages'!DO23+'3.2Cost by Packages'!DS23+'3.2Cost by Packages'!DW23 -> 0 | U21: ='3.2Cost by Packages'!AW23+'3.2Cost by Packages'!BA23+'3.2Cost by Packages'!BE23 -> 29.099 | W21: ='3.2Cost by Packages'!AY23+'3.2Cost by Packages'!BC23+'3.2Cost by Packages'!BG23 -> 0 | Y21: ='3.2Cost by Packages'!BI23+'3.2Cost by Packages'!BM23+'3.2Cost by Packages'!BQ23 -> 14.021 | AA21: ='3.2Cost by Packages'!BK23+'3.2Cost by Packages'!BO23+'3.2Cost by Packages'!BS23 -> 0 | AC21: ='3.2Cost by Packages'!Q23+'3.2Cost by Packages'!U23+'3.2Cost by Packages'!Y23+'3.2Cost by Packages'!AC23 -> 64.1238 | AE21: ='3.2Cost by Packages'!S23+'3.2Cost by Packages'!W23+'3.2Cost by Packages'!AA23+'3.2Cost by Packages'!AE23 -> 0 | AG21: ='3.2Cost by Packages'!AK23+'3.2Cost by Packages'!AO23 -> 12.3844 | AI21: ='3.2Cost by Packages'!AM23+'3.2Cost by Packages'!AQ23 -> 0
A22: 5.3 | C22: Planimetric (Off Shore) | H22: 1/500 | J22: (ha) | M22: =Q22+U22+Y22+AC22+AG22+AK22+AO22+AS22 -> 101.3222 | O22: =S22+W22+AA22+AE22+AI22+AM22+AQ22+AU22 -> 0 | Q22: ='3.2Cost by Packages'!AG24+'3.2Cost by Packages'!AS24+'3.2Cost by Packages'!BU24+'3.2Cost by Packages'!BY24+'3.2Cost by Packages'!CC24+'3.2Cost by Packages'!CG24+'3.2Cost by Packages'!CK24+'3.2Cost by Packages'!CO24+'3.2Cost by Packages'!CS24+'3.2Cost by Packages'!CW24+'3.2Cost by Packages'!DA24+'3.2Cost by Packages'!DE24+'3.2Cost by Packages'!DI24+'3.2Cost by Packages'!DM24+'3.2Cost by Packages'!DQ24+'3.2Cost by Packages'!DU24 -> 55.132 | S22: ='3.2Cost by Packages'!AI24+'3.2Cost by Packages'!AU24+'3.2Cost by Packages'!BW24+'3.2Cost by Packages'!CA24+'3.2Cost by Packages'!CE24+'3.2Cost by Packages'!CI24+'3.2Cost by Packages'!CM24+'3.2Cost by Packages'!CQ24+'3.2Cost by Packages'!CU24+'3.2Cost by Packages'!CY24+'3.2Cost by Packages'!DC24+'3.2Cost by Packages'!DG24+'3.2Cost by Packages'!DK24+'3.2Cost by Packages'!DO24+'3.2Cost by Packages'!DS24+'3.2Cost by Packages'!DW24 -> 0 | U22: ='3.2Cost by Packages'!AW24+'3.2Cost by Packages'!BA24+'3.2Cost by Packages'!BE24 -> 12.852 | W22: ='3.2Cost by Packages'!AY24+'3.2Cost by Packages'!BC24+'3.2Cost by Packages'!BG24 -> 0 | Y22: ='3.2Cost by Packages'!BI24+'3.2Cost by Packages'!BM24+'3.2Cost by Packages'!BQ24 -> 6.566 | AA22: ='3.2Cost by Packages'!BK24+'3.2Cost by Packages'!BO24+'3.2Cost by Packages'!BS24 -> 0 | AC22: ='3.2Cost by Packages'!Q24+'3.2Cost by Packages'!U24+'3.2Cost by Packages'!Y24+'3.2Cost by Packages'!AC24 -> 23.2225 | AE22: ='3.2Cost by Packages'!S24+'3.2Cost by Packages'!W24+'3.2Cost by Packages'!AA24+'3.2Cost by Packages'!AE24 -> 0 | AG22: ='3.2Cost by Packages'!AK24+'3.2Cost by Packages'!AO24 -> 3.5497 | AI22: ='3.2Cost by Packages'!AM24+'3.2Cost by Packages'!AQ24 -> 0
A23: 5.4 | C23: Profile (On Shore) | H23: 1/500 | J23: (km) | M23: =Q23+U23+Y23+AC23+AG23+AK23+AO23+AS23 -> 25.570525 | O23: =S23+W23+AA23+AE23+AI23+AM23+AQ23+AU23 -> 0 | Q23: ='3.2Cost by Packages'!AG25+'3.2Cost by Packages'!AS25+'3.2Cost by Packages'!BU25+'3.2Cost by Packages'!BY25+'3.2Cost by Packages'!CC25+'3.2Cost by Packages'!CG25+'3.2Cost by Packages'!CK25+'3.2Cost by Packages'!CO25+'3.2Cost by Packages'!CS25+'3.2Cost by Packages'!CW25+'3.2Cost by Packages'!DA25+'3.2Cost by Packages'!DE25+'3.2Cost by Packages'!DI25+'3.2Cost by Packages'!DM25+'3.2Cost by Packages'!DQ25+'3.2Cost by Packages'!DU25 -> 16.594225 | S23: ='3.2Cost by Packages'!AI25+'3.2Cost by Packages'!AU25+'3.2Cost by Packages'!BW25+'3.2Cost by Packages'!CA25+'3.2Cost by Packages'!CE25+'3.2Cost by Packages'!CI25+'3.2Cost by Packages'!CM25+'3.2Cost by Packages'!CQ25+'3.2Cost by Packages'!CU25+'3.2Cost by Packages'!CY25+'3.2Cost by Packages'!DC25+'3.2Cost by Packages'!DG25+'3.2Cost by Packages'!DK25+'3.2Cost by Packages'!DO25+'3.2Cost by Packages'!DS25+'3.2Cost by Packages'!DW25 -> 0 | U23: ='3.2Cost by Packages'!AW25+'3.2Cost by Packages'!BA25+'3.2Cost by Packages'!BE25 -> 2.0785 | W23: ='3.2Cost by Packages'!AY25+'3.2Cost by Packages'!BC25+'3.2Cost by Packages'!BG25 -> 0 | Y23: ='3.2Cost by Packages'!BI25+'3.2Cost by Packages'!BM25+'3.2Cost by Packages'!BQ25 -> 1.0015 | AA23: ='3.2Cost by Packages'!BK25+'3.2Cost by Packages'!BO25+'3.2Cost by Packages'!BS25 -> 0 | AC23: ='3.2Cost by Packages'!Q25+'3.2Cost by Packages'!U25+'3.2Cost by Packages'!Y25+'3.2Cost by Packages'!AC25 -> 5.0117 | AE23: ='3.2Cost by Packages'!S25+'3.2Cost by Packages'!W25+'3.2Cost by Packages'!AA25+'3.2Cost by Packages'!AE25 -> 0 | AG23: ='3.2Cost by Packages'!AK25+'3.2Cost by Packages'!AO25 -> 0.8846 | AI23: ='3.2Cost by Packages'!AM25+'3.2Cost by Packages'!AQ25 -> 0
A24: 5.5 | C24: Profile (Off Shore) | H24: 1/500 | J24: (km) | M24: =Q24+U24+Y24+AC24+AG24+AK24+AO24+AS24 -> 7.2373 | O24: =S24+W24+AA24+AE24+AI24+AM24+AQ24+AU24 -> 0 | Q24: ='3.2Cost by Packages'!AG26+'3.2Cost by Packages'!AS26+'3.2Cost by Packages'!BU26+'3.2Cost by Packages'!BY26+'3.2Cost by Packages'!CC26+'3.2Cost by Packages'!CG26+'3.2Cost by Packages'!CK26+'3.2Cost by Packages'!CO26+'3.2Cost by Packages'!CS26+'3.2Cost by Packages'!CW26+'3.2Cost by Packages'!DA26+'3.2Cost by Packages'!DE26+'3.2Cost by Packages'!DI26+'3.2Cost by Packages'!DM26+'3.2Cost by Packages'!DQ26+'3.2Cost by Packages'!DU26 -> 3.938 | S24: ='3.2Cost by Packages'!AI26+'3.2Cost by Packages'!AU26+'3.2Cost by Packages'!BW26+'3.2Cost by Packages'!CA26+'3.2Cost by Packages'!CE26+'3.2Cost by Packages'!CI26+'3.2Cost by Packages'!CM26+'3.2Cost by Packages'!CQ26+'3.2Cost by Packages'!CU26+'3.2Cost by Packages'!CY26+'3.2Cost by Packages'!DC26+'3.2Cost by Packages'!DG26+'3.2Cost by Packages'!DK26+'3.2Cost by Packages'!DO26+'3.2Cost by Packages'!DS26+'3.2Cost by Packages'!DW26 -> 0 | U24: ='3.2Cost by Packages'!AW26+'3.2Cost by Packages'!BA26+'3.2Cost by Packages'!BE26 -> 0.918 | W24: ='3.2Cost by Packages'!AY26+'3.2Cost by Packages'!BC26+'3.2Cost by Packages'!BG26 -> 0 | Y24: ='3.2Cost by Packages'!BI26+'3.2Cost by Packages'!BM26+'3.2Cost by Packages'!BQ26 -> 0.469 | AA24: ='3.2Cost by Packages'!BK26+'3.2Cost by Packages'!BO26+'3.2Cost by Packages'!BS26 -> 0 | AC24: ='3.2Cost by Packages'!Q26+'3.2Cost by Packages'!U26+'3.2Cost by Packages'!Y26+'3.2Cost by Packages'!AC26 -> 1.65875 | AE24: ='3.2Cost by Packages'!S26+'3.2Cost by Packages'!W26+'3.2Cost by Packages'!AA26+'3.2Cost by Packages'!AE26 -> 0 | AG24: ='3.2Cost by Packages'!AK26+'3.2Cost by Packages'!AO26 -> 0.25355 | AI24: ='3.2Cost by Packages'!AM26+'3.2Cost by Packages'!AQ26 -> 0
A25: 5.6 | C25: Cross-section (Approach Road) | H25: 1/200 | J25: (km) | M25: =Q25+U25+Y25+AC25+AG25+AK25+AO25+AS25 -> 112.14 | O25: =S25+W25+AA25+AE25+AI25+AM25+AQ25+AU25 -> 0 | Q25: ='3.2Cost by Packages'!AG27+'3.2Cost by Packages'!AS27+'3.2Cost by Packages'!BU27+'3.2Cost by Packages'!BY27+'3.2Cost by Packages'!CC27+'3.2Cost by Packages'!CG27+'3.2Cost by Packages'!CK27+'3.2Cost by Packages'!CO27+'3.2Cost by Packages'!CS27+'3.2Cost by Packages'!CW27+'3.2Cost by Packages'!DA27+'3.2Cost by Packages'!DE27+'3.2Cost by Packages'!DI27+'3.2Cost by Packages'!DM27+'3.2Cost by Packages'!DQ27+'3.2Cost by Packages'!DU27 -> 62.055 | S25: ='3.2Cost by Packages'!AI27+'3.2Cost by Packages'!AU27+'3.2Cost by Packages'!BW27+'3.2Cost by Packages'!CA27+'3.2Cost by Packages'!CE27+'3.2Cost by Packages'!CI27+'3.2Cost by Packages'!CM27+'3.2Cost by Packages'!CQ27+'3.2Cost by Packages'!CU27+'3.2Cost by Packages'!CY27+'3.2Cost by Packages'!DC27+'3.2Cost by Packages'!DG27+'3.2Cost by Packages'!DK27+'3.2Cost by Packages'!DO27+'3.2Cost by Packages'!DS27+'3.2Cost by Packages'!DW27 -> 0 | U25: ='3.2Cost by Packages'!AW27+'3.2Cost by Packages'!BA27+'3.2Cost by Packages'!BE27 -> 13.965 | W25: ='3.2Cost by Packages'!AY27+'3.2Cost by Packages'!BC27+'3.2Cost by Packages'!BG27 -> 0 | Y25: ='3.2Cost by Packages'!BI27+'3.2Cost by Packages'!BM27+'3.2Cost by Packages'!BQ27 -> 6.762 | AA25: ='3.2Cost by Packages'!BK27+'3.2Cost by Packages'!BO27+'3.2Cost by Packages'!BS27 -> 0 | AC25: ='3.2Cost by Packages'!Q27+'3.2Cost by Packages'!U27+'3.2Cost by Packages'!Y27+'3.2Cost by Packages'!AC27 -> 24.066 | AE25: ='3.2Cost by Packages'!S27+'3.2Cost by Packages'!W27+'3.2Cost by Packages'!AA27+'3.2Cost by Packages'!AE27 -> 0 | AG25: ='3.2Cost by Packages'!AK27+'3.2Cost by Packages'!AO27 -> 5.292 | AI25: ='3.2Cost by Packages'!AM27+'3.2Cost by Packages'!AQ27 -> 0
A26: 5.7 | C26: River Profile | H26: 1/1,000; 1/100 | J26: (km) | M26: =Q26+U26+Y26+AC26+AG26+AK26+AO26+AS26 -> 39.2 | O26: =S26+W26+AA26+AE26+AI26+AM26+AQ26+AU26 -> 0 | Q26: ='3.2Cost by Packages'!AG28+'3.2Cost by Packages'!AS28+'3.2Cost by Packages'!BU28+'3.2Cost by Packages'!BY28+'3.2Cost by Packages'!CC28+'3.2Cost by Packages'!CG28+'3.2Cost by Packages'!CK28+'3.2Cost by Packages'!CO28+'3.2Cost by Packages'!CS28+'3.2Cost by Packages'!CW28+'3.2Cost by Packages'!DA28+'3.2Cost by Packages'!DE28+'3.2Cost by Packages'!DI28+'3.2Cost by Packages'!DM28+'3.2Cost by Packages'!DQ28+'3.2Cost by Packages'!DU28 -> 21.7 | S26: ='3.2Cost by Packages'!AI28+'3.2Cost by Packages'!AU28+'3.2Cost by Packages'!BW28+'3.2Cost by Packages'!CA28+'3.2Cost by Packages'!CE28+'3.2Cost by Packages'!CI28+'3.2Cost by Packages'!CM28+'3.2Cost by Packages'!CQ28+'3.2Cost by Packages'!CU28+'3.2Cost by Packages'!CY28+'3.2Cost by Packages'!DC28+'3.2Cost by Packages'!DG28+'3.2Cost by Packages'!DK28+'3.2Cost by Packages'!DO28+'3.2Cost by Packages'!DS28+'3.2Cost by Packages'!DW28 -> 0 | U26: ='3.2Cost by Packages'!AW28+'3.2Cost by Packages'!BA28+'3.2Cost by Packages'!BE28 -> 4.4 | W26: ='3.2Cost by Packages'!AY28+'3.2Cost by Packages'!BC28+'3.2Cost by Packages'!BG28 -> 0 | Y26: ='3.2Cost by Packages'!BI28+'3.2Cost by Packages'!BM28+'3.2Cost by Packages'!BQ28 -> 2.3 | AA26: ='3.2Cost by Packages'!BK28+'3.2Cost by Packages'!BO28+'3.2Cost by Packages'!BS28 -> 0 | AC26: ='3.2Cost by Packages'!Q28+'3.2Cost by Packages'!U28+'3.2Cost by Packages'!Y28+'3.2Cost by Packages'!AC28 -> 10.7 | AE26: ='3.2Cost by Packages'!S28+'3.2Cost by Packages'!W28+'3.2Cost by Packages'!AA28+'3.2Cost by Packages'!AE28 -> 0 | AG26: ='3.2Cost by Packages'!AK28+'3.2Cost by Packages'!AO28 -> 0.1 | AI26: ='3.2Cost by Packages'!AM28+'3.2Cost by Packages'!AQ28 -> 0
A27: 5.8 | C27: River Cross-section | H27: 1/200 | J27: (km) | M27: =Q27+U27+Y27+AC27+AG27+AK27+AO27+AS27 -> 23.8079 | O27: =S27+W27+AA27+AE27+AI27+AM27+AQ27+AU27 -> 0 | Q27: ='3.2Cost by Packages'!AG29+'3.2Cost by Packages'!AS29+'3.2Cost by Packages'!BU29+'3.2Cost by Packages'!BY29+'3.2Cost by Packages'!CC29+'3.2Cost by Packages'!CG29+'3.2Cost by Packages'!CK29+'3.2Cost by Packages'!CO29+'3.2Cost by Packages'!CS29+'3.2Cost by Packages'!CW29+'3.2Cost by Packages'!DA29+'3.2Cost by Packages'!DE29+'3.2Cost by Packages'!DI29+'3.2Cost by Packages'!DM29+'3.2Cost by Packages'!DQ29+'3.2Cost by Packages'!DU29 -> 13.084 | S27: ='3.2Cost by Packages'!AI29+'3.2Cost by Packages'!AU29+'3.2Cost by Packages'!BW29+'3.2Cost by Packages'!CA29+'3.2Cost by Packages'!CE29+'3.2Cost by Packages'!CI29+'3.2Cost by Packages'!CM29+'3.2Cost by Packages'!CQ29+'3.2Cost by Packages'!CU29+'3.2Cost by Packages'!CY29+'3.2Cost by Packages'!DC29+'3.2Cost by Packages'!DG29+'3.2Cost by Packages'!DK29+'3.2Cost by Packages'!DO29+'3.2Cost by Packages'!DS29+'3.2Cost by Packages'!DW29 -> 0 | U27: ='3.2Cost by Packages'!AW29+'3.2Cost by Packages'!BA29+'3.2Cost by Packages'!BE29 -> 2.644 | W27: ='3.2Cost by Packages'!AY29+'3.2Cost by Packages'!BC29+'3.2Cost by Packages'!BG29 -> 0 | Y27: ='3.2Cost by Packages'!BI29+'3.2Cost by Packages'!BM29+'3.2Cost by Packages'!BQ29 -> 1.462 | AA27: ='3.2Cost by Packages'!BK29+'3.2Cost by Packages'!BO29+'3.2Cost by Packages'!BS29 -> 0 | AC27: ='3.2Cost by Packages'!Q29+'3.2Cost by Packages'!U29+'3.2Cost by Packages'!Y29+'3.2Cost by Packages'!AC29 -> 6.4626 | AE27: ='3.2Cost by Packages'!S29+'3.2Cost by Packages'!W29+'3.2Cost by Packages'!AA29+'3.2Cost by Packages'!AE29 -> 0 | AG27: ='3.2Cost by Packages'!AK29+'3.2Cost by Packages'!AO29 -> 0.1553 | AI27: ='3.2Cost by Packages'!AM29+'3.2Cost by Packages'!AQ29 -> 0
A28: 6 | C28: Culvert Box (CB) | M28: =Q28+U28+Y28+AC28+AG28+AK28+AO28+AS28 -> 0 | O28: =S28+W28+AA28+AE28+AI28+AM28+AQ28+AU28 -> 0 | Q28: ='3.2Cost by Packages'!AG30+'3.2Cost by Packages'!AS30+'3.2Cost by Packages'!BU30+'3.2Cost by Packages'!BY30+'3.2Cost by Packages'!CC30+'3.2Cost by Packages'!CG30+'3.2Cost by Packages'!CK30+'3.2Cost by Packages'!CO30+'3.2Cost by Packages'!CS30+'3.2Cost by Packages'!CW30+'3.2Cost by Packages'!DA30+'3.2Cost by Packages'!DE30+'3.2Cost by Packages'!DI30+'3.2Cost by Packages'!DM30+'3.2Cost by Packages'!DQ30+'3.2Cost by Packages'!DU30 -> 0 | S28: ='3.2Cost by Packages'!AI30+'3.2Cost by Packages'!AU30+'3.2Cost by Packages'!BW30+'3.2Cost by Packages'!CA30+'3.2Cost by Packages'!CE30+'3.2Cost by Packages'!CI30+'3.2Cost by Packages'!CM30+'3.2Cost by Packages'!CQ30+'3.2Cost by Packages'!CU30+'3.2Cost by Packages'!CY30+'3.2Cost by Packages'!DC30+'3.2Cost by Packages'!DG30+'3.2Cost by Packages'!DK30+'3.2Cost by Packages'!DO30+'3.2Cost by Packages'!DS30+'3.2Cost by Packages'!DW30 -> 0 | U28: ='3.2Cost by Packages'!AW30+'3.2Cost by Packages'!BA30+'3.2Cost by Packages'!BE30 -> 0 | W28: ='3.2Cost by Packages'!AY30+'3.2Cost by Packages'!BC30+'3.2Cost by Packages'!BG30 -> 0 | Y28: ='3.2Cost by Packages'!BI30+'3.2Cost by Packages'!BM30+'3.2Cost by Packages'!BQ30 -> 0 | AA28: ='3.2Cost by Packages'!BK30+'3.2Cost by Packages'!BO30+'3.2Cost by Packages'!BS30 -> 0 | AC28: ='3.2Cost by Packages'!Q30+'3.2Cost by Packages'!U30+'3.2Cost by Packages'!Y30+'3.2Cost by Packages'!AC30 -> 0 | AE28: ='3.2Cost by Packages'!S30+'3.2Cost by Packages'!W30+'3.2Cost by Packages'!AA30+'3.2Cost by Packages'!AE30 -> 0 | AG28: ='3.2Cost by Packages'!AK30+'3.2Cost by Packages'!AO30 -> 0 | AI28: ='3.2Cost by Packages'!AM30+'3.2Cost by Packages'!AQ30 -> 0
A29: 6.1 | C29: Profile | H29: 1/500 | J29: (km) | M29: =Q29+U29+Y29+AC29+AG29+AK29+AO29+AS29 -> 42.4 | O29: =S29+W29+AA29+AE29+AI29+AM29+AQ29+AU29 -> 0 | Q29: ='3.2Cost by Packages'!AG31+'3.2Cost by Packages'!AS31+'3.2Cost by Packages'!BU31+'3.2Cost by Packages'!BY31+'3.2Cost by Packages'!CC31+'3.2Cost by Packages'!CG31+'3.2Cost by Packages'!CK31+'3.2Cost by Packages'!CO31+'3.2Cost by Packages'!CS31+'3.2Cost by Packages'!CW31+'3.2Cost by Packages'!DA31+'3.2Cost by Packages'!DE31+'3.2Cost by Packages'!DI31+'3.2Cost by Packages'!DM31+'3.2Cost by Packages'!DQ31+'3.2Cost by Packages'!DU31 -> 13.6 | S29: ='3.2Cost by Packages'!AI31+'3.2Cost by Packages'!AU31+'3.2Cost by Packages'!BW31+'3.2Cost by Packages'!CA31+'3.2Cost by Packages'!CE31+'3.2Cost by Packages'!CI31+'3.2Cost by Packages'!CM31+'3.2Cost by Packages'!CQ31+'3.2Cost by Packages'!CU31+'3.2Cost by Packages'!CY31+'3.2Cost by Packages'!DC31+'3.2Cost by Packages'!DG31+'3.2Cost by Packages'!DK31+'3.2Cost by Packages'!DO31+'3.2Cost by Packages'!DS31+'3.2Cost by Packages'!DW31 -> 0 | U29: ='3.2Cost by Packages'!AW31+'3.2Cost by Packages'!BA31+'3.2Cost by Packages'!BE31 -> 6 | W29: ='3.2Cost by Packages'!AY31+'3.2Cost by Packages'!BC31+'3.2Cost by Packages'!BG31 -> 0 | Y29: ='3.2Cost by Packages'!BI31+'3.2Cost by Packages'!BM31+'3.2Cost by Packages'!BQ31 -> 7.2 | AA29: ='3.2Cost by Packages'!BK31+'3.2Cost by Packages'!BO31+'3.2Cost by Packages'!BS31 -> 0 | AC29: ='3.2Cost by Packages'!Q31+'3.2Cost by Packages'!U31+'3.2Cost by Packages'!Y31+'3.2Cost by Packages'!AC31 -> 10 | AE29: ='3.2Cost by Packages'!S31+'3.2Cost by Packages'!W31+'3.2Cost by Packages'!AA31+'3.2Cost by Packages'!AE31 -> 0 | AG29: ='3.2Cost by Packages'!AK31+'3.2Cost by Packages'!AO31 -> 5.6 | AI29: ='3.2Cost by Packages'!AM31+'3.2Cost by Packages'!AQ31 -> 0
A30: 6.2 | C30: Profile | H30: 1/200 | J30: (km) | M30: =Q30+U30+Y30+AC30+AG30+AK30+AO30+AS30 -> 5.8 | O30: =S30+W30+AA30+AE30+AI30+AM30+AQ30+AU30 -> 0 | Q30: ='3.2Cost by Packages'!AG32+'3.2Cost by Packages'!AS32+'3.2Cost by Packages'!BU32+'3.2Cost by Packages'!BY32+'3.2Cost by Packages'!CC32+'3.2Cost by Packages'!CG32+'3.2Cost by Packages'!CK32+'3.2Cost by Packages'!CO32+'3.2Cost by Packages'!CS32+'3.2Cost by Packages'!CW32+'3.2Cost by Packages'!DA32+'3.2Cost by Packages'!DE32+'3.2Cost by Packages'!DI32+'3.2Cost by Packages'!DM32+'3.2Cost by Packages'!DQ32+'3.2Cost by Packages'!DU32 -> 4.2 | S30: ='3.2Cost by Packages'!AI32+'3.2Cost by Packages'!AU32+'3.2Cost by Packages'!BW32+'3.2Cost by Packages'!CA32+'3.2Cost by Packages'!CE32+'3.2Cost by Packages'!CI32+'3.2Cost by Packages'!CM32+'3.2Cost by Packages'!CQ32+'3.2Cost by Packages'!CU32+'3.2Cost by Packages'!CY32+'3.2Cost by Packages'!DC32+'3.2Cost by Packages'!DG32+'3.2Cost by Packages'!DK32+'3.2Cost by Packages'!DO32+'3.2Cost by Packages'!DS32+'3.2Cost by Packages'!DW32 -> 0 | U30: ='3.2Cost by Packages'!AW32+'3.2Cost by Packages'!BA32+'3.2Cost by Packages'!BE32 -> 0.2 | W30: ='3.2Cost by Packages'!AY32+'3.2Cost by Packages'!BC32+'3.2Cost by Packages'!BG32 -> 0 | Y30: ='3.2Cost by Packages'!BI32+'3.2Cost by Packages'!BM32+'3.2Cost by Packages'!BQ32 -> 0.3 | AA30: ='3.2Cost by Packages'!BK32+'3.2Cost by Packages'!BO32+'3.2Cost by Packages'!BS32 -> 0 | AC30: ='3.2Cost by Packages'!Q32+'3.2Cost by Packages'!U32+'3.2Cost by Packages'!Y32+'3.2Cost by Packages'!AC32 -> 0.8 | AE30: ='3.2Cost by Packages'!S32+'3.2Cost by Packages'!W32+'3.2Cost by Packages'!AA32+'3.2Cost by Packages'!AE32 -> 0 | AG30: ='3.2Cost by Packages'!AK32+'3.2Cost by Packages'!AO32 -> 0.3 | AI30: ='3.2Cost by Packages'!AM32+'3.2Cost by Packages'!AQ32 -> 0
A31: 6.3 | C31: Cross-section | H31: 1/200 | J31: (km) | M31: =Q31+U31+Y31+AC31+AG31+AK31+AO31+AS31 -> 128.4 | O31: =S31+W31+AA31+AE31+AI31+AM31+AQ31+AU31 -> 0 | Q31: ='3.2Cost by Packages'!AG33+'3.2Cost by Packages'!AS33+'3.2Cost by Packages'!BU33+'3.2Cost by Packages'!BY33+'3.2Cost by Packages'!CC33+'3.2Cost by Packages'!CG33+'3.2Cost by Packages'!CK33+'3.2Cost by Packages'!CO33+'3.2Cost by Packages'!CS33+'3.2Cost by Packages'!CW33+'3.2Cost by Packages'!DA33+'3.2Cost by Packages'!DE33+'3.2Cost by Packages'!DI33+'3.2Cost by Packages'!DM33+'3.2Cost by Packages'!DQ33+'3.2Cost by Packages'!DU33 -> 40.8 | S31: ='3.2Cost by Packages'!AI33+'3.2Cost by Packages'!AU33+'3.2Cost by Packages'!BW33+'3.2Cost by Packages'!CA33+'3.2Cost by Packages'!CE33+'3.2Cost by Packages'!CI33+'3.2Cost by Packages'!CM33+'3.2Cost by Packages'!CQ33+'3.2Cost by Packages'!CU33+'3.2Cost by Packages'!CY33+'3.2Cost by Packages'!DC33+'3.2Cost by Packages'!DG33+'3.2Cost by Packages'!DK33+'3.2Cost by Packages'!DO33+'3.2Cost by Packages'!DS33+'3.2Cost by Packages'!DW33 -> 0 | U31: ='3.2Cost by Packages'!AW33+'3.2Cost by Packages'!BA33+'3.2Cost by Packages'!BE33 -> 18.2 | W31: ='3.2Cost by Packages'!AY33+'3.2Cost by Packages'!BC33+'3.2Cost by Packages'!BG33 -> 0 | Y31: ='3.2Cost by Packages'!BI33+'3.2Cost by Packages'!BM33+'3.2Cost by Packages'!BQ33 -> 21.8 | AA31: ='3.2Cost by Packages'!BK33+'3.2Cost by Packages'!BO33+'3.2Cost by Packages'!BS33 -> 0 | AC31: ='3.2Cost by Packages'!Q33+'3.2Cost by Packages'!U33+'3.2Cost by Packages'!Y33+'3.2Cost by Packages'!AC33 -> 30.8 | AE31: ='3.2Cost by Packages'!S33+'3.2Cost by Packages'!W33+'3.2Cost by Packages'!AA33+'3.2Cost by Packages'!AE33 -> 0 | AG31: ='3.2Cost by Packages'!AK33+'3.2Cost by Packages'!AO33 -> 16.8 | AI31: ='3.2Cost by Packages'!AM33+'3.2Cost by Packages'!AQ33 -> 0
A32: 7 | C32: Culvert Pipe (CP) | M32: =Q32+U32+Y32+AC32+AG32+AK32+AO32+AS32 -> 0 | O32: =S32+W32+AA32+AE32+AI32+AM32+AQ32+AU32 -> 0 | Q32: ='3.2Cost by Packages'!AG34+'3.2Cost by Packages'!AS34+'3.2Cost by Packages'!BU34+'3.2Cost by Packages'!BY34+'3.2Cost by Packages'!CC34+'3.2Cost by Packages'!CG34+'3.2Cost by Packages'!CK34+'3.2Cost by Packages'!CO34+'3.2Cost by Packages'!CS34+'3.2Cost by Packages'!CW34+'3.2Cost by Packages'!DA34+'3.2Cost by Packages'!DE34+'3.2Cost by Packages'!DI34+'3.2Cost by Packages'!DM34+'3.2Cost by Packages'!DQ34+'3.2Cost by Packages'!DU34 -> 0 | S32: ='3.2Cost by Packages'!AI34+'3.2Cost by Packages'!AU34+'3.2Cost by Packages'!BW34+'3.2Cost by Packages'!CA34+'3.2Cost by Packages'!CE34+'3.2Cost by Packages'!CI34+'3.2Cost by Packages'!CM34+'3.2Cost by Packages'!CQ34+'3.2Cost by Packages'!CU34+'3.2Cost by Packages'!CY34+'3.2Cost by Packages'!DC34+'3.2Cost by Packages'!DG34+'3.2Cost by Packages'!DK34+'3.2Cost by Packages'!DO34+'3.2Cost by Packages'!DS34+'3.2Cost by Packages'!DW34 -> 0 | U32: ='3.2Cost by Packages'!AW34+'3.2Cost by Packages'!BA34+'3.2Cost by Packages'!BE34 -> 0 | W32: ='3.2Cost by Packages'!AY34+'3.2Cost by Packages'!BC34+'3.2Cost by Packages'!BG34 -> 0 | Y32: ='3.2Cost by Packages'!BI34+'3.2Cost by Packages'!BM34+'3.2Cost by Packages'!BQ34 -> 0 | AA32: ='3.2Cost by Packages'!BK34+'3.2Cost by Packages'!BO34+'3.2Cost by Packages'!BS34 -> 0 | AC32: ='3.2Cost by Packages'!Q34+'3.2Cost by Packages'!U34+'3.2Cost by Packages'!Y34+'3.2Cost by Packages'!AC34 -> 0 | AE32: ='3.2Cost by Packages'!S34+'3.2Cost by Packages'!W34+'3.2Cost by Packages'!AA34+'3.2Cost by Packages'!AE34 -> 0 | AG32: ='3.2Cost by Packages'!AK34+'3.2Cost by Packages'!AO34 -> 0 | AI32: ='3.2Cost by Packages'!AM34+'3.2Cost by Packages'!AQ34 -> 0
A33: 7.1 | C33: Profile | H33: 1/200 | J33: (km) | M33: =Q33+U33+Y33+AC33+AG33+AK33+AO33+AS33 -> 1.8 | O33: =S33+W33+AA33+AE33+AI33+AM33+AQ33+AU33 -> 0 | Q33: ='3.2Cost by Packages'!AG35+'3.2Cost by Packages'!AS35+'3.2Cost by Packages'!BU35+'3.2Cost by Packages'!BY35+'3.2Cost by Packages'!CC35+'3.2Cost by Packages'!CG35+'3.2Cost by Packages'!CK35+'3.2Cost by Packages'!CO35+'3.2Cost by Packages'!CS35+'3.2Cost by Packages'!CW35+'3.2Cost by Packages'!DA35+'3.2Cost by Packages'!DE35+'3.2Cost by Packages'!DI35+'3.2Cost by Packages'!DM35+'3.2Cost by Packages'!DQ35+'3.2Cost by Packages'!DU35 -> 0.6 | S33: ='3.2Cost by Packages'!AI35+'3.2Cost by Packages'!AU35+'3.2Cost by Packages'!BW35+'3.2Cost by Packages'!CA35+'3.2Cost by Packages'!CE35+'3.2Cost by Packages'!CI35+'3.2Cost by Packages'!CM35+'3.2Cost by Packages'!CQ35+'3.2Cost by Packages'!CU35+'3.2Cost by Packages'!CY35+'3.2Cost by Packages'!DC35+'3.2Cost by Packages'!DG35+'3.2Cost by Packages'!DK35+'3.2Cost by Packages'!DO35+'3.2Cost by Packages'!DS35+'3.2Cost by Packages'!DW35 -> 0 | U33: ='3.2Cost by Packages'!AW35+'3.2Cost by Packages'!BA35+'3.2Cost by Packages'!BE35 -> 0.1 | W33: ='3.2Cost by Packages'!AY35+'3.2Cost by Packages'!BC35+'3.2Cost by Packages'!BG35 -> 0 | Y33: ='3.2Cost by Packages'!BI35+'3.2Cost by Packages'!BM35+'3.2Cost by Packages'!BQ35 -> 0.3 | AA33: ='3.2Cost by Packages'!BK35+'3.2Cost by Packages'!BO35+'3.2Cost by Packages'!BS35 -> 0 | AC33: ='3.2Cost by Packages'!Q35+'3.2Cost by Packages'!U35+'3.2Cost by Packages'!Y35+'3.2Cost by Packages'!AC35 -> 0.6 | AE33: ='3.2Cost by Packages'!S35+'3.2Cost by Packages'!W35+'3.2Cost by Packages'!AA35+'3.2Cost by Packages'!AE35 -> 0 | AG33: ='3.2Cost by Packages'!AK35+'3.2Cost by Packages'!AO35 -> 0.2 | AI33: ='3.2Cost by Packages'!AM35+'3.2Cost by Packages'!AQ35 -> 0
A34: 8 | C34: Canal (Re-alignment) | M34: =Q34+U34+Y34+AC34+AG34+AK34+AO34+AS34 -> 0 | O34: =S34+W34+AA34+AE34+AI34+AM34+AQ34+AU34 -> 0 | Q34: ='3.2Cost by Packages'!AG36+'3.2Cost by Packages'!AS36+'3.2Cost by Packages'!BU36+'3.2Cost by Packages'!BY36+'3.2Cost by Packages'!CC36+'3.2Cost by Packages'!CG36+'3.2Cost by Packages'!CK36+'3.2Cost by Packages'!CO36+'3.2Cost by Packages'!CS36+'3.2Cost by Packages'!CW36+'3.2Cost by Packages'!DA36+'3.2Cost by Packages'!DE36+'3.2Cost by Packages'!DI36+'3.2Cost by Packages'!DM36+'3.2Cost by Packages'!DQ36+'3.2Cost by Packages'!DU36 -> 0 | S34: ='3.2Cost by Packages'!AI36+'3.2Cost by Packages'!AU36+'3.2Cost by Packages'!BW36+'3.2Cost by Packages'!CA36+'3.2Cost by Packages'!CE36+'3.2Cost by Packages'!CI36+'3.2Cost by Packages'!CM36+'3.2Cost by Packages'!CQ36+'3.2Cost by Packages'!CU36+'3.2Cost by Packages'!CY36+'3.2Cost by Packages'!DC36+'3.2Cost by Packages'!DG36+'3.2Cost by Packages'!DK36+'3.2Cost by Packages'!DO36+'3.2Cost by Packages'!DS36+'3.2Cost by Packages'!DW36 -> 0 | U34: ='3.2Cost by Packages'!AW36+'3.2Cost by Packages'!BA36+'3.2Cost by Packages'!BE36 -> 0 | W34: ='3.2Cost by Packages'!AY36+'3.2Cost by Packages'!BC36+'3.2Cost by Packages'!BG36 -> 0 | Y34: ='3.2Cost by Packages'!BI36+'3.2Cost by Packages'!BM36+'3.2Cost by Packages'!BQ36 -> 0 | AA34: ='3.2Cost by Packages'!BK36+'3.2Cost by Packages'!BO36+'3.2Cost by Packages'!BS36 -> 0 | AC34: ='3.2Cost by Packages'!Q36+'3.2Cost by Packages'!U36+'3.2Cost by Packages'!Y36+'3.2Cost by Packages'!AC36 -> 0 | AE34: ='3.2Cost by Packages'!S36+'3.2Cost by Packages'!W36+'3.2Cost by Packages'!AA36+'3.2Cost by Packages'!AE36 -> 0 | AG34: ='3.2Cost by Packages'!AK36+'3.2Cost by Packages'!AO36 -> 0 | AI34: ='3.2Cost by Packages'!AM36+'3.2Cost by Packages'!AQ36 -> 0
A35: 8.1 | C35: Profile | H35: 1/500 | J35: (km) | M35: =Q35+U35+Y35+AC35+AG35+AK35+AO35+AS35 -> 3.904 | O35: =S35+W35+AA35+AE35+AI35+AM35+AQ35+AU35 -> 0 | Q35: ='3.2Cost by Packages'!AG37+'3.2Cost by Packages'!AS37+'3.2Cost by Packages'!BU37+'3.2Cost by Packages'!BY37+'3.2Cost by Packages'!CC37+'3.2Cost by Packages'!CG37+'3.2Cost by Packages'!CK37+'3.2Cost by Packages'!CO37+'3.2Cost by Packages'!CS37+'3.2Cost by Packages'!CW37+'3.2Cost by Packages'!DA37+'3.2Cost by Packages'!DE37+'3.2Cost by Packages'!DI37+'3.2Cost by Packages'!DM37+'3.2Cost by Packages'!DQ37+'3.2Cost by Packages'!DU37 -> 1.371 | S35: ='3.2Cost by Packages'!AI37+'3.2Cost by Packages'!AU37+'3.2Cost by Packages'!BW37+'3.2Cost by Packages'!CA37+'3.2Cost by Packages'!CE37+'3.2Cost by Packages'!CI37+'3.2Cost by Packages'!CM37+'3.2Cost by Packages'!CQ37+'3.2Cost by Packages'!CU37+'3.2Cost by Packages'!CY37+'3.2Cost by Packages'!DC37+'3.2Cost by Packages'!DG37+'3.2Cost by Packages'!DK37+'3.2Cost by Packages'!DO37+'3.2Cost by Packages'!DS37+'3.2Cost by Packages'!DW37 -> 0 | U35: ='3.2Cost by Packages'!AW37+'3.2Cost by Packages'!BA37+'3.2Cost by Packages'!BE37 -> 0.143 | W35: ='3.2Cost by Packages'!AY37+'3.2Cost by Packages'!BC37+'3.2Cost by Packages'!BG37 -> 0 | Y35: ='3.2Cost by Packages'!BI37+'3.2Cost by Packages'!BM37+'3.2Cost by Packages'!BQ37 -> 0.38 | AA35: ='3.2Cost by Packages'!BK37+'3.2Cost by Packages'!BO37+'3.2Cost by Packages'!BS37 -> 0 | AC35: ='3.2Cost by Packages'!Q37+'3.2Cost by Packages'!U37+'3.2Cost by Packages'!Y37+'3.2Cost by Packages'!AC37 -> 2.01 | AE35: ='3.2Cost by Packages'!S37+'3.2Cost by Packages'!W37+'3.2Cost by Packages'!AA37+'3.2Cost by Packages'!AE37 -> 0 | AG35: ='3.2Cost by Packages'!AK37+'3.2Cost by Packages'!AO37 -> 0 | AI35: ='3.2Cost by Packages'!AM37+'3.2Cost by Packages'!AQ37 -> 0
A36: 8.2 | C36: Cross-section | H36: 1/200 | J36: (km) | M36: =Q36+U36+Y36+AC36+AG36+AK36+AO36+AS36 -> 7.84 | O36: =S36+W36+AA36+AE36+AI36+AM36+AQ36+AU36 -> 0 | Q36: ='3.2Cost by Packages'!AG38+'3.2Cost by Packages'!AS38+'3.2Cost by Packages'!BU38+'3.2Cost by Packages'!BY38+'3.2Cost by Packages'!CC38+'3.2Cost by Packages'!CG38+'3.2Cost by Packages'!CK38+'3.2Cost by Packages'!CO38+'3.2Cost by Packages'!CS38+'3.2Cost by Packages'!CW38+'3.2Cost by Packages'!DA38+'3.2Cost by Packages'!DE38+'3.2Cost by Packages'!DI38+'3.2Cost by Packages'!DM38+'3.2Cost by Packages'!DQ38+'3.2Cost by Packages'!DU38 -> 2.76 | S36: ='3.2Cost by Packages'!AI38+'3.2Cost by Packages'!AU38+'3.2Cost by Packages'!BW38+'3.2Cost by Packages'!CA38+'3.2Cost by Packages'!CE38+'3.2Cost by Packages'!CI38+'3.2Cost by Packages'!CM38+'3.2Cost by Packages'!CQ38+'3.2Cost by Packages'!CU38+'3.2Cost by Packages'!CY38+'3.2Cost by Packages'!DC38+'3.2Cost by Packages'!DG38+'3.2Cost by Packages'!DK38+'3.2Cost by Packages'!DO38+'3.2Cost by Packages'!DS38+'3.2Cost by Packages'!DW38 -> 0 | U36: ='3.2Cost by Packages'!AW38+'3.2Cost by Packages'!BA38+'3.2Cost by Packages'!BE38 -> 0.28 | W36: ='3.2Cost by Packages'!AY38+'3.2Cost by Packages'!BC38+'3.2Cost by Packages'!BG38 -> 0 | Y36: ='3.2Cost by Packages'!BI38+'3.2Cost by Packages'!BM38+'3.2Cost by Packages'!BQ38 -> 0.76 | AA36: ='3.2Cost by Packages'!BK38+'3.2Cost by Packages'!BO38+'3.2Cost by Packages'!BS38 -> 0 | AC36: ='3.2Cost by Packages'!Q38+'3.2Cost by Packages'!U38+'3.2Cost by Packages'!Y38+'3.2Cost by Packages'!AC38 -> 4.04 | AE36: ='3.2Cost by Packages'!S38+'3.2Cost by Packages'!W38+'3.2Cost by Packages'!AA38+'3.2Cost by Packages'!AE38 -> 0 | AG36: ='3.2Cost by Packages'!AK38+'3.2Cost by Packages'!AO38 -> 0 | AI36: ='3.2Cost by Packages'!AM38+'3.2Cost by Packages'!AQ38 -> 0
A37: 9 | C37: Interchange (IC) | M37: =Q37+U37+Y37+AC37+AG37+AK37+AO37+AS37 -> 0 | O37: =S37+W37+AA37+AE37+AI37+AM37+AQ37+AU37 -> 0 | Q37: ='3.2Cost by Packages'!AG39+'3.2Cost by Packages'!AS39+'3.2Cost by Packages'!BU39+'3.2Cost by Packages'!BY39+'3.2Cost by Packages'!CC39+'3.2Cost by Packages'!CG39+'3.2Cost by Packages'!CK39+'3.2Cost by Packages'!CO39+'3.2Cost by Packages'!CS39+'3.2Cost by Packages'!CW39+'3.2Cost by Packages'!DA39+'3.2Cost by Packages'!DE39+'3.2Cost by Packages'!DI39+'3.2Cost by Packages'!DM39+'3.2Cost by Packages'!DQ39+'3.2Cost by Packages'!DU39 -> 0 | S37: ='3.2Cost by Packages'!AI39+'3.2Cost by Packages'!AU39+'3.2Cost by Packages'!BW39+'3.2Cost by Packages'!CA39+'3.2Cost by Packages'!CE39+'3.2Cost by Packages'!CI39+'3.2Cost by Packages'!CM39+'3.2Cost by Packages'!CQ39+'3.2Cost by Packages'!CU39+'3.2Cost by Packages'!CY39+'3.2Cost by Packages'!DC39+'3.2Cost by Packages'!DG39+'3.2Cost by Packages'!DK39+'3.2Cost by Packages'!DO39+'3.2Cost by Packages'!DS39+'3.2Cost by Packages'!DW39 -> 0 | U37: ='3.2Cost by Packages'!AW39+'3.2Cost by Packages'!BA39+'3.2Cost by Packages'!BE39 -> 0 | W37: ='3.2Cost by Packages'!AY39+'3.2Cost by Packages'!BC39+'3.2Cost by Packages'!BG39 -> 0 | Y37: ='3.2Cost by Packages'!BI39+'3.2Cost by Packages'!BM39+'3.2Cost by Packages'!BQ39 -> 0 | AA37: ='3.2Cost by Packages'!BK39+'3.2Cost by Packages'!BO39+'3.2Cost by Packages'!BS39 -> 0 | AC37: ='3.2Cost by Packages'!Q39+'3.2Cost by Packages'!U39+'3.2Cost by Packages'!Y39+'3.2Cost by Packages'!AC39 -> 0 | AE37: ='3.2Cost by Packages'!S39+'3.2Cost by Packages'!W39+'3.2Cost by Packages'!AA39+'3.2Cost by Packages'!AE39 -> 0 | AG37: ='3.2Cost by Packages'!AK39+'3.2Cost by Packages'!AO39 -> 0 | AI37: ='3.2Cost by Packages'!AM39+'3.2Cost by Packages'!AQ39 -> 0
